BEGIN:VCALENDAR
VERSION:2.0
PRODID:-//Hartenbrigade - ECPv6.15.14//NONSGML v1.0//EN
CALSCALE:GREGORIAN
METHOD:PUBLISH
X-WR-CALNAME:Hartenbrigade
X-ORIGINAL-URL:https://eenbusmeteenhart.nl
X-WR-CALDESC:Evenementen voor Hartenbrigade
REFRESH-INTERVAL;VALUE=DURATION:PT1H
X-Robots-Tag:noindex
X-PUBLISHED-TTL:PT1H
BEGIN:VTIMEZONE
TZID:Europe/Amsterdam
BEGIN:DAYLIGHT
TZOFFSETFROM:+0100
TZOFFSETTO:+0200
TZNAME:CEST
DTSTART:20240331T010000
END:DAYLIGHT
BEGIN:STANDARD
TZOFFSETFROM:+0200
TZOFFSETTO:+0100
TZNAME:CET
DTSTART:20241027T010000
END:STANDARD
BEGIN:DAYLIGHT
TZOFFSETFROM:+0100
TZOFFSETTO:+0200
TZNAME:CEST
DTSTART:20250330T010000
END:DAYLIGHT
BEGIN:STANDARD
TZOFFSETFROM:+0200
TZOFFSETTO:+0100
TZNAME:CET
DTSTART:20251026T010000
END:STANDARD
BEGIN:DAYLIGHT
TZOFFSETFROM:+0100
TZOFFSETTO:+0200
TZNAME:CEST
DTSTART:20260329T010000
END:DAYLIGHT
BEGIN:STANDARD
TZOFFSETFROM:+0200
TZOFFSETTO:+0100
TZNAME:CET
DTSTART:20261025T010000
END:STANDARD
END:VTIMEZONE
BEGIN:VEVENT
DTSTART;TZID=Europe/Amsterdam:20251230T090000
DTEND;TZID=Europe/Amsterdam:20251230T100000
DTSTAMP:20260422T022218
CREATED:20250617T125645Z
LAST-MODIFIED:20250617T125753Z
UID:10007270-1767085200-1767088800@eenbusmeteenhart.nl
SUMMARY:Damestrimclub
DESCRIPTION:Wil jij een uurtje gezellig sporten? Goed voor je ”gezonde lijf”.Onder leiding van Nicolette Koning wordt er bewogen op muziek. Een club die als sinds 1970 bestaat. Naast het sporten is het ook erg gezellig onderling. Iedere laatste dinsdag van de maand word er afgesloten met een lekkere bak koffie in onze HartenJager. Je kunt geheel vrijblijvend kijken of doe meteen mee op dinsdagochtend van 09:00–10:00 uur.
URL:https://eenbusmeteenhart.nl/activiteit/damestrimclub-2/2025-12-30/
LOCATION:Sportcomplex de Jager\, Parallelweg 35\, Giessen\, Gelderland\, 4283GR\, Nederland
CATEGORIES:Sporthal de Jager
ORGANIZER;CN="Damestrimclub":MAILTO:koning.nicolette@xs4all.nl
END:VEVENT
END:VCALENDAR