BEGIN:VCALENDAR
VERSION:2.0
PRODID:-//Hartenbrigade - ECPv6.15.14//NONSGML v1.0//EN
CALSCALE:GREGORIAN
METHOD:PUBLISH
X-WR-CALNAME:Hartenbrigade
X-ORIGINAL-URL:https://eenbusmeteenhart.nl
X-WR-CALDESC:Evenementen voor Hartenbrigade
REFRESH-INTERVAL;VALUE=DURATION:PT1H
X-Robots-Tag:noindex
X-PUBLISHED-TTL:PT1H
BEGIN:VTIMEZONE
TZID:Europe/Amsterdam
BEGIN:DAYLIGHT
TZOFFSETFROM:+0100
TZOFFSETTO:+0200
TZNAME:CEST
DTSTART:20280326T010000
END:DAYLIGHT
BEGIN:STANDARD
TZOFFSETFROM:+0200
TZOFFSETTO:+0100
TZNAME:CET
DTSTART:20281029T010000
END:STANDARD
BEGIN:DAYLIGHT
TZOFFSETFROM:+0100
TZOFFSETTO:+0200
TZNAME:CEST
DTSTART:20290325T010000
END:DAYLIGHT
BEGIN:STANDARD
TZOFFSETFROM:+0200
TZOFFSETTO:+0100
TZNAME:CET
DTSTART:20291028T010000
END:STANDARD
BEGIN:DAYLIGHT
TZOFFSETFROM:+0100
TZOFFSETTO:+0200
TZNAME:CEST
DTSTART:20300331T010000
END:DAYLIGHT
BEGIN:STANDARD
TZOFFSETFROM:+0200
TZOFFSETTO:+0100
TZNAME:CET
DTSTART:20301027T010000
END:STANDARD
END:VTIMEZONE
BEGIN:VEVENT
DTSTART;TZID=Europe/Amsterdam:20290328T170000
DTEND;TZID=Europe/Amsterdam:20290328T183000
DTSTAMP:20260425T183141
CREATED:20241126T132947Z
LAST-MODIFIED:20260223T084616Z
UID:10003996-1869411600-1869417000@eenbusmeteenhart.nl
SUMMARY:HartenHap
DESCRIPTION:Een heerlijke warme maaltijd waarbij het doel is dat je niet alleen aan tafel zit\, maar gezellig met anderen. Je mag genieten van een 3-gangendiner voor € 9\,50
URL:https://eenbusmeteenhart.nl/activiteit/hartenhap/2029-03-28/
CATEGORIES:De HartenBrigade
END:VEVENT
END:VCALENDAR