BEGIN:VCALENDAR
VERSION:2.0
PRODID:-//Hartenbrigade - ECPv6.15.14//NONSGML v1.0//EN
CALSCALE:GREGORIAN
METHOD:PUBLISH
X-ORIGINAL-URL:https://eenbusmeteenhart.nl
X-WR-CALDESC:Evenementen voor Hartenbrigade
REFRESH-INTERVAL;VALUE=DURATION:PT1H
X-Robots-Tag:noindex
X-PUBLISHED-TTL:PT1H
BEGIN:VTIMEZONE
TZID:Europe/Amsterdam
BEGIN:DAYLIGHT
TZOFFSETFROM:+0100
TZOFFSETTO:+0200
TZNAME:CEST
DTSTART:20280326T010000
END:DAYLIGHT
BEGIN:STANDARD
TZOFFSETFROM:+0200
TZOFFSETTO:+0100
TZNAME:CET
DTSTART:20281029T010000
END:STANDARD
BEGIN:DAYLIGHT
TZOFFSETFROM:+0100
TZOFFSETTO:+0200
TZNAME:CEST
DTSTART:20290325T010000
END:DAYLIGHT
BEGIN:STANDARD
TZOFFSETFROM:+0200
TZOFFSETTO:+0100
TZNAME:CET
DTSTART:20291028T010000
END:STANDARD
BEGIN:DAYLIGHT
TZOFFSETFROM:+0100
TZOFFSETTO:+0200
TZNAME:CEST
DTSTART:20300331T010000
END:DAYLIGHT
BEGIN:STANDARD
TZOFFSETFROM:+0200
TZOFFSETTO:+0100
TZNAME:CET
DTSTART:20301027T010000
END:STANDARD
END:VTIMEZONE
BEGIN:VEVENT
DTSTART;TZID=Europe/Amsterdam:20290501T133000
DTEND;TZID=Europe/Amsterdam:20290501T150000
DTSTAMP:20260425T153318
CREATED:20250617T123754Z
LAST-MODIFIED:20250617T123755Z
UID:10007089-1872336600-1872342000@eenbusmeteenhart.nl
SUMMARY:Pastel Tekenles
DESCRIPTION:Kom elke dinsdag van 13:30 – 15:00 uur tekenen met Iris. Pastel is een zacht soort krijt dat gebruikt wordt om mooie kunstwerken te creëren. Doordat het dekkend materiaal is\, wordt het gebruikt op verschillende soorten en kleuren papier.Je mag van onze materialen gebruik maken voor een kleine bijdrage van € 2\,- Houd je meer van strip- of portret tekenen\, dan heeft ook daar Iris talent voor!Je kunt evt. van te voren mee eten tijdens SoepPraat voor € 2\,-
URL:https://eenbusmeteenhart.nl/activiteit/pastel-tekenles/2029-05-01/
LOCATION:Gelderland
CATEGORIES:De HartenBrigade
END:VEVENT
BEGIN:VEVENT
DTSTART;TZID=Europe/Amsterdam:20290503T113000
DTEND;TZID=Europe/Amsterdam:20290503T130000
DTSTAMP:20260425T153318
CREATED:20250512T120657Z
LAST-MODIFIED:20260223T084500Z
UID:10006815-1872502200-1872507600@eenbusmeteenhart.nl
SUMMARY:SoepPraat
DESCRIPTION:Iedere dinsdag en donderdag kun je mee genieten van verse maaltijdsoep met stokbrood onder het genot van een gezellig praatje. Voor maar € 3\,- per persoon mag je de pan mee leeg eten. Is vervoer een uitdaging dan halen we je met liefde met onze HartenBus op. Voor een retour van huis naar de HartenJager vragen we een vrijwillige bijdrage en als aan het einde van de maand je portemonnee niet zo goed gevuld is\, is kosteloos instappen ook geen enkel punt.
URL:https://eenbusmeteenhart.nl/activiteit/soeppraat-2/2029-05-03/
LOCATION:Gelderland
CATEGORIES:De HartenBrigade
ORGANIZER;CN="De HartenBrigade":MAILTO:Info@dehartenbrigade.nl
END:VEVENT
BEGIN:VEVENT
DTSTART;TZID=Europe/Amsterdam:20290503T131500
DTEND;TZID=Europe/Amsterdam:20290503T151500
DTSTAMP:20260425T153318
CREATED:20230620T133323Z
LAST-MODIFIED:20240603T093459Z
UID:10007527-1872508500-1872515700@eenbusmeteenhart.nl
SUMMARY:Crea café van Harte(n)
DESCRIPTION:Ben je graag creatief bezig en hou je van een gezellig praatje\, dan is het Crea Café wellicht iets voor jou. Iedere donderdagmiddag komen er vanaf 13.00 uur 10-12 vrouwen naar de HartenJager. Je mag zelf je materialen meenemen en je betaalt alleen een kleine bijdrage voor koffie/thee. Het is mooi om te ervaren dat er al diverse vriendschappen aan de creatafel ontstaan zijn.
URL:https://eenbusmeteenhart.nl/activiteit/crea-cafe-van-harten/2029-05-03/
LOCATION:HartenJager in Sportcomplex de Jager\, Parallelweg 35\, Giessen\, 4283GR\, Nederland
CATEGORIES:De HartenBrigade
ATTACH;FMTTYPE=image/webp:https://eenbusmeteenhart.nl/wp-content/uploads/2023/11/a131a1707d710c5dfb8cb865713f6f9e7fdcbf68-1.webp
ORGANIZER;CN="De HartenBrigade":MAILTO:Info@dehartenbrigade.nl
END:VEVENT
BEGIN:VEVENT
DTSTART;TZID=Europe/Amsterdam:20290508T090000
DTEND;TZID=Europe/Amsterdam:20290508T100000
DTSTAMP:20260425T153318
CREATED:20250617T125645Z
LAST-MODIFIED:20250617T125753Z
UID:10007445-1872925200-1872928800@eenbusmeteenhart.nl
SUMMARY:Damestrimclub
DESCRIPTION:Wil jij een uurtje gezellig sporten? Goed voor je ”gezonde lijf”.Onder leiding van Nicolette Koning wordt er bewogen op muziek. Een club die als sinds 1970 bestaat. Naast het sporten is het ook erg gezellig onderling. Iedere laatste dinsdag van de maand word er afgesloten met een lekkere bak koffie in onze HartenJager. Je kunt geheel vrijblijvend kijken of doe meteen mee op dinsdagochtend van 09:00–10:00 uur.
URL:https://eenbusmeteenhart.nl/activiteit/damestrimclub-2/2029-05-08/
LOCATION:Sportcomplex de Jager\, Parallelweg 35\, Giessen\, Gelderland\, 4283GR\, Nederland
CATEGORIES:Sporthal de Jager
ORGANIZER;CN="Damestrimclub":MAILTO:koning.nicolette@xs4all.nl
END:VEVENT
BEGIN:VEVENT
DTSTART;TZID=Europe/Amsterdam:20290508T113000
DTEND;TZID=Europe/Amsterdam:20290508T130000
DTSTAMP:20260425T153318
CREATED:20250512T120556Z
LAST-MODIFIED:20260223T084536Z
UID:10006555-1872934200-1872939600@eenbusmeteenhart.nl
SUMMARY:SoepPraat
DESCRIPTION:Iedere dinsdag en donderdag kun je mee genieten van verse maaltijdsoep met stokbrood onder het genot van een gezellig praatje. Voor maar € 3\,- per persoon mag je de pan mee leeg eten. Is vervoer een uitdaging dan halen we je met liefde met onze HartenBus op. Voor een retour van huis naar de HartenJager vragen we een vrijwillige bijdrage en als aan het einde van de maand je portemonnee niet zo goed gevuld is\, is kosteloos instappen ook geen enkel punt.
URL:https://eenbusmeteenhart.nl/activiteit/soeppraat/2029-05-08/
LOCATION:Gelderland
CATEGORIES:De HartenBrigade
ORGANIZER;CN="De HartenBrigade":MAILTO:Info@dehartenbrigade.nl
END:VEVENT
BEGIN:VEVENT
DTSTART;TZID=Europe/Amsterdam:20290508T133000
DTEND;TZID=Europe/Amsterdam:20290508T150000
DTSTAMP:20260425T153318
CREATED:20250617T123754Z
LAST-MODIFIED:20250617T123755Z
UID:10007090-1872941400-1872946800@eenbusmeteenhart.nl
SUMMARY:Pastel Tekenles
DESCRIPTION:Kom elke dinsdag van 13:30 – 15:00 uur tekenen met Iris. Pastel is een zacht soort krijt dat gebruikt wordt om mooie kunstwerken te creëren. Doordat het dekkend materiaal is\, wordt het gebruikt op verschillende soorten en kleuren papier.Je mag van onze materialen gebruik maken voor een kleine bijdrage van € 2\,- Houd je meer van strip- of portret tekenen\, dan heeft ook daar Iris talent voor!Je kunt evt. van te voren mee eten tijdens SoepPraat voor € 2\,-
URL:https://eenbusmeteenhart.nl/activiteit/pastel-tekenles/2029-05-08/
LOCATION:Gelderland
CATEGORIES:De HartenBrigade
END:VEVENT
BEGIN:VEVENT
DTSTART;TZID=Europe/Amsterdam:20290509T170000
DTEND;TZID=Europe/Amsterdam:20290509T183000
DTSTAMP:20260425T153318
CREATED:20241126T132947Z
LAST-MODIFIED:20260223T084616Z
UID:10003999-1873040400-1873045800@eenbusmeteenhart.nl
SUMMARY:HartenHap
DESCRIPTION:Een heerlijke warme maaltijd waarbij het doel is dat je niet alleen aan tafel zit\, maar gezellig met anderen. Je mag genieten van een 3-gangendiner voor € 9\,50
URL:https://eenbusmeteenhart.nl/activiteit/hartenhap/2029-05-09/
LOCATION:Gelderland
CATEGORIES:De HartenBrigade
END:VEVENT
BEGIN:VEVENT
DTSTART;TZID=Europe/Amsterdam:20290510T113000
DTEND;TZID=Europe/Amsterdam:20290510T130000
DTSTAMP:20260425T153318
CREATED:20250512T120657Z
LAST-MODIFIED:20260223T084500Z
UID:10006816-1873107000-1873112400@eenbusmeteenhart.nl
SUMMARY:SoepPraat
DESCRIPTION:Iedere dinsdag en donderdag kun je mee genieten van verse maaltijdsoep met stokbrood onder het genot van een gezellig praatje. Voor maar € 3\,- per persoon mag je de pan mee leeg eten. Is vervoer een uitdaging dan halen we je met liefde met onze HartenBus op. Voor een retour van huis naar de HartenJager vragen we een vrijwillige bijdrage en als aan het einde van de maand je portemonnee niet zo goed gevuld is\, is kosteloos instappen ook geen enkel punt.
URL:https://eenbusmeteenhart.nl/activiteit/soeppraat-2/2029-05-10/
LOCATION:Gelderland
CATEGORIES:De HartenBrigade
ORGANIZER;CN="De HartenBrigade":MAILTO:Info@dehartenbrigade.nl
END:VEVENT
BEGIN:VEVENT
DTSTART;TZID=Europe/Amsterdam:20290510T131500
DTEND;TZID=Europe/Amsterdam:20290510T151500
DTSTAMP:20260425T153318
CREATED:20230620T133323Z
LAST-MODIFIED:20240603T093459Z
UID:10007528-1873113300-1873120500@eenbusmeteenhart.nl
SUMMARY:Crea café van Harte(n)
DESCRIPTION:Ben je graag creatief bezig en hou je van een gezellig praatje\, dan is het Crea Café wellicht iets voor jou. Iedere donderdagmiddag komen er vanaf 13.00 uur 10-12 vrouwen naar de HartenJager. Je mag zelf je materialen meenemen en je betaalt alleen een kleine bijdrage voor koffie/thee. Het is mooi om te ervaren dat er al diverse vriendschappen aan de creatafel ontstaan zijn.
URL:https://eenbusmeteenhart.nl/activiteit/crea-cafe-van-harten/2029-05-10/
LOCATION:HartenJager in Sportcomplex de Jager\, Parallelweg 35\, Giessen\, 4283GR\, Nederland
CATEGORIES:De HartenBrigade
ATTACH;FMTTYPE=image/webp:https://eenbusmeteenhart.nl/wp-content/uploads/2023/11/a131a1707d710c5dfb8cb865713f6f9e7fdcbf68-1.webp
ORGANIZER;CN="De HartenBrigade":MAILTO:Info@dehartenbrigade.nl
END:VEVENT
BEGIN:VEVENT
DTSTART;TZID=Europe/Amsterdam:20290515T090000
DTEND;TZID=Europe/Amsterdam:20290515T100000
DTSTAMP:20260425T153318
CREATED:20250617T125645Z
LAST-MODIFIED:20250617T125753Z
UID:10007446-1873530000-1873533600@eenbusmeteenhart.nl
SUMMARY:Damestrimclub
DESCRIPTION:Wil jij een uurtje gezellig sporten? Goed voor je ”gezonde lijf”.Onder leiding van Nicolette Koning wordt er bewogen op muziek. Een club die als sinds 1970 bestaat. Naast het sporten is het ook erg gezellig onderling. Iedere laatste dinsdag van de maand word er afgesloten met een lekkere bak koffie in onze HartenJager. Je kunt geheel vrijblijvend kijken of doe meteen mee op dinsdagochtend van 09:00–10:00 uur.
URL:https://eenbusmeteenhart.nl/activiteit/damestrimclub-2/2029-05-15/
LOCATION:Sportcomplex de Jager\, Parallelweg 35\, Giessen\, Gelderland\, 4283GR\, Nederland
CATEGORIES:Sporthal de Jager
ORGANIZER;CN="Damestrimclub":MAILTO:koning.nicolette@xs4all.nl
END:VEVENT
BEGIN:VEVENT
DTSTART;TZID=Europe/Amsterdam:20290515T113000
DTEND;TZID=Europe/Amsterdam:20290515T130000
DTSTAMP:20260425T153318
CREATED:20250512T120556Z
LAST-MODIFIED:20260223T084536Z
UID:10006556-1873539000-1873544400@eenbusmeteenhart.nl
SUMMARY:SoepPraat
DESCRIPTION:Iedere dinsdag en donderdag kun je mee genieten van verse maaltijdsoep met stokbrood onder het genot van een gezellig praatje. Voor maar € 3\,- per persoon mag je de pan mee leeg eten. Is vervoer een uitdaging dan halen we je met liefde met onze HartenBus op. Voor een retour van huis naar de HartenJager vragen we een vrijwillige bijdrage en als aan het einde van de maand je portemonnee niet zo goed gevuld is\, is kosteloos instappen ook geen enkel punt.
URL:https://eenbusmeteenhart.nl/activiteit/soeppraat/2029-05-15/
LOCATION:Gelderland
CATEGORIES:De HartenBrigade
ORGANIZER;CN="De HartenBrigade":MAILTO:Info@dehartenbrigade.nl
END:VEVENT
BEGIN:VEVENT
DTSTART;TZID=Europe/Amsterdam:20290515T133000
DTEND;TZID=Europe/Amsterdam:20290515T150000
DTSTAMP:20260425T153318
CREATED:20250617T123754Z
LAST-MODIFIED:20250617T123755Z
UID:10007091-1873546200-1873551600@eenbusmeteenhart.nl
SUMMARY:Pastel Tekenles
DESCRIPTION:Kom elke dinsdag van 13:30 – 15:00 uur tekenen met Iris. Pastel is een zacht soort krijt dat gebruikt wordt om mooie kunstwerken te creëren. Doordat het dekkend materiaal is\, wordt het gebruikt op verschillende soorten en kleuren papier.Je mag van onze materialen gebruik maken voor een kleine bijdrage van € 2\,- Houd je meer van strip- of portret tekenen\, dan heeft ook daar Iris talent voor!Je kunt evt. van te voren mee eten tijdens SoepPraat voor € 2\,-
URL:https://eenbusmeteenhart.nl/activiteit/pastel-tekenles/2029-05-15/
LOCATION:Gelderland
CATEGORIES:De HartenBrigade
END:VEVENT
BEGIN:VEVENT
DTSTART;TZID=Europe/Amsterdam:20290517T113000
DTEND;TZID=Europe/Amsterdam:20290517T130000
DTSTAMP:20260425T153318
CREATED:20250512T120657Z
LAST-MODIFIED:20260223T084500Z
UID:10006817-1873711800-1873717200@eenbusmeteenhart.nl
SUMMARY:SoepPraat
DESCRIPTION:Iedere dinsdag en donderdag kun je mee genieten van verse maaltijdsoep met stokbrood onder het genot van een gezellig praatje. Voor maar € 3\,- per persoon mag je de pan mee leeg eten. Is vervoer een uitdaging dan halen we je met liefde met onze HartenBus op. Voor een retour van huis naar de HartenJager vragen we een vrijwillige bijdrage en als aan het einde van de maand je portemonnee niet zo goed gevuld is\, is kosteloos instappen ook geen enkel punt.
URL:https://eenbusmeteenhart.nl/activiteit/soeppraat-2/2029-05-17/
LOCATION:Gelderland
CATEGORIES:De HartenBrigade
ORGANIZER;CN="De HartenBrigade":MAILTO:Info@dehartenbrigade.nl
END:VEVENT
BEGIN:VEVENT
DTSTART;TZID=Europe/Amsterdam:20290517T131500
DTEND;TZID=Europe/Amsterdam:20290517T151500
DTSTAMP:20260425T153318
CREATED:20230620T133323Z
LAST-MODIFIED:20240603T093459Z
UID:10007529-1873718100-1873725300@eenbusmeteenhart.nl
SUMMARY:Crea café van Harte(n)
DESCRIPTION:Ben je graag creatief bezig en hou je van een gezellig praatje\, dan is het Crea Café wellicht iets voor jou. Iedere donderdagmiddag komen er vanaf 13.00 uur 10-12 vrouwen naar de HartenJager. Je mag zelf je materialen meenemen en je betaalt alleen een kleine bijdrage voor koffie/thee. Het is mooi om te ervaren dat er al diverse vriendschappen aan de creatafel ontstaan zijn.
URL:https://eenbusmeteenhart.nl/activiteit/crea-cafe-van-harten/2029-05-17/
LOCATION:HartenJager in Sportcomplex de Jager\, Parallelweg 35\, Giessen\, 4283GR\, Nederland
CATEGORIES:De HartenBrigade
ATTACH;FMTTYPE=image/webp:https://eenbusmeteenhart.nl/wp-content/uploads/2023/11/a131a1707d710c5dfb8cb865713f6f9e7fdcbf68-1.webp
ORGANIZER;CN="De HartenBrigade":MAILTO:Info@dehartenbrigade.nl
END:VEVENT
BEGIN:VEVENT
DTSTART;TZID=Europe/Amsterdam:20290519T170000
DTEND;TZID=Europe/Amsterdam:20290519T190000
DTSTAMP:20260425T153318
CREATED:20231119T113926Z
LAST-MODIFIED:20260223T084648Z
UID:10004724-1873904400-1873911600@eenbusmeteenhart.nl
SUMMARY:Pan met Passie
DESCRIPTION:Samen genieten van een warme maaltijd en een warm gesprek. Eén keer per kwartaal eten we soep en pannenkoeken en de overige maanden worden er met veel passie andere lekkernijen in onze comfortabele keuken bereid. De kosten zijn € 9\,50 per persoon\, als je meer kunt missen wordt dat gewaardeerd en als je het bedrag een keer helemaal niet kan missen\, mag je dat gewoon vertellen omdat we het belangrijk vinden dat je je ALTIJD welkom voelt.
URL:https://eenbusmeteenhart.nl/activiteit/pan-met-passie/2029-05-19/
LOCATION:HartenJager in Sportcomplex de Jager\, Parallelweg 35\, Giessen\, 4283GR\, Nederland
CATEGORIES:De HartenBrigade
ATTACH;FMTTYPE=image/jpeg:https://eenbusmeteenhart.nl/wp-content/uploads/2023/11/379578039_323818970158106_7857363001990424073_n.jpg
ORGANIZER;CN="De HartenBrigade":MAILTO:Info@dehartenbrigade.nl
END:VEVENT
BEGIN:VEVENT
DTSTART;TZID=Europe/Amsterdam:20290522T090000
DTEND;TZID=Europe/Amsterdam:20290522T100000
DTSTAMP:20260425T153318
CREATED:20250617T125645Z
LAST-MODIFIED:20250617T125753Z
UID:10007447-1874134800-1874138400@eenbusmeteenhart.nl
SUMMARY:Damestrimclub
DESCRIPTION:Wil jij een uurtje gezellig sporten? Goed voor je ”gezonde lijf”.Onder leiding van Nicolette Koning wordt er bewogen op muziek. Een club die als sinds 1970 bestaat. Naast het sporten is het ook erg gezellig onderling. Iedere laatste dinsdag van de maand word er afgesloten met een lekkere bak koffie in onze HartenJager. Je kunt geheel vrijblijvend kijken of doe meteen mee op dinsdagochtend van 09:00–10:00 uur.
URL:https://eenbusmeteenhart.nl/activiteit/damestrimclub-2/2029-05-22/
LOCATION:Sportcomplex de Jager\, Parallelweg 35\, Giessen\, Gelderland\, 4283GR\, Nederland
CATEGORIES:Sporthal de Jager
ORGANIZER;CN="Damestrimclub":MAILTO:koning.nicolette@xs4all.nl
END:VEVENT
BEGIN:VEVENT
DTSTART;TZID=Europe/Amsterdam:20290522T113000
DTEND;TZID=Europe/Amsterdam:20290522T130000
DTSTAMP:20260425T153318
CREATED:20250512T120556Z
LAST-MODIFIED:20260223T084536Z
UID:10006557-1874143800-1874149200@eenbusmeteenhart.nl
SUMMARY:SoepPraat
DESCRIPTION:Iedere dinsdag en donderdag kun je mee genieten van verse maaltijdsoep met stokbrood onder het genot van een gezellig praatje. Voor maar € 3\,- per persoon mag je de pan mee leeg eten. Is vervoer een uitdaging dan halen we je met liefde met onze HartenBus op. Voor een retour van huis naar de HartenJager vragen we een vrijwillige bijdrage en als aan het einde van de maand je portemonnee niet zo goed gevuld is\, is kosteloos instappen ook geen enkel punt.
URL:https://eenbusmeteenhart.nl/activiteit/soeppraat/2029-05-22/
LOCATION:Gelderland
CATEGORIES:De HartenBrigade
ORGANIZER;CN="De HartenBrigade":MAILTO:Info@dehartenbrigade.nl
END:VEVENT
BEGIN:VEVENT
DTSTART;TZID=Europe/Amsterdam:20290522T133000
DTEND;TZID=Europe/Amsterdam:20290522T150000
DTSTAMP:20260425T153318
CREATED:20250617T123754Z
LAST-MODIFIED:20250617T123755Z
UID:10007092-1874151000-1874156400@eenbusmeteenhart.nl
SUMMARY:Pastel Tekenles
DESCRIPTION:Kom elke dinsdag van 13:30 – 15:00 uur tekenen met Iris. Pastel is een zacht soort krijt dat gebruikt wordt om mooie kunstwerken te creëren. Doordat het dekkend materiaal is\, wordt het gebruikt op verschillende soorten en kleuren papier.Je mag van onze materialen gebruik maken voor een kleine bijdrage van € 2\,- Houd je meer van strip- of portret tekenen\, dan heeft ook daar Iris talent voor!Je kunt evt. van te voren mee eten tijdens SoepPraat voor € 2\,-
URL:https://eenbusmeteenhart.nl/activiteit/pastel-tekenles/2029-05-22/
LOCATION:Gelderland
CATEGORIES:De HartenBrigade
END:VEVENT
BEGIN:VEVENT
DTSTART;TZID=Europe/Amsterdam:20290523T170000
DTEND;TZID=Europe/Amsterdam:20290523T183000
DTSTAMP:20260425T153318
CREATED:20241126T132947Z
LAST-MODIFIED:20260223T084616Z
UID:10004000-1874250000-1874255400@eenbusmeteenhart.nl
SUMMARY:HartenHap
DESCRIPTION:Een heerlijke warme maaltijd waarbij het doel is dat je niet alleen aan tafel zit\, maar gezellig met anderen. Je mag genieten van een 3-gangendiner voor € 9\,50
URL:https://eenbusmeteenhart.nl/activiteit/hartenhap/2029-05-23/
LOCATION:Gelderland
CATEGORIES:De HartenBrigade
END:VEVENT
BEGIN:VEVENT
DTSTART;TZID=Europe/Amsterdam:20290524T113000
DTEND;TZID=Europe/Amsterdam:20290524T130000
DTSTAMP:20260425T153318
CREATED:20250512T120657Z
LAST-MODIFIED:20260223T084500Z
UID:10006818-1874316600-1874322000@eenbusmeteenhart.nl
SUMMARY:SoepPraat
DESCRIPTION:Iedere dinsdag en donderdag kun je mee genieten van verse maaltijdsoep met stokbrood onder het genot van een gezellig praatje. Voor maar € 3\,- per persoon mag je de pan mee leeg eten. Is vervoer een uitdaging dan halen we je met liefde met onze HartenBus op. Voor een retour van huis naar de HartenJager vragen we een vrijwillige bijdrage en als aan het einde van de maand je portemonnee niet zo goed gevuld is\, is kosteloos instappen ook geen enkel punt.
URL:https://eenbusmeteenhart.nl/activiteit/soeppraat-2/2029-05-24/
LOCATION:Gelderland
CATEGORIES:De HartenBrigade
ORGANIZER;CN="De HartenBrigade":MAILTO:Info@dehartenbrigade.nl
END:VEVENT
BEGIN:VEVENT
DTSTART;TZID=Europe/Amsterdam:20290524T131500
DTEND;TZID=Europe/Amsterdam:20290524T151500
DTSTAMP:20260425T153318
CREATED:20230620T133323Z
LAST-MODIFIED:20240603T093459Z
UID:10007530-1874322900-1874330100@eenbusmeteenhart.nl
SUMMARY:Crea café van Harte(n)
DESCRIPTION:Ben je graag creatief bezig en hou je van een gezellig praatje\, dan is het Crea Café wellicht iets voor jou. Iedere donderdagmiddag komen er vanaf 13.00 uur 10-12 vrouwen naar de HartenJager. Je mag zelf je materialen meenemen en je betaalt alleen een kleine bijdrage voor koffie/thee. Het is mooi om te ervaren dat er al diverse vriendschappen aan de creatafel ontstaan zijn.
URL:https://eenbusmeteenhart.nl/activiteit/crea-cafe-van-harten/2029-05-24/
LOCATION:HartenJager in Sportcomplex de Jager\, Parallelweg 35\, Giessen\, 4283GR\, Nederland
CATEGORIES:De HartenBrigade
ATTACH;FMTTYPE=image/webp:https://eenbusmeteenhart.nl/wp-content/uploads/2023/11/a131a1707d710c5dfb8cb865713f6f9e7fdcbf68-1.webp
ORGANIZER;CN="De HartenBrigade":MAILTO:Info@dehartenbrigade.nl
END:VEVENT
BEGIN:VEVENT
DTSTART;TZID=Europe/Amsterdam:20290529T090000
DTEND;TZID=Europe/Amsterdam:20290529T100000
DTSTAMP:20260425T153318
CREATED:20250617T125645Z
LAST-MODIFIED:20250617T125753Z
UID:10007448-1874739600-1874743200@eenbusmeteenhart.nl
SUMMARY:Damestrimclub
DESCRIPTION:Wil jij een uurtje gezellig sporten? Goed voor je ”gezonde lijf”.Onder leiding van Nicolette Koning wordt er bewogen op muziek. Een club die als sinds 1970 bestaat. Naast het sporten is het ook erg gezellig onderling. Iedere laatste dinsdag van de maand word er afgesloten met een lekkere bak koffie in onze HartenJager. Je kunt geheel vrijblijvend kijken of doe meteen mee op dinsdagochtend van 09:00–10:00 uur.
URL:https://eenbusmeteenhart.nl/activiteit/damestrimclub-2/2029-05-29/
LOCATION:Sportcomplex de Jager\, Parallelweg 35\, Giessen\, Gelderland\, 4283GR\, Nederland
CATEGORIES:Sporthal de Jager
ORGANIZER;CN="Damestrimclub":MAILTO:koning.nicolette@xs4all.nl
END:VEVENT
BEGIN:VEVENT
DTSTART;TZID=Europe/Amsterdam:20290529T113000
DTEND;TZID=Europe/Amsterdam:20290529T130000
DTSTAMP:20260425T153318
CREATED:20250512T120556Z
LAST-MODIFIED:20260223T084536Z
UID:10006558-1874748600-1874754000@eenbusmeteenhart.nl
SUMMARY:SoepPraat
DESCRIPTION:Iedere dinsdag en donderdag kun je mee genieten van verse maaltijdsoep met stokbrood onder het genot van een gezellig praatje. Voor maar € 3\,- per persoon mag je de pan mee leeg eten. Is vervoer een uitdaging dan halen we je met liefde met onze HartenBus op. Voor een retour van huis naar de HartenJager vragen we een vrijwillige bijdrage en als aan het einde van de maand je portemonnee niet zo goed gevuld is\, is kosteloos instappen ook geen enkel punt.
URL:https://eenbusmeteenhart.nl/activiteit/soeppraat/2029-05-29/
LOCATION:Gelderland
CATEGORIES:De HartenBrigade
ORGANIZER;CN="De HartenBrigade":MAILTO:Info@dehartenbrigade.nl
END:VEVENT
BEGIN:VEVENT
DTSTART;TZID=Europe/Amsterdam:20290529T133000
DTEND;TZID=Europe/Amsterdam:20290529T150000
DTSTAMP:20260425T153318
CREATED:20250617T123754Z
LAST-MODIFIED:20250617T123755Z
UID:10007093-1874755800-1874761200@eenbusmeteenhart.nl
SUMMARY:Pastel Tekenles
DESCRIPTION:Kom elke dinsdag van 13:30 – 15:00 uur tekenen met Iris. Pastel is een zacht soort krijt dat gebruikt wordt om mooie kunstwerken te creëren. Doordat het dekkend materiaal is\, wordt het gebruikt op verschillende soorten en kleuren papier.Je mag van onze materialen gebruik maken voor een kleine bijdrage van € 2\,- Houd je meer van strip- of portret tekenen\, dan heeft ook daar Iris talent voor!Je kunt evt. van te voren mee eten tijdens SoepPraat voor € 2\,-
URL:https://eenbusmeteenhart.nl/activiteit/pastel-tekenles/2029-05-29/
LOCATION:Gelderland
CATEGORIES:De HartenBrigade
END:VEVENT
BEGIN:VEVENT
DTSTART;TZID=Europe/Amsterdam:20290531T113000
DTEND;TZID=Europe/Amsterdam:20290531T130000
DTSTAMP:20260425T153318
CREATED:20250512T120657Z
LAST-MODIFIED:20260223T084500Z
UID:10006819-1874921400-1874926800@eenbusmeteenhart.nl
SUMMARY:SoepPraat
DESCRIPTION:Iedere dinsdag en donderdag kun je mee genieten van verse maaltijdsoep met stokbrood onder het genot van een gezellig praatje. Voor maar € 3\,- per persoon mag je de pan mee leeg eten. Is vervoer een uitdaging dan halen we je met liefde met onze HartenBus op. Voor een retour van huis naar de HartenJager vragen we een vrijwillige bijdrage en als aan het einde van de maand je portemonnee niet zo goed gevuld is\, is kosteloos instappen ook geen enkel punt.
URL:https://eenbusmeteenhart.nl/activiteit/soeppraat-2/2029-05-31/
LOCATION:Gelderland
CATEGORIES:De HartenBrigade
ORGANIZER;CN="De HartenBrigade":MAILTO:Info@dehartenbrigade.nl
END:VEVENT
BEGIN:VEVENT
DTSTART;TZID=Europe/Amsterdam:20290531T131500
DTEND;TZID=Europe/Amsterdam:20290531T151500
DTSTAMP:20260425T153318
CREATED:20230620T133323Z
LAST-MODIFIED:20240603T093459Z
UID:10007531-1874927700-1874934900@eenbusmeteenhart.nl
SUMMARY:Crea café van Harte(n)
DESCRIPTION:Ben je graag creatief bezig en hou je van een gezellig praatje\, dan is het Crea Café wellicht iets voor jou. Iedere donderdagmiddag komen er vanaf 13.00 uur 10-12 vrouwen naar de HartenJager. Je mag zelf je materialen meenemen en je betaalt alleen een kleine bijdrage voor koffie/thee. Het is mooi om te ervaren dat er al diverse vriendschappen aan de creatafel ontstaan zijn.
URL:https://eenbusmeteenhart.nl/activiteit/crea-cafe-van-harten/2029-05-31/
LOCATION:HartenJager in Sportcomplex de Jager\, Parallelweg 35\, Giessen\, 4283GR\, Nederland
CATEGORIES:De HartenBrigade
ATTACH;FMTTYPE=image/webp:https://eenbusmeteenhart.nl/wp-content/uploads/2023/11/a131a1707d710c5dfb8cb865713f6f9e7fdcbf68-1.webp
ORGANIZER;CN="De HartenBrigade":MAILTO:Info@dehartenbrigade.nl
END:VEVENT
BEGIN:VEVENT
DTSTART;TZID=Europe/Amsterdam:20290605T090000
DTEND;TZID=Europe/Amsterdam:20290605T100000
DTSTAMP:20260425T153318
CREATED:20250617T125645Z
LAST-MODIFIED:20250617T125753Z
UID:10007449-1875344400-1875348000@eenbusmeteenhart.nl
SUMMARY:Damestrimclub
DESCRIPTION:Wil jij een uurtje gezellig sporten? Goed voor je ”gezonde lijf”.Onder leiding van Nicolette Koning wordt er bewogen op muziek. Een club die als sinds 1970 bestaat. Naast het sporten is het ook erg gezellig onderling. Iedere laatste dinsdag van de maand word er afgesloten met een lekkere bak koffie in onze HartenJager. Je kunt geheel vrijblijvend kijken of doe meteen mee op dinsdagochtend van 09:00–10:00 uur.
URL:https://eenbusmeteenhart.nl/activiteit/damestrimclub-2/2029-06-05/
LOCATION:Sportcomplex de Jager\, Parallelweg 35\, Giessen\, Gelderland\, 4283GR\, Nederland
CATEGORIES:Sporthal de Jager
ORGANIZER;CN="Damestrimclub":MAILTO:koning.nicolette@xs4all.nl
END:VEVENT
BEGIN:VEVENT
DTSTART;TZID=Europe/Amsterdam:20290605T113000
DTEND;TZID=Europe/Amsterdam:20290605T130000
DTSTAMP:20260425T153318
CREATED:20250512T120556Z
LAST-MODIFIED:20260223T084536Z
UID:10006559-1875353400-1875358800@eenbusmeteenhart.nl
SUMMARY:SoepPraat
DESCRIPTION:Iedere dinsdag en donderdag kun je mee genieten van verse maaltijdsoep met stokbrood onder het genot van een gezellig praatje. Voor maar € 3\,- per persoon mag je de pan mee leeg eten. Is vervoer een uitdaging dan halen we je met liefde met onze HartenBus op. Voor een retour van huis naar de HartenJager vragen we een vrijwillige bijdrage en als aan het einde van de maand je portemonnee niet zo goed gevuld is\, is kosteloos instappen ook geen enkel punt.
URL:https://eenbusmeteenhart.nl/activiteit/soeppraat/2029-06-05/
LOCATION:Gelderland
CATEGORIES:De HartenBrigade
ORGANIZER;CN="De HartenBrigade":MAILTO:Info@dehartenbrigade.nl
END:VEVENT
BEGIN:VEVENT
DTSTART;TZID=Europe/Amsterdam:20290605T133000
DTEND;TZID=Europe/Amsterdam:20290605T150000
DTSTAMP:20260425T153318
CREATED:20250617T123754Z
LAST-MODIFIED:20250617T123755Z
UID:10007094-1875360600-1875366000@eenbusmeteenhart.nl
SUMMARY:Pastel Tekenles
DESCRIPTION:Kom elke dinsdag van 13:30 – 15:00 uur tekenen met Iris. Pastel is een zacht soort krijt dat gebruikt wordt om mooie kunstwerken te creëren. Doordat het dekkend materiaal is\, wordt het gebruikt op verschillende soorten en kleuren papier.Je mag van onze materialen gebruik maken voor een kleine bijdrage van € 2\,- Houd je meer van strip- of portret tekenen\, dan heeft ook daar Iris talent voor!Je kunt evt. van te voren mee eten tijdens SoepPraat voor € 2\,-
URL:https://eenbusmeteenhart.nl/activiteit/pastel-tekenles/2029-06-05/
LOCATION:Gelderland
CATEGORIES:De HartenBrigade
END:VEVENT
BEGIN:VEVENT
DTSTART;TZID=Europe/Amsterdam:20290606T170000
DTEND;TZID=Europe/Amsterdam:20290606T183000
DTSTAMP:20260425T153318
CREATED:20241126T132947Z
LAST-MODIFIED:20260223T084616Z
UID:10004001-1875459600-1875465000@eenbusmeteenhart.nl
SUMMARY:HartenHap
DESCRIPTION:Een heerlijke warme maaltijd waarbij het doel is dat je niet alleen aan tafel zit\, maar gezellig met anderen. Je mag genieten van een 3-gangendiner voor € 9\,50
URL:https://eenbusmeteenhart.nl/activiteit/hartenhap/2029-06-06/
LOCATION:Gelderland
CATEGORIES:De HartenBrigade
END:VEVENT
END:VCALENDAR