BEGIN:VCALENDAR
VERSION:2.0
PRODID:-//Hartenbrigade - ECPv6.15.14//NONSGML v1.0//EN
CALSCALE:GREGORIAN
METHOD:PUBLISH
X-ORIGINAL-URL:https://eenbusmeteenhart.nl
X-WR-CALDESC:Evenementen voor Hartenbrigade
REFRESH-INTERVAL;VALUE=DURATION:PT1H
X-Robots-Tag:noindex
X-PUBLISHED-TTL:PT1H
BEGIN:VTIMEZONE
TZID:Europe/Amsterdam
BEGIN:DAYLIGHT
TZOFFSETFROM:+0100
TZOFFSETTO:+0200
TZNAME:CEST
DTSTART:20270328T010000
END:DAYLIGHT
BEGIN:STANDARD
TZOFFSETFROM:+0200
TZOFFSETTO:+0100
TZNAME:CET
DTSTART:20271031T010000
END:STANDARD
BEGIN:DAYLIGHT
TZOFFSETFROM:+0100
TZOFFSETTO:+0200
TZNAME:CEST
DTSTART:20280326T010000
END:DAYLIGHT
BEGIN:STANDARD
TZOFFSETFROM:+0200
TZOFFSETTO:+0100
TZNAME:CET
DTSTART:20281029T010000
END:STANDARD
BEGIN:DAYLIGHT
TZOFFSETFROM:+0100
TZOFFSETTO:+0200
TZNAME:CEST
DTSTART:20290325T010000
END:DAYLIGHT
BEGIN:STANDARD
TZOFFSETFROM:+0200
TZOFFSETTO:+0100
TZNAME:CET
DTSTART:20291028T010000
END:STANDARD
END:VTIMEZONE
BEGIN:VEVENT
DTSTART;TZID=Europe/Amsterdam:20281114T113000
DTEND;TZID=Europe/Amsterdam:20281114T130000
DTSTAMP:20260425T154916
CREATED:20250512T120556Z
LAST-MODIFIED:20260223T084536Z
UID:10006530-1857814200-1857819600@eenbusmeteenhart.nl
SUMMARY:SoepPraat
DESCRIPTION:Iedere dinsdag en donderdag kun je mee genieten van verse maaltijdsoep met stokbrood onder het genot van een gezellig praatje. Voor maar € 3\,- per persoon mag je de pan mee leeg eten. Is vervoer een uitdaging dan halen we je met liefde met onze HartenBus op. Voor een retour van huis naar de HartenJager vragen we een vrijwillige bijdrage en als aan het einde van de maand je portemonnee niet zo goed gevuld is\, is kosteloos instappen ook geen enkel punt.
URL:https://eenbusmeteenhart.nl/activiteit/soeppraat/2028-11-14/
LOCATION:Gelderland
CATEGORIES:De HartenBrigade
ORGANIZER;CN="De HartenBrigade":MAILTO:Info@dehartenbrigade.nl
END:VEVENT
BEGIN:VEVENT
DTSTART;TZID=Europe/Amsterdam:20281114T133000
DTEND;TZID=Europe/Amsterdam:20281114T150000
DTSTAMP:20260425T154916
CREATED:20250617T123754Z
LAST-MODIFIED:20250617T123755Z
UID:10007065-1857821400-1857826800@eenbusmeteenhart.nl
SUMMARY:Pastel Tekenles
DESCRIPTION:Kom elke dinsdag van 13:30 – 15:00 uur tekenen met Iris. Pastel is een zacht soort krijt dat gebruikt wordt om mooie kunstwerken te creëren. Doordat het dekkend materiaal is\, wordt het gebruikt op verschillende soorten en kleuren papier.Je mag van onze materialen gebruik maken voor een kleine bijdrage van € 2\,- Houd je meer van strip- of portret tekenen\, dan heeft ook daar Iris talent voor!Je kunt evt. van te voren mee eten tijdens SoepPraat voor € 2\,-
URL:https://eenbusmeteenhart.nl/activiteit/pastel-tekenles/2028-11-14/
LOCATION:Gelderland
CATEGORIES:De HartenBrigade
END:VEVENT
BEGIN:VEVENT
DTSTART;TZID=Europe/Amsterdam:20281116T113000
DTEND;TZID=Europe/Amsterdam:20281116T130000
DTSTAMP:20260425T154916
CREATED:20250512T120657Z
LAST-MODIFIED:20260223T084500Z
UID:10006791-1857987000-1857992400@eenbusmeteenhart.nl
SUMMARY:SoepPraat
DESCRIPTION:Iedere dinsdag en donderdag kun je mee genieten van verse maaltijdsoep met stokbrood onder het genot van een gezellig praatje. Voor maar € 3\,- per persoon mag je de pan mee leeg eten. Is vervoer een uitdaging dan halen we je met liefde met onze HartenBus op. Voor een retour van huis naar de HartenJager vragen we een vrijwillige bijdrage en als aan het einde van de maand je portemonnee niet zo goed gevuld is\, is kosteloos instappen ook geen enkel punt.
URL:https://eenbusmeteenhart.nl/activiteit/soeppraat-2/2028-11-16/
LOCATION:Gelderland
CATEGORIES:De HartenBrigade
ORGANIZER;CN="De HartenBrigade":MAILTO:Info@dehartenbrigade.nl
END:VEVENT
BEGIN:VEVENT
DTSTART;TZID=Europe/Amsterdam:20281116T131500
DTEND;TZID=Europe/Amsterdam:20281116T151500
DTSTAMP:20260425T154916
CREATED:20230620T133323Z
LAST-MODIFIED:20240603T093459Z
UID:10003501-1857993300-1858000500@eenbusmeteenhart.nl
SUMMARY:Crea café van Harte(n)
DESCRIPTION:Ben je graag creatief bezig en hou je van een gezellig praatje\, dan is het Crea Café wellicht iets voor jou. Iedere donderdagmiddag komen er vanaf 13.00 uur 10-12 vrouwen naar de HartenJager. Je mag zelf je materialen meenemen en je betaalt alleen een kleine bijdrage voor koffie/thee. Het is mooi om te ervaren dat er al diverse vriendschappen aan de creatafel ontstaan zijn.
URL:https://eenbusmeteenhart.nl/activiteit/crea-cafe-van-harten/2028-11-16/
LOCATION:HartenJager in Sportcomplex de Jager\, Parallelweg 35\, Giessen\, 4283GR\, Nederland
CATEGORIES:De HartenBrigade
ATTACH;FMTTYPE=image/webp:https://eenbusmeteenhart.nl/wp-content/uploads/2023/11/a131a1707d710c5dfb8cb865713f6f9e7fdcbf68-1.webp
ORGANIZER;CN="De HartenBrigade":MAILTO:Info@dehartenbrigade.nl
END:VEVENT
BEGIN:VEVENT
DTSTART;TZID=Europe/Amsterdam:20281118T170000
DTEND;TZID=Europe/Amsterdam:20281118T190000
DTSTAMP:20260425T154916
CREATED:20231119T113926Z
LAST-MODIFIED:20260223T084648Z
UID:10003562-1858179600-1858186800@eenbusmeteenhart.nl
SUMMARY:Pan met Passie
DESCRIPTION:Samen genieten van een warme maaltijd en een warm gesprek. Eén keer per kwartaal eten we soep en pannenkoeken en de overige maanden worden er met veel passie andere lekkernijen in onze comfortabele keuken bereid. De kosten zijn € 9\,50 per persoon\, als je meer kunt missen wordt dat gewaardeerd en als je het bedrag een keer helemaal niet kan missen\, mag je dat gewoon vertellen omdat we het belangrijk vinden dat je je ALTIJD welkom voelt.
URL:https://eenbusmeteenhart.nl/activiteit/pan-met-passie/2028-11-18/
LOCATION:HartenJager in Sportcomplex de Jager\, Parallelweg 35\, Giessen\, 4283GR\, Nederland
CATEGORIES:De HartenBrigade
ATTACH;FMTTYPE=image/jpeg:https://eenbusmeteenhart.nl/wp-content/uploads/2023/11/379578039_323818970158106_7857363001990424073_n.jpg
ORGANIZER;CN="De HartenBrigade":MAILTO:Info@dehartenbrigade.nl
END:VEVENT
BEGIN:VEVENT
DTSTART;TZID=Europe/Amsterdam:20281121T090000
DTEND;TZID=Europe/Amsterdam:20281121T100000
DTSTAMP:20260425T154916
CREATED:20250617T125645Z
LAST-MODIFIED:20250617T125753Z
UID:10007421-1858410000-1858413600@eenbusmeteenhart.nl
SUMMARY:Damestrimclub
DESCRIPTION:Wil jij een uurtje gezellig sporten? Goed voor je ”gezonde lijf”.Onder leiding van Nicolette Koning wordt er bewogen op muziek. Een club die als sinds 1970 bestaat. Naast het sporten is het ook erg gezellig onderling. Iedere laatste dinsdag van de maand word er afgesloten met een lekkere bak koffie in onze HartenJager. Je kunt geheel vrijblijvend kijken of doe meteen mee op dinsdagochtend van 09:00–10:00 uur.
URL:https://eenbusmeteenhart.nl/activiteit/damestrimclub-2/2028-11-21/
LOCATION:Sportcomplex de Jager\, Parallelweg 35\, Giessen\, Gelderland\, 4283GR\, Nederland
CATEGORIES:Sporthal de Jager
ORGANIZER;CN="Damestrimclub":MAILTO:koning.nicolette@xs4all.nl
END:VEVENT
BEGIN:VEVENT
DTSTART;TZID=Europe/Amsterdam:20281121T113000
DTEND;TZID=Europe/Amsterdam:20281121T130000
DTSTAMP:20260425T154916
CREATED:20250512T120556Z
LAST-MODIFIED:20260223T084536Z
UID:10006531-1858419000-1858424400@eenbusmeteenhart.nl
SUMMARY:SoepPraat
DESCRIPTION:Iedere dinsdag en donderdag kun je mee genieten van verse maaltijdsoep met stokbrood onder het genot van een gezellig praatje. Voor maar € 3\,- per persoon mag je de pan mee leeg eten. Is vervoer een uitdaging dan halen we je met liefde met onze HartenBus op. Voor een retour van huis naar de HartenJager vragen we een vrijwillige bijdrage en als aan het einde van de maand je portemonnee niet zo goed gevuld is\, is kosteloos instappen ook geen enkel punt.
URL:https://eenbusmeteenhart.nl/activiteit/soeppraat/2028-11-21/
LOCATION:Gelderland
CATEGORIES:De HartenBrigade
ORGANIZER;CN="De HartenBrigade":MAILTO:Info@dehartenbrigade.nl
END:VEVENT
BEGIN:VEVENT
DTSTART;TZID=Europe/Amsterdam:20281121T133000
DTEND;TZID=Europe/Amsterdam:20281121T150000
DTSTAMP:20260425T154916
CREATED:20250617T123754Z
LAST-MODIFIED:20250617T123755Z
UID:10007066-1858426200-1858431600@eenbusmeteenhart.nl
SUMMARY:Pastel Tekenles
DESCRIPTION:Kom elke dinsdag van 13:30 – 15:00 uur tekenen met Iris. Pastel is een zacht soort krijt dat gebruikt wordt om mooie kunstwerken te creëren. Doordat het dekkend materiaal is\, wordt het gebruikt op verschillende soorten en kleuren papier.Je mag van onze materialen gebruik maken voor een kleine bijdrage van € 2\,- Houd je meer van strip- of portret tekenen\, dan heeft ook daar Iris talent voor!Je kunt evt. van te voren mee eten tijdens SoepPraat voor € 2\,-
URL:https://eenbusmeteenhart.nl/activiteit/pastel-tekenles/2028-11-21/
LOCATION:Gelderland
CATEGORIES:De HartenBrigade
END:VEVENT
BEGIN:VEVENT
DTSTART;TZID=Europe/Amsterdam:20281122T170000
DTEND;TZID=Europe/Amsterdam:20281122T183000
DTSTAMP:20260425T154916
CREATED:20241126T132947Z
LAST-MODIFIED:20260223T084616Z
UID:10003987-1858525200-1858530600@eenbusmeteenhart.nl
SUMMARY:HartenHap
DESCRIPTION:Een heerlijke warme maaltijd waarbij het doel is dat je niet alleen aan tafel zit\, maar gezellig met anderen. Je mag genieten van een 3-gangendiner voor € 9\,50
URL:https://eenbusmeteenhart.nl/activiteit/hartenhap/2028-11-22/
LOCATION:Gelderland
CATEGORIES:De HartenBrigade
END:VEVENT
BEGIN:VEVENT
DTSTART;TZID=Europe/Amsterdam:20281123T113000
DTEND;TZID=Europe/Amsterdam:20281123T130000
DTSTAMP:20260425T154916
CREATED:20250512T120657Z
LAST-MODIFIED:20260223T084500Z
UID:10006792-1858591800-1858597200@eenbusmeteenhart.nl
SUMMARY:SoepPraat
DESCRIPTION:Iedere dinsdag en donderdag kun je mee genieten van verse maaltijdsoep met stokbrood onder het genot van een gezellig praatje. Voor maar € 3\,- per persoon mag je de pan mee leeg eten. Is vervoer een uitdaging dan halen we je met liefde met onze HartenBus op. Voor een retour van huis naar de HartenJager vragen we een vrijwillige bijdrage en als aan het einde van de maand je portemonnee niet zo goed gevuld is\, is kosteloos instappen ook geen enkel punt.
URL:https://eenbusmeteenhart.nl/activiteit/soeppraat-2/2028-11-23/
LOCATION:Gelderland
CATEGORIES:De HartenBrigade
ORGANIZER;CN="De HartenBrigade":MAILTO:Info@dehartenbrigade.nl
END:VEVENT
BEGIN:VEVENT
DTSTART;TZID=Europe/Amsterdam:20281123T131500
DTEND;TZID=Europe/Amsterdam:20281123T151500
DTSTAMP:20260425T154916
CREATED:20230620T133323Z
LAST-MODIFIED:20240603T093459Z
UID:10007504-1858598100-1858605300@eenbusmeteenhart.nl
SUMMARY:Crea café van Harte(n)
DESCRIPTION:Ben je graag creatief bezig en hou je van een gezellig praatje\, dan is het Crea Café wellicht iets voor jou. Iedere donderdagmiddag komen er vanaf 13.00 uur 10-12 vrouwen naar de HartenJager. Je mag zelf je materialen meenemen en je betaalt alleen een kleine bijdrage voor koffie/thee. Het is mooi om te ervaren dat er al diverse vriendschappen aan de creatafel ontstaan zijn.
URL:https://eenbusmeteenhart.nl/activiteit/crea-cafe-van-harten/2028-11-23/
LOCATION:HartenJager in Sportcomplex de Jager\, Parallelweg 35\, Giessen\, 4283GR\, Nederland
CATEGORIES:De HartenBrigade
ATTACH;FMTTYPE=image/webp:https://eenbusmeteenhart.nl/wp-content/uploads/2023/11/a131a1707d710c5dfb8cb865713f6f9e7fdcbf68-1.webp
ORGANIZER;CN="De HartenBrigade":MAILTO:Info@dehartenbrigade.nl
END:VEVENT
BEGIN:VEVENT
DTSTART;TZID=Europe/Amsterdam:20281128T090000
DTEND;TZID=Europe/Amsterdam:20281128T100000
DTSTAMP:20260425T154916
CREATED:20250617T125645Z
LAST-MODIFIED:20250617T125753Z
UID:10007422-1859014800-1859018400@eenbusmeteenhart.nl
SUMMARY:Damestrimclub
DESCRIPTION:Wil jij een uurtje gezellig sporten? Goed voor je ”gezonde lijf”.Onder leiding van Nicolette Koning wordt er bewogen op muziek. Een club die als sinds 1970 bestaat. Naast het sporten is het ook erg gezellig onderling. Iedere laatste dinsdag van de maand word er afgesloten met een lekkere bak koffie in onze HartenJager. Je kunt geheel vrijblijvend kijken of doe meteen mee op dinsdagochtend van 09:00–10:00 uur.
URL:https://eenbusmeteenhart.nl/activiteit/damestrimclub-2/2028-11-28/
LOCATION:Sportcomplex de Jager\, Parallelweg 35\, Giessen\, Gelderland\, 4283GR\, Nederland
CATEGORIES:Sporthal de Jager
ORGANIZER;CN="Damestrimclub":MAILTO:koning.nicolette@xs4all.nl
END:VEVENT
BEGIN:VEVENT
DTSTART;TZID=Europe/Amsterdam:20281128T113000
DTEND;TZID=Europe/Amsterdam:20281128T130000
DTSTAMP:20260425T154916
CREATED:20250512T120556Z
LAST-MODIFIED:20260223T084536Z
UID:10006532-1859023800-1859029200@eenbusmeteenhart.nl
SUMMARY:SoepPraat
DESCRIPTION:Iedere dinsdag en donderdag kun je mee genieten van verse maaltijdsoep met stokbrood onder het genot van een gezellig praatje. Voor maar € 3\,- per persoon mag je de pan mee leeg eten. Is vervoer een uitdaging dan halen we je met liefde met onze HartenBus op. Voor een retour van huis naar de HartenJager vragen we een vrijwillige bijdrage en als aan het einde van de maand je portemonnee niet zo goed gevuld is\, is kosteloos instappen ook geen enkel punt.
URL:https://eenbusmeteenhart.nl/activiteit/soeppraat/2028-11-28/
LOCATION:Gelderland
CATEGORIES:De HartenBrigade
ORGANIZER;CN="De HartenBrigade":MAILTO:Info@dehartenbrigade.nl
END:VEVENT
BEGIN:VEVENT
DTSTART;TZID=Europe/Amsterdam:20281128T133000
DTEND;TZID=Europe/Amsterdam:20281128T150000
DTSTAMP:20260425T154916
CREATED:20250617T123754Z
LAST-MODIFIED:20250617T123755Z
UID:10007067-1859031000-1859036400@eenbusmeteenhart.nl
SUMMARY:Pastel Tekenles
DESCRIPTION:Kom elke dinsdag van 13:30 – 15:00 uur tekenen met Iris. Pastel is een zacht soort krijt dat gebruikt wordt om mooie kunstwerken te creëren. Doordat het dekkend materiaal is\, wordt het gebruikt op verschillende soorten en kleuren papier.Je mag van onze materialen gebruik maken voor een kleine bijdrage van € 2\,- Houd je meer van strip- of portret tekenen\, dan heeft ook daar Iris talent voor!Je kunt evt. van te voren mee eten tijdens SoepPraat voor € 2\,-
URL:https://eenbusmeteenhart.nl/activiteit/pastel-tekenles/2028-11-28/
LOCATION:Gelderland
CATEGORIES:De HartenBrigade
END:VEVENT
BEGIN:VEVENT
DTSTART;TZID=Europe/Amsterdam:20281130T113000
DTEND;TZID=Europe/Amsterdam:20281130T130000
DTSTAMP:20260425T154916
CREATED:20250512T120657Z
LAST-MODIFIED:20260223T084500Z
UID:10006793-1859196600-1859202000@eenbusmeteenhart.nl
SUMMARY:SoepPraat
DESCRIPTION:Iedere dinsdag en donderdag kun je mee genieten van verse maaltijdsoep met stokbrood onder het genot van een gezellig praatje. Voor maar € 3\,- per persoon mag je de pan mee leeg eten. Is vervoer een uitdaging dan halen we je met liefde met onze HartenBus op. Voor een retour van huis naar de HartenJager vragen we een vrijwillige bijdrage en als aan het einde van de maand je portemonnee niet zo goed gevuld is\, is kosteloos instappen ook geen enkel punt.
URL:https://eenbusmeteenhart.nl/activiteit/soeppraat-2/2028-11-30/
LOCATION:Gelderland
CATEGORIES:De HartenBrigade
ORGANIZER;CN="De HartenBrigade":MAILTO:Info@dehartenbrigade.nl
END:VEVENT
BEGIN:VEVENT
DTSTART;TZID=Europe/Amsterdam:20281130T131500
DTEND;TZID=Europe/Amsterdam:20281130T151500
DTSTAMP:20260425T154916
CREATED:20230620T133323Z
LAST-MODIFIED:20240603T093459Z
UID:10007505-1859202900-1859210100@eenbusmeteenhart.nl
SUMMARY:Crea café van Harte(n)
DESCRIPTION:Ben je graag creatief bezig en hou je van een gezellig praatje\, dan is het Crea Café wellicht iets voor jou. Iedere donderdagmiddag komen er vanaf 13.00 uur 10-12 vrouwen naar de HartenJager. Je mag zelf je materialen meenemen en je betaalt alleen een kleine bijdrage voor koffie/thee. Het is mooi om te ervaren dat er al diverse vriendschappen aan de creatafel ontstaan zijn.
URL:https://eenbusmeteenhart.nl/activiteit/crea-cafe-van-harten/2028-11-30/
LOCATION:HartenJager in Sportcomplex de Jager\, Parallelweg 35\, Giessen\, 4283GR\, Nederland
CATEGORIES:De HartenBrigade
ATTACH;FMTTYPE=image/webp:https://eenbusmeteenhart.nl/wp-content/uploads/2023/11/a131a1707d710c5dfb8cb865713f6f9e7fdcbf68-1.webp
ORGANIZER;CN="De HartenBrigade":MAILTO:Info@dehartenbrigade.nl
END:VEVENT
BEGIN:VEVENT
DTSTART;TZID=Europe/Amsterdam:20281205T090000
DTEND;TZID=Europe/Amsterdam:20281205T100000
DTSTAMP:20260425T154916
CREATED:20250617T125645Z
LAST-MODIFIED:20250617T125753Z
UID:10007423-1859619600-1859623200@eenbusmeteenhart.nl
SUMMARY:Damestrimclub
DESCRIPTION:Wil jij een uurtje gezellig sporten? Goed voor je ”gezonde lijf”.Onder leiding van Nicolette Koning wordt er bewogen op muziek. Een club die als sinds 1970 bestaat. Naast het sporten is het ook erg gezellig onderling. Iedere laatste dinsdag van de maand word er afgesloten met een lekkere bak koffie in onze HartenJager. Je kunt geheel vrijblijvend kijken of doe meteen mee op dinsdagochtend van 09:00–10:00 uur.
URL:https://eenbusmeteenhart.nl/activiteit/damestrimclub-2/2028-12-05/
LOCATION:Sportcomplex de Jager\, Parallelweg 35\, Giessen\, Gelderland\, 4283GR\, Nederland
CATEGORIES:Sporthal de Jager
ORGANIZER;CN="Damestrimclub":MAILTO:koning.nicolette@xs4all.nl
END:VEVENT
BEGIN:VEVENT
DTSTART;TZID=Europe/Amsterdam:20281205T113000
DTEND;TZID=Europe/Amsterdam:20281205T130000
DTSTAMP:20260425T154916
CREATED:20250512T120556Z
LAST-MODIFIED:20260223T084536Z
UID:10006533-1859628600-1859634000@eenbusmeteenhart.nl
SUMMARY:SoepPraat
DESCRIPTION:Iedere dinsdag en donderdag kun je mee genieten van verse maaltijdsoep met stokbrood onder het genot van een gezellig praatje. Voor maar € 3\,- per persoon mag je de pan mee leeg eten. Is vervoer een uitdaging dan halen we je met liefde met onze HartenBus op. Voor een retour van huis naar de HartenJager vragen we een vrijwillige bijdrage en als aan het einde van de maand je portemonnee niet zo goed gevuld is\, is kosteloos instappen ook geen enkel punt.
URL:https://eenbusmeteenhart.nl/activiteit/soeppraat/2028-12-05/
LOCATION:Gelderland
CATEGORIES:De HartenBrigade
ORGANIZER;CN="De HartenBrigade":MAILTO:Info@dehartenbrigade.nl
END:VEVENT
BEGIN:VEVENT
DTSTART;TZID=Europe/Amsterdam:20281205T133000
DTEND;TZID=Europe/Amsterdam:20281205T150000
DTSTAMP:20260425T154916
CREATED:20250617T123754Z
LAST-MODIFIED:20250617T123755Z
UID:10007068-1859635800-1859641200@eenbusmeteenhart.nl
SUMMARY:Pastel Tekenles
DESCRIPTION:Kom elke dinsdag van 13:30 – 15:00 uur tekenen met Iris. Pastel is een zacht soort krijt dat gebruikt wordt om mooie kunstwerken te creëren. Doordat het dekkend materiaal is\, wordt het gebruikt op verschillende soorten en kleuren papier.Je mag van onze materialen gebruik maken voor een kleine bijdrage van € 2\,- Houd je meer van strip- of portret tekenen\, dan heeft ook daar Iris talent voor!Je kunt evt. van te voren mee eten tijdens SoepPraat voor € 2\,-
URL:https://eenbusmeteenhart.nl/activiteit/pastel-tekenles/2028-12-05/
LOCATION:Gelderland
CATEGORIES:De HartenBrigade
END:VEVENT
BEGIN:VEVENT
DTSTART;TZID=Europe/Amsterdam:20281206T170000
DTEND;TZID=Europe/Amsterdam:20281206T183000
DTSTAMP:20260425T154916
CREATED:20241126T132947Z
LAST-MODIFIED:20260223T084616Z
UID:10003988-1859734800-1859740200@eenbusmeteenhart.nl
SUMMARY:HartenHap
DESCRIPTION:Een heerlijke warme maaltijd waarbij het doel is dat je niet alleen aan tafel zit\, maar gezellig met anderen. Je mag genieten van een 3-gangendiner voor € 9\,50
URL:https://eenbusmeteenhart.nl/activiteit/hartenhap/2028-12-06/
LOCATION:Gelderland
CATEGORIES:De HartenBrigade
END:VEVENT
BEGIN:VEVENT
DTSTART;TZID=Europe/Amsterdam:20281207T113000
DTEND;TZID=Europe/Amsterdam:20281207T130000
DTSTAMP:20260425T154916
CREATED:20250512T120657Z
LAST-MODIFIED:20260223T084500Z
UID:10006794-1859801400-1859806800@eenbusmeteenhart.nl
SUMMARY:SoepPraat
DESCRIPTION:Iedere dinsdag en donderdag kun je mee genieten van verse maaltijdsoep met stokbrood onder het genot van een gezellig praatje. Voor maar € 3\,- per persoon mag je de pan mee leeg eten. Is vervoer een uitdaging dan halen we je met liefde met onze HartenBus op. Voor een retour van huis naar de HartenJager vragen we een vrijwillige bijdrage en als aan het einde van de maand je portemonnee niet zo goed gevuld is\, is kosteloos instappen ook geen enkel punt.
URL:https://eenbusmeteenhart.nl/activiteit/soeppraat-2/2028-12-07/
LOCATION:Gelderland
CATEGORIES:De HartenBrigade
ORGANIZER;CN="De HartenBrigade":MAILTO:Info@dehartenbrigade.nl
END:VEVENT
BEGIN:VEVENT
DTSTART;TZID=Europe/Amsterdam:20281207T131500
DTEND;TZID=Europe/Amsterdam:20281207T151500
DTSTAMP:20260425T154916
CREATED:20230620T133323Z
LAST-MODIFIED:20240603T093459Z
UID:10007506-1859807700-1859814900@eenbusmeteenhart.nl
SUMMARY:Crea café van Harte(n)
DESCRIPTION:Ben je graag creatief bezig en hou je van een gezellig praatje\, dan is het Crea Café wellicht iets voor jou. Iedere donderdagmiddag komen er vanaf 13.00 uur 10-12 vrouwen naar de HartenJager. Je mag zelf je materialen meenemen en je betaalt alleen een kleine bijdrage voor koffie/thee. Het is mooi om te ervaren dat er al diverse vriendschappen aan de creatafel ontstaan zijn.
URL:https://eenbusmeteenhart.nl/activiteit/crea-cafe-van-harten/2028-12-07/
LOCATION:HartenJager in Sportcomplex de Jager\, Parallelweg 35\, Giessen\, 4283GR\, Nederland
CATEGORIES:De HartenBrigade
ATTACH;FMTTYPE=image/webp:https://eenbusmeteenhart.nl/wp-content/uploads/2023/11/a131a1707d710c5dfb8cb865713f6f9e7fdcbf68-1.webp
ORGANIZER;CN="De HartenBrigade":MAILTO:Info@dehartenbrigade.nl
END:VEVENT
BEGIN:VEVENT
DTSTART;TZID=Europe/Amsterdam:20281212T090000
DTEND;TZID=Europe/Amsterdam:20281212T100000
DTSTAMP:20260425T154916
CREATED:20250617T125645Z
LAST-MODIFIED:20250617T125753Z
UID:10007424-1860224400-1860228000@eenbusmeteenhart.nl
SUMMARY:Damestrimclub
DESCRIPTION:Wil jij een uurtje gezellig sporten? Goed voor je ”gezonde lijf”.Onder leiding van Nicolette Koning wordt er bewogen op muziek. Een club die als sinds 1970 bestaat. Naast het sporten is het ook erg gezellig onderling. Iedere laatste dinsdag van de maand word er afgesloten met een lekkere bak koffie in onze HartenJager. Je kunt geheel vrijblijvend kijken of doe meteen mee op dinsdagochtend van 09:00–10:00 uur.
URL:https://eenbusmeteenhart.nl/activiteit/damestrimclub-2/2028-12-12/
LOCATION:Sportcomplex de Jager\, Parallelweg 35\, Giessen\, Gelderland\, 4283GR\, Nederland
CATEGORIES:Sporthal de Jager
ORGANIZER;CN="Damestrimclub":MAILTO:koning.nicolette@xs4all.nl
END:VEVENT
BEGIN:VEVENT
DTSTART;TZID=Europe/Amsterdam:20281212T113000
DTEND;TZID=Europe/Amsterdam:20281212T130000
DTSTAMP:20260425T154916
CREATED:20250512T120556Z
LAST-MODIFIED:20260223T084536Z
UID:10006534-1860233400-1860238800@eenbusmeteenhart.nl
SUMMARY:SoepPraat
DESCRIPTION:Iedere dinsdag en donderdag kun je mee genieten van verse maaltijdsoep met stokbrood onder het genot van een gezellig praatje. Voor maar € 3\,- per persoon mag je de pan mee leeg eten. Is vervoer een uitdaging dan halen we je met liefde met onze HartenBus op. Voor een retour van huis naar de HartenJager vragen we een vrijwillige bijdrage en als aan het einde van de maand je portemonnee niet zo goed gevuld is\, is kosteloos instappen ook geen enkel punt.
URL:https://eenbusmeteenhart.nl/activiteit/soeppraat/2028-12-12/
LOCATION:Gelderland
CATEGORIES:De HartenBrigade
ORGANIZER;CN="De HartenBrigade":MAILTO:Info@dehartenbrigade.nl
END:VEVENT
BEGIN:VEVENT
DTSTART;TZID=Europe/Amsterdam:20281212T133000
DTEND;TZID=Europe/Amsterdam:20281212T150000
DTSTAMP:20260425T154916
CREATED:20250617T123754Z
LAST-MODIFIED:20250617T123755Z
UID:10007069-1860240600-1860246000@eenbusmeteenhart.nl
SUMMARY:Pastel Tekenles
DESCRIPTION:Kom elke dinsdag van 13:30 – 15:00 uur tekenen met Iris. Pastel is een zacht soort krijt dat gebruikt wordt om mooie kunstwerken te creëren. Doordat het dekkend materiaal is\, wordt het gebruikt op verschillende soorten en kleuren papier.Je mag van onze materialen gebruik maken voor een kleine bijdrage van € 2\,- Houd je meer van strip- of portret tekenen\, dan heeft ook daar Iris talent voor!Je kunt evt. van te voren mee eten tijdens SoepPraat voor € 2\,-
URL:https://eenbusmeteenhart.nl/activiteit/pastel-tekenles/2028-12-12/
LOCATION:Gelderland
CATEGORIES:De HartenBrigade
END:VEVENT
BEGIN:VEVENT
DTSTART;TZID=Europe/Amsterdam:20281214T113000
DTEND;TZID=Europe/Amsterdam:20281214T130000
DTSTAMP:20260425T154916
CREATED:20250512T120657Z
LAST-MODIFIED:20260223T084500Z
UID:10006795-1860406200-1860411600@eenbusmeteenhart.nl
SUMMARY:SoepPraat
DESCRIPTION:Iedere dinsdag en donderdag kun je mee genieten van verse maaltijdsoep met stokbrood onder het genot van een gezellig praatje. Voor maar € 3\,- per persoon mag je de pan mee leeg eten. Is vervoer een uitdaging dan halen we je met liefde met onze HartenBus op. Voor een retour van huis naar de HartenJager vragen we een vrijwillige bijdrage en als aan het einde van de maand je portemonnee niet zo goed gevuld is\, is kosteloos instappen ook geen enkel punt.
URL:https://eenbusmeteenhart.nl/activiteit/soeppraat-2/2028-12-14/
LOCATION:Gelderland
CATEGORIES:De HartenBrigade
ORGANIZER;CN="De HartenBrigade":MAILTO:Info@dehartenbrigade.nl
END:VEVENT
BEGIN:VEVENT
DTSTART;TZID=Europe/Amsterdam:20281214T131500
DTEND;TZID=Europe/Amsterdam:20281214T151500
DTSTAMP:20260425T154916
CREATED:20230620T133323Z
LAST-MODIFIED:20240603T093459Z
UID:10007507-1860412500-1860419700@eenbusmeteenhart.nl
SUMMARY:Crea café van Harte(n)
DESCRIPTION:Ben je graag creatief bezig en hou je van een gezellig praatje\, dan is het Crea Café wellicht iets voor jou. Iedere donderdagmiddag komen er vanaf 13.00 uur 10-12 vrouwen naar de HartenJager. Je mag zelf je materialen meenemen en je betaalt alleen een kleine bijdrage voor koffie/thee. Het is mooi om te ervaren dat er al diverse vriendschappen aan de creatafel ontstaan zijn.
URL:https://eenbusmeteenhart.nl/activiteit/crea-cafe-van-harten/2028-12-14/
LOCATION:HartenJager in Sportcomplex de Jager\, Parallelweg 35\, Giessen\, 4283GR\, Nederland
CATEGORIES:De HartenBrigade
ATTACH;FMTTYPE=image/webp:https://eenbusmeteenhart.nl/wp-content/uploads/2023/11/a131a1707d710c5dfb8cb865713f6f9e7fdcbf68-1.webp
ORGANIZER;CN="De HartenBrigade":MAILTO:Info@dehartenbrigade.nl
END:VEVENT
BEGIN:VEVENT
DTSTART;TZID=Europe/Amsterdam:20281216T170000
DTEND;TZID=Europe/Amsterdam:20281216T190000
DTSTAMP:20260425T154916
CREATED:20231119T113926Z
LAST-MODIFIED:20260223T084648Z
UID:10004719-1860598800-1860606000@eenbusmeteenhart.nl
SUMMARY:Pan met Passie
DESCRIPTION:Samen genieten van een warme maaltijd en een warm gesprek. Eén keer per kwartaal eten we soep en pannenkoeken en de overige maanden worden er met veel passie andere lekkernijen in onze comfortabele keuken bereid. De kosten zijn € 9\,50 per persoon\, als je meer kunt missen wordt dat gewaardeerd en als je het bedrag een keer helemaal niet kan missen\, mag je dat gewoon vertellen omdat we het belangrijk vinden dat je je ALTIJD welkom voelt.
URL:https://eenbusmeteenhart.nl/activiteit/pan-met-passie/2028-12-16/
LOCATION:HartenJager in Sportcomplex de Jager\, Parallelweg 35\, Giessen\, 4283GR\, Nederland
CATEGORIES:De HartenBrigade
ATTACH;FMTTYPE=image/jpeg:https://eenbusmeteenhart.nl/wp-content/uploads/2023/11/379578039_323818970158106_7857363001990424073_n.jpg
ORGANIZER;CN="De HartenBrigade":MAILTO:Info@dehartenbrigade.nl
END:VEVENT
BEGIN:VEVENT
DTSTART;TZID=Europe/Amsterdam:20281219T090000
DTEND;TZID=Europe/Amsterdam:20281219T100000
DTSTAMP:20260425T154916
CREATED:20250617T125645Z
LAST-MODIFIED:20250617T125753Z
UID:10007425-1860829200-1860832800@eenbusmeteenhart.nl
SUMMARY:Damestrimclub
DESCRIPTION:Wil jij een uurtje gezellig sporten? Goed voor je ”gezonde lijf”.Onder leiding van Nicolette Koning wordt er bewogen op muziek. Een club die als sinds 1970 bestaat. Naast het sporten is het ook erg gezellig onderling. Iedere laatste dinsdag van de maand word er afgesloten met een lekkere bak koffie in onze HartenJager. Je kunt geheel vrijblijvend kijken of doe meteen mee op dinsdagochtend van 09:00–10:00 uur.
URL:https://eenbusmeteenhart.nl/activiteit/damestrimclub-2/2028-12-19/
LOCATION:Sportcomplex de Jager\, Parallelweg 35\, Giessen\, Gelderland\, 4283GR\, Nederland
CATEGORIES:Sporthal de Jager
ORGANIZER;CN="Damestrimclub":MAILTO:koning.nicolette@xs4all.nl
END:VEVENT
BEGIN:VEVENT
DTSTART;TZID=Europe/Amsterdam:20281219T113000
DTEND;TZID=Europe/Amsterdam:20281219T130000
DTSTAMP:20260425T154916
CREATED:20250512T120556Z
LAST-MODIFIED:20260223T084536Z
UID:10006535-1860838200-1860843600@eenbusmeteenhart.nl
SUMMARY:SoepPraat
DESCRIPTION:Iedere dinsdag en donderdag kun je mee genieten van verse maaltijdsoep met stokbrood onder het genot van een gezellig praatje. Voor maar € 3\,- per persoon mag je de pan mee leeg eten. Is vervoer een uitdaging dan halen we je met liefde met onze HartenBus op. Voor een retour van huis naar de HartenJager vragen we een vrijwillige bijdrage en als aan het einde van de maand je portemonnee niet zo goed gevuld is\, is kosteloos instappen ook geen enkel punt.
URL:https://eenbusmeteenhart.nl/activiteit/soeppraat/2028-12-19/
LOCATION:Gelderland
CATEGORIES:De HartenBrigade
ORGANIZER;CN="De HartenBrigade":MAILTO:Info@dehartenbrigade.nl
END:VEVENT
END:VCALENDAR