BEGIN:VCALENDAR
VERSION:2.0
PRODID:-//Hartenbrigade - ECPv6.15.14//NONSGML v1.0//EN
CALSCALE:GREGORIAN
METHOD:PUBLISH
X-ORIGINAL-URL:https://eenbusmeteenhart.nl
X-WR-CALDESC:Evenementen voor Hartenbrigade
REFRESH-INTERVAL;VALUE=DURATION:PT1H
X-Robots-Tag:noindex
X-PUBLISHED-TTL:PT1H
BEGIN:VTIMEZONE
TZID:Europe/Amsterdam
BEGIN:DAYLIGHT
TZOFFSETFROM:+0100
TZOFFSETTO:+0200
TZNAME:CEST
DTSTART:20270328T010000
END:DAYLIGHT
BEGIN:STANDARD
TZOFFSETFROM:+0200
TZOFFSETTO:+0100
TZNAME:CET
DTSTART:20271031T010000
END:STANDARD
BEGIN:DAYLIGHT
TZOFFSETFROM:+0100
TZOFFSETTO:+0200
TZNAME:CEST
DTSTART:20280326T010000
END:DAYLIGHT
BEGIN:STANDARD
TZOFFSETFROM:+0200
TZOFFSETTO:+0100
TZNAME:CET
DTSTART:20281029T010000
END:STANDARD
BEGIN:DAYLIGHT
TZOFFSETFROM:+0100
TZOFFSETTO:+0200
TZNAME:CEST
DTSTART:20290325T010000
END:DAYLIGHT
BEGIN:STANDARD
TZOFFSETFROM:+0200
TZOFFSETTO:+0100
TZNAME:CET
DTSTART:20291028T010000
END:STANDARD
END:VTIMEZONE
BEGIN:VEVENT
DTSTART;TZID=Europe/Amsterdam:20280704T090000
DTEND;TZID=Europe/Amsterdam:20280704T100000
DTSTAMP:20260424T022904
CREATED:20250617T125645Z
LAST-MODIFIED:20250617T125753Z
UID:10007401-1846314000-1846317600@eenbusmeteenhart.nl
SUMMARY:Damestrimclub
DESCRIPTION:Wil jij een uurtje gezellig sporten? Goed voor je ”gezonde lijf”.Onder leiding van Nicolette Koning wordt er bewogen op muziek. Een club die als sinds 1970 bestaat. Naast het sporten is het ook erg gezellig onderling. Iedere laatste dinsdag van de maand word er afgesloten met een lekkere bak koffie in onze HartenJager. Je kunt geheel vrijblijvend kijken of doe meteen mee op dinsdagochtend van 09:00–10:00 uur.
URL:https://eenbusmeteenhart.nl/activiteit/damestrimclub-2/2028-07-04/
LOCATION:Sportcomplex de Jager\, Parallelweg 35\, Giessen\, Gelderland\, 4283GR\, Nederland
CATEGORIES:Sporthal de Jager
ORGANIZER;CN="Damestrimclub":MAILTO:koning.nicolette@xs4all.nl
END:VEVENT
BEGIN:VEVENT
DTSTART;TZID=Europe/Amsterdam:20280704T113000
DTEND;TZID=Europe/Amsterdam:20280704T130000
DTSTAMP:20260424T022904
CREATED:20250512T120556Z
LAST-MODIFIED:20260223T084536Z
UID:10006511-1846323000-1846328400@eenbusmeteenhart.nl
SUMMARY:SoepPraat
DESCRIPTION:Iedere dinsdag en donderdag kun je mee genieten van verse maaltijdsoep met stokbrood onder het genot van een gezellig praatje. Voor maar € 3\,- per persoon mag je de pan mee leeg eten. Is vervoer een uitdaging dan halen we je met liefde met onze HartenBus op. Voor een retour van huis naar de HartenJager vragen we een vrijwillige bijdrage en als aan het einde van de maand je portemonnee niet zo goed gevuld is\, is kosteloos instappen ook geen enkel punt.
URL:https://eenbusmeteenhart.nl/activiteit/soeppraat/2028-07-04/
CATEGORIES:De HartenBrigade
ORGANIZER;CN="De HartenBrigade":MAILTO:Info@dehartenbrigade.nl
END:VEVENT
BEGIN:VEVENT
DTSTART;TZID=Europe/Amsterdam:20280704T133000
DTEND;TZID=Europe/Amsterdam:20280704T150000
DTSTAMP:20260424T022904
CREATED:20250617T123754Z
LAST-MODIFIED:20250617T123755Z
UID:10007046-1846330200-1846335600@eenbusmeteenhart.nl
SUMMARY:Pastel Tekenles
DESCRIPTION:Kom elke dinsdag van 13:30 – 15:00 uur tekenen met Iris. Pastel is een zacht soort krijt dat gebruikt wordt om mooie kunstwerken te creëren. Doordat het dekkend materiaal is\, wordt het gebruikt op verschillende soorten en kleuren papier.Je mag van onze materialen gebruik maken voor een kleine bijdrage van € 2\,- Houd je meer van strip- of portret tekenen\, dan heeft ook daar Iris talent voor!Je kunt evt. van te voren mee eten tijdens SoepPraat voor € 2\,-
URL:https://eenbusmeteenhart.nl/activiteit/pastel-tekenles/2028-07-04/
CATEGORIES:De HartenBrigade
END:VEVENT
BEGIN:VEVENT
DTSTART;TZID=Europe/Amsterdam:20280705T170000
DTEND;TZID=Europe/Amsterdam:20280705T183000
DTSTAMP:20260424T022904
CREATED:20241126T132947Z
LAST-MODIFIED:20260223T084616Z
UID:10003977-1846429200-1846434600@eenbusmeteenhart.nl
SUMMARY:HartenHap
DESCRIPTION:Een heerlijke warme maaltijd waarbij het doel is dat je niet alleen aan tafel zit\, maar gezellig met anderen. Je mag genieten van een 3-gangendiner voor € 9\,50
URL:https://eenbusmeteenhart.nl/activiteit/hartenhap/2028-07-05/
CATEGORIES:De HartenBrigade
END:VEVENT
BEGIN:VEVENT
DTSTART;TZID=Europe/Amsterdam:20280706T113000
DTEND;TZID=Europe/Amsterdam:20280706T130000
DTSTAMP:20260424T022904
CREATED:20250512T120657Z
LAST-MODIFIED:20260223T084500Z
UID:10006772-1846495800-1846501200@eenbusmeteenhart.nl
SUMMARY:SoepPraat
DESCRIPTION:Iedere dinsdag en donderdag kun je mee genieten van verse maaltijdsoep met stokbrood onder het genot van een gezellig praatje. Voor maar € 3\,- per persoon mag je de pan mee leeg eten. Is vervoer een uitdaging dan halen we je met liefde met onze HartenBus op. Voor een retour van huis naar de HartenJager vragen we een vrijwillige bijdrage en als aan het einde van de maand je portemonnee niet zo goed gevuld is\, is kosteloos instappen ook geen enkel punt.
URL:https://eenbusmeteenhart.nl/activiteit/soeppraat-2/2028-07-06/
CATEGORIES:De HartenBrigade
ORGANIZER;CN="De HartenBrigade":MAILTO:Info@dehartenbrigade.nl
END:VEVENT
BEGIN:VEVENT
DTSTART;TZID=Europe/Amsterdam:20280706T131500
DTEND;TZID=Europe/Amsterdam:20280706T151500
DTSTAMP:20260424T022904
CREATED:20230620T133323Z
LAST-MODIFIED:20240603T093459Z
UID:10003482-1846502100-1846509300@eenbusmeteenhart.nl
SUMMARY:Crea café van Harte(n)
DESCRIPTION:Ben je graag creatief bezig en hou je van een gezellig praatje\, dan is het Crea Café wellicht iets voor jou. Iedere donderdagmiddag komen er vanaf 13.00 uur 10-12 vrouwen naar de HartenJager. Je mag zelf je materialen meenemen en je betaalt alleen een kleine bijdrage voor koffie/thee. Het is mooi om te ervaren dat er al diverse vriendschappen aan de creatafel ontstaan zijn.
URL:https://eenbusmeteenhart.nl/activiteit/crea-cafe-van-harten/2028-07-06/
LOCATION:HartenJager in Sportcomplex de Jager\, Parallelweg 35\, Giessen\, 4283GR\, Nederland
CATEGORIES:De HartenBrigade
ATTACH;FMTTYPE=image/webp:https://eenbusmeteenhart.nl/wp-content/uploads/2023/11/a131a1707d710c5dfb8cb865713f6f9e7fdcbf68-1.webp
ORGANIZER;CN="De HartenBrigade":MAILTO:Info@dehartenbrigade.nl
END:VEVENT
BEGIN:VEVENT
DTSTART;TZID=Europe/Amsterdam:20280711T090000
DTEND;TZID=Europe/Amsterdam:20280711T100000
DTSTAMP:20260424T022904
CREATED:20250617T125645Z
LAST-MODIFIED:20250617T125753Z
UID:10007402-1846918800-1846922400@eenbusmeteenhart.nl
SUMMARY:Damestrimclub
DESCRIPTION:Wil jij een uurtje gezellig sporten? Goed voor je ”gezonde lijf”.Onder leiding van Nicolette Koning wordt er bewogen op muziek. Een club die als sinds 1970 bestaat. Naast het sporten is het ook erg gezellig onderling. Iedere laatste dinsdag van de maand word er afgesloten met een lekkere bak koffie in onze HartenJager. Je kunt geheel vrijblijvend kijken of doe meteen mee op dinsdagochtend van 09:00–10:00 uur.
URL:https://eenbusmeteenhart.nl/activiteit/damestrimclub-2/2028-07-11/
LOCATION:Sportcomplex de Jager\, Parallelweg 35\, Giessen\, Gelderland\, 4283GR\, Nederland
CATEGORIES:Sporthal de Jager
ORGANIZER;CN="Damestrimclub":MAILTO:koning.nicolette@xs4all.nl
END:VEVENT
BEGIN:VEVENT
DTSTART;TZID=Europe/Amsterdam:20280711T113000
DTEND;TZID=Europe/Amsterdam:20280711T130000
DTSTAMP:20260424T022904
CREATED:20250512T120556Z
LAST-MODIFIED:20260223T084536Z
UID:10006512-1846927800-1846933200@eenbusmeteenhart.nl
SUMMARY:SoepPraat
DESCRIPTION:Iedere dinsdag en donderdag kun je mee genieten van verse maaltijdsoep met stokbrood onder het genot van een gezellig praatje. Voor maar € 3\,- per persoon mag je de pan mee leeg eten. Is vervoer een uitdaging dan halen we je met liefde met onze HartenBus op. Voor een retour van huis naar de HartenJager vragen we een vrijwillige bijdrage en als aan het einde van de maand je portemonnee niet zo goed gevuld is\, is kosteloos instappen ook geen enkel punt.
URL:https://eenbusmeteenhart.nl/activiteit/soeppraat/2028-07-11/
CATEGORIES:De HartenBrigade
ORGANIZER;CN="De HartenBrigade":MAILTO:Info@dehartenbrigade.nl
END:VEVENT
BEGIN:VEVENT
DTSTART;TZID=Europe/Amsterdam:20280711T133000
DTEND;TZID=Europe/Amsterdam:20280711T150000
DTSTAMP:20260424T022904
CREATED:20250617T123754Z
LAST-MODIFIED:20250617T123755Z
UID:10007047-1846935000-1846940400@eenbusmeteenhart.nl
SUMMARY:Pastel Tekenles
DESCRIPTION:Kom elke dinsdag van 13:30 – 15:00 uur tekenen met Iris. Pastel is een zacht soort krijt dat gebruikt wordt om mooie kunstwerken te creëren. Doordat het dekkend materiaal is\, wordt het gebruikt op verschillende soorten en kleuren papier.Je mag van onze materialen gebruik maken voor een kleine bijdrage van € 2\,- Houd je meer van strip- of portret tekenen\, dan heeft ook daar Iris talent voor!Je kunt evt. van te voren mee eten tijdens SoepPraat voor € 2\,-
URL:https://eenbusmeteenhart.nl/activiteit/pastel-tekenles/2028-07-11/
CATEGORIES:De HartenBrigade
END:VEVENT
BEGIN:VEVENT
DTSTART;TZID=Europe/Amsterdam:20280713T113000
DTEND;TZID=Europe/Amsterdam:20280713T130000
DTSTAMP:20260424T022904
CREATED:20250512T120657Z
LAST-MODIFIED:20260223T084500Z
UID:10006773-1847100600-1847106000@eenbusmeteenhart.nl
SUMMARY:SoepPraat
DESCRIPTION:Iedere dinsdag en donderdag kun je mee genieten van verse maaltijdsoep met stokbrood onder het genot van een gezellig praatje. Voor maar € 3\,- per persoon mag je de pan mee leeg eten. Is vervoer een uitdaging dan halen we je met liefde met onze HartenBus op. Voor een retour van huis naar de HartenJager vragen we een vrijwillige bijdrage en als aan het einde van de maand je portemonnee niet zo goed gevuld is\, is kosteloos instappen ook geen enkel punt.
URL:https://eenbusmeteenhart.nl/activiteit/soeppraat-2/2028-07-13/
CATEGORIES:De HartenBrigade
ORGANIZER;CN="De HartenBrigade":MAILTO:Info@dehartenbrigade.nl
END:VEVENT
BEGIN:VEVENT
DTSTART;TZID=Europe/Amsterdam:20280713T131500
DTEND;TZID=Europe/Amsterdam:20280713T151500
DTSTAMP:20260424T022904
CREATED:20230620T133323Z
LAST-MODIFIED:20240603T093459Z
UID:10003483-1847106900-1847114100@eenbusmeteenhart.nl
SUMMARY:Crea café van Harte(n)
DESCRIPTION:Ben je graag creatief bezig en hou je van een gezellig praatje\, dan is het Crea Café wellicht iets voor jou. Iedere donderdagmiddag komen er vanaf 13.00 uur 10-12 vrouwen naar de HartenJager. Je mag zelf je materialen meenemen en je betaalt alleen een kleine bijdrage voor koffie/thee. Het is mooi om te ervaren dat er al diverse vriendschappen aan de creatafel ontstaan zijn.
URL:https://eenbusmeteenhart.nl/activiteit/crea-cafe-van-harten/2028-07-13/
LOCATION:HartenJager in Sportcomplex de Jager\, Parallelweg 35\, Giessen\, 4283GR\, Nederland
CATEGORIES:De HartenBrigade
ATTACH;FMTTYPE=image/webp:https://eenbusmeteenhart.nl/wp-content/uploads/2023/11/a131a1707d710c5dfb8cb865713f6f9e7fdcbf68-1.webp
ORGANIZER;CN="De HartenBrigade":MAILTO:Info@dehartenbrigade.nl
END:VEVENT
BEGIN:VEVENT
DTSTART;TZID=Europe/Amsterdam:20280715T170000
DTEND;TZID=Europe/Amsterdam:20280715T190000
DTSTAMP:20260424T022904
CREATED:20231119T113926Z
LAST-MODIFIED:20260223T084648Z
UID:10003558-1847293200-1847300400@eenbusmeteenhart.nl
SUMMARY:Pan met Passie
DESCRIPTION:Samen genieten van een warme maaltijd en een warm gesprek. Eén keer per kwartaal eten we soep en pannenkoeken en de overige maanden worden er met veel passie andere lekkernijen in onze comfortabele keuken bereid. De kosten zijn € 9\,50 per persoon\, als je meer kunt missen wordt dat gewaardeerd en als je het bedrag een keer helemaal niet kan missen\, mag je dat gewoon vertellen omdat we het belangrijk vinden dat je je ALTIJD welkom voelt.
URL:https://eenbusmeteenhart.nl/activiteit/pan-met-passie/2028-07-15/
LOCATION:HartenJager in Sportcomplex de Jager\, Parallelweg 35\, Giessen\, 4283GR\, Nederland
CATEGORIES:De HartenBrigade
ATTACH;FMTTYPE=image/jpeg:https://eenbusmeteenhart.nl/wp-content/uploads/2023/11/379578039_323818970158106_7857363001990424073_n.jpg
ORGANIZER;CN="De HartenBrigade":MAILTO:Info@dehartenbrigade.nl
END:VEVENT
BEGIN:VEVENT
DTSTART;TZID=Europe/Amsterdam:20280718T090000
DTEND;TZID=Europe/Amsterdam:20280718T100000
DTSTAMP:20260424T022904
CREATED:20250617T125645Z
LAST-MODIFIED:20250617T125753Z
UID:10007403-1847523600-1847527200@eenbusmeteenhart.nl
SUMMARY:Damestrimclub
DESCRIPTION:Wil jij een uurtje gezellig sporten? Goed voor je ”gezonde lijf”.Onder leiding van Nicolette Koning wordt er bewogen op muziek. Een club die als sinds 1970 bestaat. Naast het sporten is het ook erg gezellig onderling. Iedere laatste dinsdag van de maand word er afgesloten met een lekkere bak koffie in onze HartenJager. Je kunt geheel vrijblijvend kijken of doe meteen mee op dinsdagochtend van 09:00–10:00 uur.
URL:https://eenbusmeteenhart.nl/activiteit/damestrimclub-2/2028-07-18/
LOCATION:Sportcomplex de Jager\, Parallelweg 35\, Giessen\, Gelderland\, 4283GR\, Nederland
CATEGORIES:Sporthal de Jager
ORGANIZER;CN="Damestrimclub":MAILTO:koning.nicolette@xs4all.nl
END:VEVENT
BEGIN:VEVENT
DTSTART;TZID=Europe/Amsterdam:20280718T113000
DTEND;TZID=Europe/Amsterdam:20280718T130000
DTSTAMP:20260424T022904
CREATED:20250512T120556Z
LAST-MODIFIED:20260223T084536Z
UID:10006513-1847532600-1847538000@eenbusmeteenhart.nl
SUMMARY:SoepPraat
DESCRIPTION:Iedere dinsdag en donderdag kun je mee genieten van verse maaltijdsoep met stokbrood onder het genot van een gezellig praatje. Voor maar € 3\,- per persoon mag je de pan mee leeg eten. Is vervoer een uitdaging dan halen we je met liefde met onze HartenBus op. Voor een retour van huis naar de HartenJager vragen we een vrijwillige bijdrage en als aan het einde van de maand je portemonnee niet zo goed gevuld is\, is kosteloos instappen ook geen enkel punt.
URL:https://eenbusmeteenhart.nl/activiteit/soeppraat/2028-07-18/
CATEGORIES:De HartenBrigade
ORGANIZER;CN="De HartenBrigade":MAILTO:Info@dehartenbrigade.nl
END:VEVENT
BEGIN:VEVENT
DTSTART;TZID=Europe/Amsterdam:20280718T133000
DTEND;TZID=Europe/Amsterdam:20280718T150000
DTSTAMP:20260424T022904
CREATED:20250617T123754Z
LAST-MODIFIED:20250617T123755Z
UID:10007048-1847539800-1847545200@eenbusmeteenhart.nl
SUMMARY:Pastel Tekenles
DESCRIPTION:Kom elke dinsdag van 13:30 – 15:00 uur tekenen met Iris. Pastel is een zacht soort krijt dat gebruikt wordt om mooie kunstwerken te creëren. Doordat het dekkend materiaal is\, wordt het gebruikt op verschillende soorten en kleuren papier.Je mag van onze materialen gebruik maken voor een kleine bijdrage van € 2\,- Houd je meer van strip- of portret tekenen\, dan heeft ook daar Iris talent voor!Je kunt evt. van te voren mee eten tijdens SoepPraat voor € 2\,-
URL:https://eenbusmeteenhart.nl/activiteit/pastel-tekenles/2028-07-18/
CATEGORIES:De HartenBrigade
END:VEVENT
BEGIN:VEVENT
DTSTART;TZID=Europe/Amsterdam:20280719T170000
DTEND;TZID=Europe/Amsterdam:20280719T183000
DTSTAMP:20260424T022904
CREATED:20241126T132947Z
LAST-MODIFIED:20260223T084616Z
UID:10003978-1847638800-1847644200@eenbusmeteenhart.nl
SUMMARY:HartenHap
DESCRIPTION:Een heerlijke warme maaltijd waarbij het doel is dat je niet alleen aan tafel zit\, maar gezellig met anderen. Je mag genieten van een 3-gangendiner voor € 9\,50
URL:https://eenbusmeteenhart.nl/activiteit/hartenhap/2028-07-19/
CATEGORIES:De HartenBrigade
END:VEVENT
BEGIN:VEVENT
DTSTART;TZID=Europe/Amsterdam:20280720T113000
DTEND;TZID=Europe/Amsterdam:20280720T130000
DTSTAMP:20260424T022904
CREATED:20250512T120657Z
LAST-MODIFIED:20260223T084500Z
UID:10006774-1847705400-1847710800@eenbusmeteenhart.nl
SUMMARY:SoepPraat
DESCRIPTION:Iedere dinsdag en donderdag kun je mee genieten van verse maaltijdsoep met stokbrood onder het genot van een gezellig praatje. Voor maar € 3\,- per persoon mag je de pan mee leeg eten. Is vervoer een uitdaging dan halen we je met liefde met onze HartenBus op. Voor een retour van huis naar de HartenJager vragen we een vrijwillige bijdrage en als aan het einde van de maand je portemonnee niet zo goed gevuld is\, is kosteloos instappen ook geen enkel punt.
URL:https://eenbusmeteenhart.nl/activiteit/soeppraat-2/2028-07-20/
CATEGORIES:De HartenBrigade
ORGANIZER;CN="De HartenBrigade":MAILTO:Info@dehartenbrigade.nl
END:VEVENT
BEGIN:VEVENT
DTSTART;TZID=Europe/Amsterdam:20280720T131500
DTEND;TZID=Europe/Amsterdam:20280720T151500
DTSTAMP:20260424T022904
CREATED:20230620T133323Z
LAST-MODIFIED:20240603T093459Z
UID:10003484-1847711700-1847718900@eenbusmeteenhart.nl
SUMMARY:Crea café van Harte(n)
DESCRIPTION:Ben je graag creatief bezig en hou je van een gezellig praatje\, dan is het Crea Café wellicht iets voor jou. Iedere donderdagmiddag komen er vanaf 13.00 uur 10-12 vrouwen naar de HartenJager. Je mag zelf je materialen meenemen en je betaalt alleen een kleine bijdrage voor koffie/thee. Het is mooi om te ervaren dat er al diverse vriendschappen aan de creatafel ontstaan zijn.
URL:https://eenbusmeteenhart.nl/activiteit/crea-cafe-van-harten/2028-07-20/
LOCATION:HartenJager in Sportcomplex de Jager\, Parallelweg 35\, Giessen\, 4283GR\, Nederland
CATEGORIES:De HartenBrigade
ATTACH;FMTTYPE=image/webp:https://eenbusmeteenhart.nl/wp-content/uploads/2023/11/a131a1707d710c5dfb8cb865713f6f9e7fdcbf68-1.webp
ORGANIZER;CN="De HartenBrigade":MAILTO:Info@dehartenbrigade.nl
END:VEVENT
BEGIN:VEVENT
DTSTART;TZID=Europe/Amsterdam:20280725T090000
DTEND;TZID=Europe/Amsterdam:20280725T100000
DTSTAMP:20260424T022904
CREATED:20250617T125645Z
LAST-MODIFIED:20250617T125753Z
UID:10007404-1848128400-1848132000@eenbusmeteenhart.nl
SUMMARY:Damestrimclub
DESCRIPTION:Wil jij een uurtje gezellig sporten? Goed voor je ”gezonde lijf”.Onder leiding van Nicolette Koning wordt er bewogen op muziek. Een club die als sinds 1970 bestaat. Naast het sporten is het ook erg gezellig onderling. Iedere laatste dinsdag van de maand word er afgesloten met een lekkere bak koffie in onze HartenJager. Je kunt geheel vrijblijvend kijken of doe meteen mee op dinsdagochtend van 09:00–10:00 uur.
URL:https://eenbusmeteenhart.nl/activiteit/damestrimclub-2/2028-07-25/
LOCATION:Sportcomplex de Jager\, Parallelweg 35\, Giessen\, Gelderland\, 4283GR\, Nederland
CATEGORIES:Sporthal de Jager
ORGANIZER;CN="Damestrimclub":MAILTO:koning.nicolette@xs4all.nl
END:VEVENT
BEGIN:VEVENT
DTSTART;TZID=Europe/Amsterdam:20280725T113000
DTEND;TZID=Europe/Amsterdam:20280725T130000
DTSTAMP:20260424T022904
CREATED:20250512T120556Z
LAST-MODIFIED:20260223T084536Z
UID:10006514-1848137400-1848142800@eenbusmeteenhart.nl
SUMMARY:SoepPraat
DESCRIPTION:Iedere dinsdag en donderdag kun je mee genieten van verse maaltijdsoep met stokbrood onder het genot van een gezellig praatje. Voor maar € 3\,- per persoon mag je de pan mee leeg eten. Is vervoer een uitdaging dan halen we je met liefde met onze HartenBus op. Voor een retour van huis naar de HartenJager vragen we een vrijwillige bijdrage en als aan het einde van de maand je portemonnee niet zo goed gevuld is\, is kosteloos instappen ook geen enkel punt.
URL:https://eenbusmeteenhart.nl/activiteit/soeppraat/2028-07-25/
CATEGORIES:De HartenBrigade
ORGANIZER;CN="De HartenBrigade":MAILTO:Info@dehartenbrigade.nl
END:VEVENT
BEGIN:VEVENT
DTSTART;TZID=Europe/Amsterdam:20280725T133000
DTEND;TZID=Europe/Amsterdam:20280725T150000
DTSTAMP:20260424T022904
CREATED:20250617T123754Z
LAST-MODIFIED:20250617T123755Z
UID:10007049-1848144600-1848150000@eenbusmeteenhart.nl
SUMMARY:Pastel Tekenles
DESCRIPTION:Kom elke dinsdag van 13:30 – 15:00 uur tekenen met Iris. Pastel is een zacht soort krijt dat gebruikt wordt om mooie kunstwerken te creëren. Doordat het dekkend materiaal is\, wordt het gebruikt op verschillende soorten en kleuren papier.Je mag van onze materialen gebruik maken voor een kleine bijdrage van € 2\,- Houd je meer van strip- of portret tekenen\, dan heeft ook daar Iris talent voor!Je kunt evt. van te voren mee eten tijdens SoepPraat voor € 2\,-
URL:https://eenbusmeteenhart.nl/activiteit/pastel-tekenles/2028-07-25/
CATEGORIES:De HartenBrigade
END:VEVENT
BEGIN:VEVENT
DTSTART;TZID=Europe/Amsterdam:20280727T113000
DTEND;TZID=Europe/Amsterdam:20280727T130000
DTSTAMP:20260424T022904
CREATED:20250512T120657Z
LAST-MODIFIED:20260223T084500Z
UID:10006775-1848310200-1848315600@eenbusmeteenhart.nl
SUMMARY:SoepPraat
DESCRIPTION:Iedere dinsdag en donderdag kun je mee genieten van verse maaltijdsoep met stokbrood onder het genot van een gezellig praatje. Voor maar € 3\,- per persoon mag je de pan mee leeg eten. Is vervoer een uitdaging dan halen we je met liefde met onze HartenBus op. Voor een retour van huis naar de HartenJager vragen we een vrijwillige bijdrage en als aan het einde van de maand je portemonnee niet zo goed gevuld is\, is kosteloos instappen ook geen enkel punt.
URL:https://eenbusmeteenhart.nl/activiteit/soeppraat-2/2028-07-27/
CATEGORIES:De HartenBrigade
ORGANIZER;CN="De HartenBrigade":MAILTO:Info@dehartenbrigade.nl
END:VEVENT
BEGIN:VEVENT
DTSTART;TZID=Europe/Amsterdam:20280727T131500
DTEND;TZID=Europe/Amsterdam:20280727T151500
DTSTAMP:20260424T022904
CREATED:20230620T133323Z
LAST-MODIFIED:20240603T093459Z
UID:10003485-1848316500-1848323700@eenbusmeteenhart.nl
SUMMARY:Crea café van Harte(n)
DESCRIPTION:Ben je graag creatief bezig en hou je van een gezellig praatje\, dan is het Crea Café wellicht iets voor jou. Iedere donderdagmiddag komen er vanaf 13.00 uur 10-12 vrouwen naar de HartenJager. Je mag zelf je materialen meenemen en je betaalt alleen een kleine bijdrage voor koffie/thee. Het is mooi om te ervaren dat er al diverse vriendschappen aan de creatafel ontstaan zijn.
URL:https://eenbusmeteenhart.nl/activiteit/crea-cafe-van-harten/2028-07-27/
LOCATION:HartenJager in Sportcomplex de Jager\, Parallelweg 35\, Giessen\, 4283GR\, Nederland
CATEGORIES:De HartenBrigade
ATTACH;FMTTYPE=image/webp:https://eenbusmeteenhart.nl/wp-content/uploads/2023/11/a131a1707d710c5dfb8cb865713f6f9e7fdcbf68-1.webp
ORGANIZER;CN="De HartenBrigade":MAILTO:Info@dehartenbrigade.nl
END:VEVENT
END:VCALENDAR