BEGIN:VCALENDAR
VERSION:2.0
PRODID:-//Hartenbrigade - ECPv6.15.14//NONSGML v1.0//EN
CALSCALE:GREGORIAN
METHOD:PUBLISH
X-ORIGINAL-URL:https://eenbusmeteenhart.nl
X-WR-CALDESC:Evenementen voor Hartenbrigade
REFRESH-INTERVAL;VALUE=DURATION:PT1H
X-Robots-Tag:noindex
X-PUBLISHED-TTL:PT1H
BEGIN:VTIMEZONE
TZID:Europe/Amsterdam
BEGIN:DAYLIGHT
TZOFFSETFROM:+0100
TZOFFSETTO:+0200
TZNAME:CEST
DTSTART:20240331T010000
END:DAYLIGHT
BEGIN:STANDARD
TZOFFSETFROM:+0200
TZOFFSETTO:+0100
TZNAME:CET
DTSTART:20241027T010000
END:STANDARD
BEGIN:DAYLIGHT
TZOFFSETFROM:+0100
TZOFFSETTO:+0200
TZNAME:CEST
DTSTART:20250330T010000
END:DAYLIGHT
BEGIN:STANDARD
TZOFFSETFROM:+0200
TZOFFSETTO:+0100
TZNAME:CET
DTSTART:20251026T010000
END:STANDARD
BEGIN:DAYLIGHT
TZOFFSETFROM:+0100
TZOFFSETTO:+0200
TZNAME:CEST
DTSTART:20260329T010000
END:DAYLIGHT
BEGIN:STANDARD
TZOFFSETFROM:+0200
TZOFFSETTO:+0100
TZNAME:CET
DTSTART:20261025T010000
END:STANDARD
BEGIN:DAYLIGHT
TZOFFSETFROM:+0100
TZOFFSETTO:+0200
TZNAME:CEST
DTSTART:20270328T010000
END:DAYLIGHT
BEGIN:STANDARD
TZOFFSETFROM:+0200
TZOFFSETTO:+0100
TZNAME:CET
DTSTART:20271031T010000
END:STANDARD
END:VTIMEZONE
BEGIN:VEVENT
DTSTART;TZID=Europe/Amsterdam:20260415T193000
DTEND;TZID=Europe/Amsterdam:20260415T220000
DTSTAMP:20260420T064315
CREATED:20230620T133033Z
LAST-MODIFIED:20230622T102202Z
UID:10000671-1776281400-1776290400@eenbusmeteenhart.nl
SUMMARY:Badmintonvereniging BC Hunters
DESCRIPTION:BC Hunters is een super gezellige badminton vereniging. Ze spelen iedere woensdagavond van 19.30 tot 22.30 uur. Wil je erachter komen of badminton ook iets voor jou is? Kom dan eens gratis en vrijblijvend een avondje spelen. 
URL:https://eenbusmeteenhart.nl/activiteit/badmintonvereniging-bc-hunters/2026-04-15/
LOCATION:Sportcomplex de Jager\, Parallelweg 35\, Giessen\, Gelderland\, 4283GR\, Nederland
CATEGORIES:Sporthal de Jager
ATTACH;FMTTYPE=image/png:https://eenbusmeteenhart.nl/wp-content/uploads/2023/06/BC-Hunters-logo.png
ORGANIZER;CN="Badmintonvereniging BC Hunters":MAILTO:petervanderleeden@casema.nl
END:VEVENT
BEGIN:VEVENT
DTSTART;TZID=Europe/Amsterdam:20260408T193000
DTEND;TZID=Europe/Amsterdam:20260408T220000
DTSTAMP:20260420T064315
CREATED:20230620T133033Z
LAST-MODIFIED:20230622T102202Z
UID:10000670-1775676600-1775685600@eenbusmeteenhart.nl
SUMMARY:Badmintonvereniging BC Hunters
DESCRIPTION:BC Hunters is een super gezellige badminton vereniging. Ze spelen iedere woensdagavond van 19.30 tot 22.30 uur. Wil je erachter komen of badminton ook iets voor jou is? Kom dan eens gratis en vrijblijvend een avondje spelen. 
URL:https://eenbusmeteenhart.nl/activiteit/badmintonvereniging-bc-hunters/2026-04-08/
LOCATION:Sportcomplex de Jager\, Parallelweg 35\, Giessen\, Gelderland\, 4283GR\, Nederland
CATEGORIES:Sporthal de Jager
ATTACH;FMTTYPE=image/png:https://eenbusmeteenhart.nl/wp-content/uploads/2023/06/BC-Hunters-logo.png
ORGANIZER;CN="Badmintonvereniging BC Hunters":MAILTO:petervanderleeden@casema.nl
END:VEVENT
BEGIN:VEVENT
DTSTART;TZID=Europe/Amsterdam:20260401T193000
DTEND;TZID=Europe/Amsterdam:20260401T220000
DTSTAMP:20260420T064315
CREATED:20230620T133033Z
LAST-MODIFIED:20230622T102202Z
UID:10000669-1775071800-1775080800@eenbusmeteenhart.nl
SUMMARY:Badmintonvereniging BC Hunters
DESCRIPTION:BC Hunters is een super gezellige badminton vereniging. Ze spelen iedere woensdagavond van 19.30 tot 22.30 uur. Wil je erachter komen of badminton ook iets voor jou is? Kom dan eens gratis en vrijblijvend een avondje spelen. 
URL:https://eenbusmeteenhart.nl/activiteit/badmintonvereniging-bc-hunters/2026-04-01/
LOCATION:Sportcomplex de Jager\, Parallelweg 35\, Giessen\, Gelderland\, 4283GR\, Nederland
CATEGORIES:Sporthal de Jager
ATTACH;FMTTYPE=image/png:https://eenbusmeteenhart.nl/wp-content/uploads/2023/06/BC-Hunters-logo.png
ORGANIZER;CN="Badmintonvereniging BC Hunters":MAILTO:petervanderleeden@casema.nl
END:VEVENT
BEGIN:VEVENT
DTSTART;TZID=Europe/Amsterdam:20260325T193000
DTEND;TZID=Europe/Amsterdam:20260325T220000
DTSTAMP:20260420T064315
CREATED:20230620T133033Z
LAST-MODIFIED:20230622T102202Z
UID:10000668-1774467000-1774476000@eenbusmeteenhart.nl
SUMMARY:Badmintonvereniging BC Hunters
DESCRIPTION:BC Hunters is een super gezellige badminton vereniging. Ze spelen iedere woensdagavond van 19.30 tot 22.30 uur. Wil je erachter komen of badminton ook iets voor jou is? Kom dan eens gratis en vrijblijvend een avondje spelen. 
URL:https://eenbusmeteenhart.nl/activiteit/badmintonvereniging-bc-hunters/2026-03-25/
LOCATION:Sportcomplex de Jager\, Parallelweg 35\, Giessen\, Gelderland\, 4283GR\, Nederland
CATEGORIES:Sporthal de Jager
ATTACH;FMTTYPE=image/png:https://eenbusmeteenhart.nl/wp-content/uploads/2023/06/BC-Hunters-logo.png
ORGANIZER;CN="Badmintonvereniging BC Hunters":MAILTO:petervanderleeden@casema.nl
END:VEVENT
BEGIN:VEVENT
DTSTART;TZID=Europe/Amsterdam:20260318T193000
DTEND;TZID=Europe/Amsterdam:20260318T220000
DTSTAMP:20260420T064315
CREATED:20230620T133033Z
LAST-MODIFIED:20230622T102202Z
UID:10000667-1773862200-1773871200@eenbusmeteenhart.nl
SUMMARY:Badmintonvereniging BC Hunters
DESCRIPTION:BC Hunters is een super gezellige badminton vereniging. Ze spelen iedere woensdagavond van 19.30 tot 22.30 uur. Wil je erachter komen of badminton ook iets voor jou is? Kom dan eens gratis en vrijblijvend een avondje spelen. 
URL:https://eenbusmeteenhart.nl/activiteit/badmintonvereniging-bc-hunters/2026-03-18/
LOCATION:Sportcomplex de Jager\, Parallelweg 35\, Giessen\, Gelderland\, 4283GR\, Nederland
CATEGORIES:Sporthal de Jager
ATTACH;FMTTYPE=image/png:https://eenbusmeteenhart.nl/wp-content/uploads/2023/06/BC-Hunters-logo.png
ORGANIZER;CN="Badmintonvereniging BC Hunters":MAILTO:petervanderleeden@casema.nl
END:VEVENT
BEGIN:VEVENT
DTSTART;TZID=Europe/Amsterdam:20260311T193000
DTEND;TZID=Europe/Amsterdam:20260311T220000
DTSTAMP:20260420T064315
CREATED:20230620T133033Z
LAST-MODIFIED:20230622T102202Z
UID:10000666-1773257400-1773266400@eenbusmeteenhart.nl
SUMMARY:Badmintonvereniging BC Hunters
DESCRIPTION:BC Hunters is een super gezellige badminton vereniging. Ze spelen iedere woensdagavond van 19.30 tot 22.30 uur. Wil je erachter komen of badminton ook iets voor jou is? Kom dan eens gratis en vrijblijvend een avondje spelen. 
URL:https://eenbusmeteenhart.nl/activiteit/badmintonvereniging-bc-hunters/2026-03-11/
LOCATION:Sportcomplex de Jager\, Parallelweg 35\, Giessen\, Gelderland\, 4283GR\, Nederland
CATEGORIES:Sporthal de Jager
ATTACH;FMTTYPE=image/png:https://eenbusmeteenhart.nl/wp-content/uploads/2023/06/BC-Hunters-logo.png
ORGANIZER;CN="Badmintonvereniging BC Hunters":MAILTO:petervanderleeden@casema.nl
END:VEVENT
BEGIN:VEVENT
DTSTART;TZID=Europe/Amsterdam:20260304T193000
DTEND;TZID=Europe/Amsterdam:20260304T220000
DTSTAMP:20260420T064315
CREATED:20230620T133033Z
LAST-MODIFIED:20230622T102202Z
UID:10000665-1772652600-1772661600@eenbusmeteenhart.nl
SUMMARY:Badmintonvereniging BC Hunters
DESCRIPTION:BC Hunters is een super gezellige badminton vereniging. Ze spelen iedere woensdagavond van 19.30 tot 22.30 uur. Wil je erachter komen of badminton ook iets voor jou is? Kom dan eens gratis en vrijblijvend een avondje spelen. 
URL:https://eenbusmeteenhart.nl/activiteit/badmintonvereniging-bc-hunters/2026-03-04/
LOCATION:Sportcomplex de Jager\, Parallelweg 35\, Giessen\, Gelderland\, 4283GR\, Nederland
CATEGORIES:Sporthal de Jager
ATTACH;FMTTYPE=image/png:https://eenbusmeteenhart.nl/wp-content/uploads/2023/06/BC-Hunters-logo.png
ORGANIZER;CN="Badmintonvereniging BC Hunters":MAILTO:petervanderleeden@casema.nl
END:VEVENT
BEGIN:VEVENT
DTSTART;TZID=Europe/Amsterdam:20260225T193000
DTEND;TZID=Europe/Amsterdam:20260225T220000
DTSTAMP:20260420T064315
CREATED:20230620T133033Z
LAST-MODIFIED:20230622T102202Z
UID:10000664-1772047800-1772056800@eenbusmeteenhart.nl
SUMMARY:Badmintonvereniging BC Hunters
DESCRIPTION:BC Hunters is een super gezellige badminton vereniging. Ze spelen iedere woensdagavond van 19.30 tot 22.30 uur. Wil je erachter komen of badminton ook iets voor jou is? Kom dan eens gratis en vrijblijvend een avondje spelen. 
URL:https://eenbusmeteenhart.nl/activiteit/badmintonvereniging-bc-hunters/2026-02-25/
LOCATION:Sportcomplex de Jager\, Parallelweg 35\, Giessen\, Gelderland\, 4283GR\, Nederland
CATEGORIES:Sporthal de Jager
ATTACH;FMTTYPE=image/png:https://eenbusmeteenhart.nl/wp-content/uploads/2023/06/BC-Hunters-logo.png
ORGANIZER;CN="Badmintonvereniging BC Hunters":MAILTO:petervanderleeden@casema.nl
END:VEVENT
BEGIN:VEVENT
DTSTART;TZID=Europe/Amsterdam:20260218T193000
DTEND;TZID=Europe/Amsterdam:20260218T220000
DTSTAMP:20260420T064315
CREATED:20230620T133033Z
LAST-MODIFIED:20230622T102202Z
UID:10000663-1771443000-1771452000@eenbusmeteenhart.nl
SUMMARY:Badmintonvereniging BC Hunters
DESCRIPTION:BC Hunters is een super gezellige badminton vereniging. Ze spelen iedere woensdagavond van 19.30 tot 22.30 uur. Wil je erachter komen of badminton ook iets voor jou is? Kom dan eens gratis en vrijblijvend een avondje spelen. 
URL:https://eenbusmeteenhart.nl/activiteit/badmintonvereniging-bc-hunters/2026-02-18/
LOCATION:Sportcomplex de Jager\, Parallelweg 35\, Giessen\, Gelderland\, 4283GR\, Nederland
CATEGORIES:Sporthal de Jager
ATTACH;FMTTYPE=image/png:https://eenbusmeteenhart.nl/wp-content/uploads/2023/06/BC-Hunters-logo.png
ORGANIZER;CN="Badmintonvereniging BC Hunters":MAILTO:petervanderleeden@casema.nl
END:VEVENT
BEGIN:VEVENT
DTSTART;TZID=Europe/Amsterdam:20260211T193000
DTEND;TZID=Europe/Amsterdam:20260211T220000
DTSTAMP:20260420T064315
CREATED:20230620T133033Z
LAST-MODIFIED:20230622T102202Z
UID:10000662-1770838200-1770847200@eenbusmeteenhart.nl
SUMMARY:Badmintonvereniging BC Hunters
DESCRIPTION:BC Hunters is een super gezellige badminton vereniging. Ze spelen iedere woensdagavond van 19.30 tot 22.30 uur. Wil je erachter komen of badminton ook iets voor jou is? Kom dan eens gratis en vrijblijvend een avondje spelen. 
URL:https://eenbusmeteenhart.nl/activiteit/badmintonvereniging-bc-hunters/2026-02-11/
LOCATION:Sportcomplex de Jager\, Parallelweg 35\, Giessen\, Gelderland\, 4283GR\, Nederland
CATEGORIES:Sporthal de Jager
ATTACH;FMTTYPE=image/png:https://eenbusmeteenhart.nl/wp-content/uploads/2023/06/BC-Hunters-logo.png
ORGANIZER;CN="Badmintonvereniging BC Hunters":MAILTO:petervanderleeden@casema.nl
END:VEVENT
BEGIN:VEVENT
DTSTART;TZID=Europe/Amsterdam:20260204T193000
DTEND;TZID=Europe/Amsterdam:20260204T220000
DTSTAMP:20260420T064315
CREATED:20230620T133033Z
LAST-MODIFIED:20230622T102202Z
UID:10000661-1770233400-1770242400@eenbusmeteenhart.nl
SUMMARY:Badmintonvereniging BC Hunters
DESCRIPTION:BC Hunters is een super gezellige badminton vereniging. Ze spelen iedere woensdagavond van 19.30 tot 22.30 uur. Wil je erachter komen of badminton ook iets voor jou is? Kom dan eens gratis en vrijblijvend een avondje spelen. 
URL:https://eenbusmeteenhart.nl/activiteit/badmintonvereniging-bc-hunters/2026-02-04/
LOCATION:Sportcomplex de Jager\, Parallelweg 35\, Giessen\, Gelderland\, 4283GR\, Nederland
CATEGORIES:Sporthal de Jager
ATTACH;FMTTYPE=image/png:https://eenbusmeteenhart.nl/wp-content/uploads/2023/06/BC-Hunters-logo.png
ORGANIZER;CN="Badmintonvereniging BC Hunters":MAILTO:petervanderleeden@casema.nl
END:VEVENT
BEGIN:VEVENT
DTSTART;TZID=Europe/Amsterdam:20260128T193000
DTEND;TZID=Europe/Amsterdam:20260128T220000
DTSTAMP:20260420T064315
CREATED:20230620T133033Z
LAST-MODIFIED:20230622T102202Z
UID:10000660-1769628600-1769637600@eenbusmeteenhart.nl
SUMMARY:Badmintonvereniging BC Hunters
DESCRIPTION:BC Hunters is een super gezellige badminton vereniging. Ze spelen iedere woensdagavond van 19.30 tot 22.30 uur. Wil je erachter komen of badminton ook iets voor jou is? Kom dan eens gratis en vrijblijvend een avondje spelen. 
URL:https://eenbusmeteenhart.nl/activiteit/badmintonvereniging-bc-hunters/2026-01-28/
LOCATION:Sportcomplex de Jager\, Parallelweg 35\, Giessen\, Gelderland\, 4283GR\, Nederland
CATEGORIES:Sporthal de Jager
ATTACH;FMTTYPE=image/png:https://eenbusmeteenhart.nl/wp-content/uploads/2023/06/BC-Hunters-logo.png
ORGANIZER;CN="Badmintonvereniging BC Hunters":MAILTO:petervanderleeden@casema.nl
END:VEVENT
BEGIN:VEVENT
DTSTART;TZID=Europe/Amsterdam:20260121T193000
DTEND;TZID=Europe/Amsterdam:20260121T220000
DTSTAMP:20260420T064315
CREATED:20230620T133033Z
LAST-MODIFIED:20230622T102202Z
UID:10000659-1769023800-1769032800@eenbusmeteenhart.nl
SUMMARY:Badmintonvereniging BC Hunters
DESCRIPTION:BC Hunters is een super gezellige badminton vereniging. Ze spelen iedere woensdagavond van 19.30 tot 22.30 uur. Wil je erachter komen of badminton ook iets voor jou is? Kom dan eens gratis en vrijblijvend een avondje spelen. 
URL:https://eenbusmeteenhart.nl/activiteit/badmintonvereniging-bc-hunters/2026-01-21/
LOCATION:Sportcomplex de Jager\, Parallelweg 35\, Giessen\, Gelderland\, 4283GR\, Nederland
CATEGORIES:Sporthal de Jager
ATTACH;FMTTYPE=image/png:https://eenbusmeteenhart.nl/wp-content/uploads/2023/06/BC-Hunters-logo.png
ORGANIZER;CN="Badmintonvereniging BC Hunters":MAILTO:petervanderleeden@casema.nl
END:VEVENT
BEGIN:VEVENT
DTSTART;TZID=Europe/Amsterdam:20260114T193000
DTEND;TZID=Europe/Amsterdam:20260114T220000
DTSTAMP:20260420T064315
CREATED:20230620T133033Z
LAST-MODIFIED:20230622T102202Z
UID:10000658-1768419000-1768428000@eenbusmeteenhart.nl
SUMMARY:Badmintonvereniging BC Hunters
DESCRIPTION:BC Hunters is een super gezellige badminton vereniging. Ze spelen iedere woensdagavond van 19.30 tot 22.30 uur. Wil je erachter komen of badminton ook iets voor jou is? Kom dan eens gratis en vrijblijvend een avondje spelen. 
URL:https://eenbusmeteenhart.nl/activiteit/badmintonvereniging-bc-hunters/2026-01-14/
LOCATION:Sportcomplex de Jager\, Parallelweg 35\, Giessen\, Gelderland\, 4283GR\, Nederland
CATEGORIES:Sporthal de Jager
ATTACH;FMTTYPE=image/png:https://eenbusmeteenhart.nl/wp-content/uploads/2023/06/BC-Hunters-logo.png
ORGANIZER;CN="Badmintonvereniging BC Hunters":MAILTO:petervanderleeden@casema.nl
END:VEVENT
BEGIN:VEVENT
DTSTART;TZID=Europe/Amsterdam:20260107T193000
DTEND;TZID=Europe/Amsterdam:20260107T220000
DTSTAMP:20260420T064315
CREATED:20230620T133033Z
LAST-MODIFIED:20230622T102202Z
UID:10000657-1767814200-1767823200@eenbusmeteenhart.nl
SUMMARY:Badmintonvereniging BC Hunters
DESCRIPTION:BC Hunters is een super gezellige badminton vereniging. Ze spelen iedere woensdagavond van 19.30 tot 22.30 uur. Wil je erachter komen of badminton ook iets voor jou is? Kom dan eens gratis en vrijblijvend een avondje spelen. 
URL:https://eenbusmeteenhart.nl/activiteit/badmintonvereniging-bc-hunters/2026-01-07/
LOCATION:Sportcomplex de Jager\, Parallelweg 35\, Giessen\, Gelderland\, 4283GR\, Nederland
CATEGORIES:Sporthal de Jager
ATTACH;FMTTYPE=image/png:https://eenbusmeteenhart.nl/wp-content/uploads/2023/06/BC-Hunters-logo.png
ORGANIZER;CN="Badmintonvereniging BC Hunters":MAILTO:petervanderleeden@casema.nl
END:VEVENT
BEGIN:VEVENT
DTSTART;TZID=Europe/Amsterdam:20251231T193000
DTEND;TZID=Europe/Amsterdam:20251231T220000
DTSTAMP:20260420T064316
CREATED:20230620T133033Z
LAST-MODIFIED:20230622T102202Z
UID:10000656-1767209400-1767218400@eenbusmeteenhart.nl
SUMMARY:Badmintonvereniging BC Hunters
DESCRIPTION:BC Hunters is een super gezellige badminton vereniging. Ze spelen iedere woensdagavond van 19.30 tot 22.30 uur. Wil je erachter komen of badminton ook iets voor jou is? Kom dan eens gratis en vrijblijvend een avondje spelen. 
URL:https://eenbusmeteenhart.nl/activiteit/badmintonvereniging-bc-hunters/2025-12-31/
LOCATION:Sportcomplex de Jager\, Parallelweg 35\, Giessen\, Gelderland\, 4283GR\, Nederland
CATEGORIES:Sporthal de Jager
ATTACH;FMTTYPE=image/png:https://eenbusmeteenhart.nl/wp-content/uploads/2023/06/BC-Hunters-logo.png
ORGANIZER;CN="Badmintonvereniging BC Hunters":MAILTO:petervanderleeden@casema.nl
END:VEVENT
BEGIN:VEVENT
DTSTART;TZID=Europe/Amsterdam:20251224T193000
DTEND;TZID=Europe/Amsterdam:20251224T220000
DTSTAMP:20260420T064316
CREATED:20230620T133033Z
LAST-MODIFIED:20230622T102202Z
UID:10000655-1766604600-1766613600@eenbusmeteenhart.nl
SUMMARY:Badmintonvereniging BC Hunters
DESCRIPTION:BC Hunters is een super gezellige badminton vereniging. Ze spelen iedere woensdagavond van 19.30 tot 22.30 uur. Wil je erachter komen of badminton ook iets voor jou is? Kom dan eens gratis en vrijblijvend een avondje spelen. 
URL:https://eenbusmeteenhart.nl/activiteit/badmintonvereniging-bc-hunters/2025-12-24/
LOCATION:Sportcomplex de Jager\, Parallelweg 35\, Giessen\, Gelderland\, 4283GR\, Nederland
CATEGORIES:Sporthal de Jager
ATTACH;FMTTYPE=image/png:https://eenbusmeteenhart.nl/wp-content/uploads/2023/06/BC-Hunters-logo.png
ORGANIZER;CN="Badmintonvereniging BC Hunters":MAILTO:petervanderleeden@casema.nl
END:VEVENT
BEGIN:VEVENT
DTSTART;TZID=Europe/Amsterdam:20251217T193000
DTEND;TZID=Europe/Amsterdam:20251217T220000
DTSTAMP:20260420T064316
CREATED:20230620T133033Z
LAST-MODIFIED:20230622T102202Z
UID:10000654-1765999800-1766008800@eenbusmeteenhart.nl
SUMMARY:Badmintonvereniging BC Hunters
DESCRIPTION:BC Hunters is een super gezellige badminton vereniging. Ze spelen iedere woensdagavond van 19.30 tot 22.30 uur. Wil je erachter komen of badminton ook iets voor jou is? Kom dan eens gratis en vrijblijvend een avondje spelen. 
URL:https://eenbusmeteenhart.nl/activiteit/badmintonvereniging-bc-hunters/2025-12-17/
LOCATION:Sportcomplex de Jager\, Parallelweg 35\, Giessen\, Gelderland\, 4283GR\, Nederland
CATEGORIES:Sporthal de Jager
ATTACH;FMTTYPE=image/png:https://eenbusmeteenhart.nl/wp-content/uploads/2023/06/BC-Hunters-logo.png
ORGANIZER;CN="Badmintonvereniging BC Hunters":MAILTO:petervanderleeden@casema.nl
END:VEVENT
BEGIN:VEVENT
DTSTART;TZID=Europe/Amsterdam:20251210T193000
DTEND;TZID=Europe/Amsterdam:20251210T220000
DTSTAMP:20260420T064316
CREATED:20230620T133033Z
LAST-MODIFIED:20230622T102202Z
UID:10000653-1765395000-1765404000@eenbusmeteenhart.nl
SUMMARY:Badmintonvereniging BC Hunters
DESCRIPTION:BC Hunters is een super gezellige badminton vereniging. Ze spelen iedere woensdagavond van 19.30 tot 22.30 uur. Wil je erachter komen of badminton ook iets voor jou is? Kom dan eens gratis en vrijblijvend een avondje spelen. 
URL:https://eenbusmeteenhart.nl/activiteit/badmintonvereniging-bc-hunters/2025-12-10/
LOCATION:Sportcomplex de Jager\, Parallelweg 35\, Giessen\, Gelderland\, 4283GR\, Nederland
CATEGORIES:Sporthal de Jager
ATTACH;FMTTYPE=image/png:https://eenbusmeteenhart.nl/wp-content/uploads/2023/06/BC-Hunters-logo.png
ORGANIZER;CN="Badmintonvereniging BC Hunters":MAILTO:petervanderleeden@casema.nl
END:VEVENT
BEGIN:VEVENT
DTSTART;TZID=Europe/Amsterdam:20251203T193000
DTEND;TZID=Europe/Amsterdam:20251203T220000
DTSTAMP:20260420T064316
CREATED:20230620T133033Z
LAST-MODIFIED:20230622T102202Z
UID:10000652-1764790200-1764799200@eenbusmeteenhart.nl
SUMMARY:Badmintonvereniging BC Hunters
DESCRIPTION:BC Hunters is een super gezellige badminton vereniging. Ze spelen iedere woensdagavond van 19.30 tot 22.30 uur. Wil je erachter komen of badminton ook iets voor jou is? Kom dan eens gratis en vrijblijvend een avondje spelen. 
URL:https://eenbusmeteenhart.nl/activiteit/badmintonvereniging-bc-hunters/2025-12-03/
LOCATION:Sportcomplex de Jager\, Parallelweg 35\, Giessen\, Gelderland\, 4283GR\, Nederland
CATEGORIES:Sporthal de Jager
ATTACH;FMTTYPE=image/png:https://eenbusmeteenhart.nl/wp-content/uploads/2023/06/BC-Hunters-logo.png
ORGANIZER;CN="Badmintonvereniging BC Hunters":MAILTO:petervanderleeden@casema.nl
END:VEVENT
BEGIN:VEVENT
DTSTART;TZID=Europe/Amsterdam:20251126T193000
DTEND;TZID=Europe/Amsterdam:20251126T220000
DTSTAMP:20260420T064316
CREATED:20230620T133033Z
LAST-MODIFIED:20230622T102202Z
UID:10000651-1764185400-1764194400@eenbusmeteenhart.nl
SUMMARY:Badmintonvereniging BC Hunters
DESCRIPTION:BC Hunters is een super gezellige badminton vereniging. Ze spelen iedere woensdagavond van 19.30 tot 22.30 uur. Wil je erachter komen of badminton ook iets voor jou is? Kom dan eens gratis en vrijblijvend een avondje spelen. 
URL:https://eenbusmeteenhart.nl/activiteit/badmintonvereniging-bc-hunters/2025-11-26/
LOCATION:Sportcomplex de Jager\, Parallelweg 35\, Giessen\, Gelderland\, 4283GR\, Nederland
CATEGORIES:Sporthal de Jager
ATTACH;FMTTYPE=image/png:https://eenbusmeteenhart.nl/wp-content/uploads/2023/06/BC-Hunters-logo.png
ORGANIZER;CN="Badmintonvereniging BC Hunters":MAILTO:petervanderleeden@casema.nl
END:VEVENT
BEGIN:VEVENT
DTSTART;TZID=Europe/Amsterdam:20251119T193000
DTEND;TZID=Europe/Amsterdam:20251119T220000
DTSTAMP:20260420T064316
CREATED:20230620T133033Z
LAST-MODIFIED:20230622T102202Z
UID:10000650-1763580600-1763589600@eenbusmeteenhart.nl
SUMMARY:Badmintonvereniging BC Hunters
DESCRIPTION:BC Hunters is een super gezellige badminton vereniging. Ze spelen iedere woensdagavond van 19.30 tot 22.30 uur. Wil je erachter komen of badminton ook iets voor jou is? Kom dan eens gratis en vrijblijvend een avondje spelen. 
URL:https://eenbusmeteenhart.nl/activiteit/badmintonvereniging-bc-hunters/2025-11-19/
LOCATION:Sportcomplex de Jager\, Parallelweg 35\, Giessen\, Gelderland\, 4283GR\, Nederland
CATEGORIES:Sporthal de Jager
ATTACH;FMTTYPE=image/png:https://eenbusmeteenhart.nl/wp-content/uploads/2023/06/BC-Hunters-logo.png
ORGANIZER;CN="Badmintonvereniging BC Hunters":MAILTO:petervanderleeden@casema.nl
END:VEVENT
BEGIN:VEVENT
DTSTART;TZID=Europe/Amsterdam:20251112T193000
DTEND;TZID=Europe/Amsterdam:20251112T220000
DTSTAMP:20260420T064316
CREATED:20230620T133033Z
LAST-MODIFIED:20230622T102202Z
UID:10000649-1762975800-1762984800@eenbusmeteenhart.nl
SUMMARY:Badmintonvereniging BC Hunters
DESCRIPTION:BC Hunters is een super gezellige badminton vereniging. Ze spelen iedere woensdagavond van 19.30 tot 22.30 uur. Wil je erachter komen of badminton ook iets voor jou is? Kom dan eens gratis en vrijblijvend een avondje spelen. 
URL:https://eenbusmeteenhart.nl/activiteit/badmintonvereniging-bc-hunters/2025-11-12/
LOCATION:Sportcomplex de Jager\, Parallelweg 35\, Giessen\, Gelderland\, 4283GR\, Nederland
CATEGORIES:Sporthal de Jager
ATTACH;FMTTYPE=image/png:https://eenbusmeteenhart.nl/wp-content/uploads/2023/06/BC-Hunters-logo.png
ORGANIZER;CN="Badmintonvereniging BC Hunters":MAILTO:petervanderleeden@casema.nl
END:VEVENT
BEGIN:VEVENT
DTSTART;TZID=Europe/Amsterdam:20251105T193000
DTEND;TZID=Europe/Amsterdam:20251105T220000
DTSTAMP:20260420T064316
CREATED:20230620T133033Z
LAST-MODIFIED:20230622T102202Z
UID:10000648-1762371000-1762380000@eenbusmeteenhart.nl
SUMMARY:Badmintonvereniging BC Hunters
DESCRIPTION:BC Hunters is een super gezellige badminton vereniging. Ze spelen iedere woensdagavond van 19.30 tot 22.30 uur. Wil je erachter komen of badminton ook iets voor jou is? Kom dan eens gratis en vrijblijvend een avondje spelen. 
URL:https://eenbusmeteenhart.nl/activiteit/badmintonvereniging-bc-hunters/2025-11-05/
LOCATION:Sportcomplex de Jager\, Parallelweg 35\, Giessen\, Gelderland\, 4283GR\, Nederland
CATEGORIES:Sporthal de Jager
ATTACH;FMTTYPE=image/png:https://eenbusmeteenhart.nl/wp-content/uploads/2023/06/BC-Hunters-logo.png
ORGANIZER;CN="Badmintonvereniging BC Hunters":MAILTO:petervanderleeden@casema.nl
END:VEVENT
BEGIN:VEVENT
DTSTART;TZID=Europe/Amsterdam:20251029T193000
DTEND;TZID=Europe/Amsterdam:20251029T220000
DTSTAMP:20260420T064316
CREATED:20230620T133033Z
LAST-MODIFIED:20230622T102202Z
UID:10000647-1761766200-1761775200@eenbusmeteenhart.nl
SUMMARY:Badmintonvereniging BC Hunters
DESCRIPTION:BC Hunters is een super gezellige badminton vereniging. Ze spelen iedere woensdagavond van 19.30 tot 22.30 uur. Wil je erachter komen of badminton ook iets voor jou is? Kom dan eens gratis en vrijblijvend een avondje spelen. 
URL:https://eenbusmeteenhart.nl/activiteit/badmintonvereniging-bc-hunters/2025-10-29/
LOCATION:Sportcomplex de Jager\, Parallelweg 35\, Giessen\, Gelderland\, 4283GR\, Nederland
CATEGORIES:Sporthal de Jager
ATTACH;FMTTYPE=image/png:https://eenbusmeteenhart.nl/wp-content/uploads/2023/06/BC-Hunters-logo.png
ORGANIZER;CN="Badmintonvereniging BC Hunters":MAILTO:petervanderleeden@casema.nl
END:VEVENT
BEGIN:VEVENT
DTSTART;TZID=Europe/Amsterdam:20251022T193000
DTEND;TZID=Europe/Amsterdam:20251022T220000
DTSTAMP:20260420T064316
CREATED:20230620T133033Z
LAST-MODIFIED:20230622T102202Z
UID:10000646-1761161400-1761170400@eenbusmeteenhart.nl
SUMMARY:Badmintonvereniging BC Hunters
DESCRIPTION:BC Hunters is een super gezellige badminton vereniging. Ze spelen iedere woensdagavond van 19.30 tot 22.30 uur. Wil je erachter komen of badminton ook iets voor jou is? Kom dan eens gratis en vrijblijvend een avondje spelen. 
URL:https://eenbusmeteenhart.nl/activiteit/badmintonvereniging-bc-hunters/2025-10-22/
LOCATION:Sportcomplex de Jager\, Parallelweg 35\, Giessen\, Gelderland\, 4283GR\, Nederland
CATEGORIES:Sporthal de Jager
ATTACH;FMTTYPE=image/png:https://eenbusmeteenhart.nl/wp-content/uploads/2023/06/BC-Hunters-logo.png
ORGANIZER;CN="Badmintonvereniging BC Hunters":MAILTO:petervanderleeden@casema.nl
END:VEVENT
BEGIN:VEVENT
DTSTART;TZID=Europe/Amsterdam:20251015T193000
DTEND;TZID=Europe/Amsterdam:20251015T220000
DTSTAMP:20260420T064316
CREATED:20230620T133033Z
LAST-MODIFIED:20230622T102202Z
UID:10000645-1760556600-1760565600@eenbusmeteenhart.nl
SUMMARY:Badmintonvereniging BC Hunters
DESCRIPTION:BC Hunters is een super gezellige badminton vereniging. Ze spelen iedere woensdagavond van 19.30 tot 22.30 uur. Wil je erachter komen of badminton ook iets voor jou is? Kom dan eens gratis en vrijblijvend een avondje spelen. 
URL:https://eenbusmeteenhart.nl/activiteit/badmintonvereniging-bc-hunters/2025-10-15/
LOCATION:Sportcomplex de Jager\, Parallelweg 35\, Giessen\, Gelderland\, 4283GR\, Nederland
CATEGORIES:Sporthal de Jager
ATTACH;FMTTYPE=image/png:https://eenbusmeteenhart.nl/wp-content/uploads/2023/06/BC-Hunters-logo.png
ORGANIZER;CN="Badmintonvereniging BC Hunters":MAILTO:petervanderleeden@casema.nl
END:VEVENT
BEGIN:VEVENT
DTSTART;TZID=Europe/Amsterdam:20251008T193000
DTEND;TZID=Europe/Amsterdam:20251008T220000
DTSTAMP:20260420T064316
CREATED:20230620T133033Z
LAST-MODIFIED:20230622T102202Z
UID:10000644-1759951800-1759960800@eenbusmeteenhart.nl
SUMMARY:Badmintonvereniging BC Hunters
DESCRIPTION:BC Hunters is een super gezellige badminton vereniging. Ze spelen iedere woensdagavond van 19.30 tot 22.30 uur. Wil je erachter komen of badminton ook iets voor jou is? Kom dan eens gratis en vrijblijvend een avondje spelen. 
URL:https://eenbusmeteenhart.nl/activiteit/badmintonvereniging-bc-hunters/2025-10-08/
LOCATION:Sportcomplex de Jager\, Parallelweg 35\, Giessen\, Gelderland\, 4283GR\, Nederland
CATEGORIES:Sporthal de Jager
ATTACH;FMTTYPE=image/png:https://eenbusmeteenhart.nl/wp-content/uploads/2023/06/BC-Hunters-logo.png
ORGANIZER;CN="Badmintonvereniging BC Hunters":MAILTO:petervanderleeden@casema.nl
END:VEVENT
BEGIN:VEVENT
DTSTART;TZID=Europe/Amsterdam:20251001T193000
DTEND;TZID=Europe/Amsterdam:20251001T220000
DTSTAMP:20260420T064316
CREATED:20230620T133033Z
LAST-MODIFIED:20230622T102202Z
UID:10000643-1759347000-1759356000@eenbusmeteenhart.nl
SUMMARY:Badmintonvereniging BC Hunters
DESCRIPTION:BC Hunters is een super gezellige badminton vereniging. Ze spelen iedere woensdagavond van 19.30 tot 22.30 uur. Wil je erachter komen of badminton ook iets voor jou is? Kom dan eens gratis en vrijblijvend een avondje spelen. 
URL:https://eenbusmeteenhart.nl/activiteit/badmintonvereniging-bc-hunters/2025-10-01/
LOCATION:Sportcomplex de Jager\, Parallelweg 35\, Giessen\, Gelderland\, 4283GR\, Nederland
CATEGORIES:Sporthal de Jager
ATTACH;FMTTYPE=image/png:https://eenbusmeteenhart.nl/wp-content/uploads/2023/06/BC-Hunters-logo.png
ORGANIZER;CN="Badmintonvereniging BC Hunters":MAILTO:petervanderleeden@casema.nl
END:VEVENT
BEGIN:VEVENT
DTSTART;TZID=Europe/Amsterdam:20250924T193000
DTEND;TZID=Europe/Amsterdam:20250924T220000
DTSTAMP:20260420T064316
CREATED:20230620T133033Z
LAST-MODIFIED:20230622T102202Z
UID:10000642-1758742200-1758751200@eenbusmeteenhart.nl
SUMMARY:Badmintonvereniging BC Hunters
DESCRIPTION:BC Hunters is een super gezellige badminton vereniging. Ze spelen iedere woensdagavond van 19.30 tot 22.30 uur. Wil je erachter komen of badminton ook iets voor jou is? Kom dan eens gratis en vrijblijvend een avondje spelen. 
URL:https://eenbusmeteenhart.nl/activiteit/badmintonvereniging-bc-hunters/2025-09-24/
LOCATION:Sportcomplex de Jager\, Parallelweg 35\, Giessen\, Gelderland\, 4283GR\, Nederland
CATEGORIES:Sporthal de Jager
ATTACH;FMTTYPE=image/png:https://eenbusmeteenhart.nl/wp-content/uploads/2023/06/BC-Hunters-logo.png
ORGANIZER;CN="Badmintonvereniging BC Hunters":MAILTO:petervanderleeden@casema.nl
END:VEVENT
END:VCALENDAR