BEGIN:VCALENDAR
VERSION:2.0
PRODID:-//Hartenbrigade - ECPv6.15.14//NONSGML v1.0//EN
CALSCALE:GREGORIAN
METHOD:PUBLISH
X-WR-CALNAME:Hartenbrigade
X-ORIGINAL-URL:https://eenbusmeteenhart.nl
X-WR-CALDESC:Evenementen voor Hartenbrigade
REFRESH-INTERVAL;VALUE=DURATION:PT1H
X-Robots-Tag:noindex
X-PUBLISHED-TTL:PT1H
BEGIN:VTIMEZONE
TZID:Europe/Amsterdam
BEGIN:DAYLIGHT
TZOFFSETFROM:+0100
TZOFFSETTO:+0200
TZNAME:CEST
DTSTART:20240331T010000
END:DAYLIGHT
BEGIN:STANDARD
TZOFFSETFROM:+0200
TZOFFSETTO:+0100
TZNAME:CET
DTSTART:20241027T010000
END:STANDARD
BEGIN:DAYLIGHT
TZOFFSETFROM:+0100
TZOFFSETTO:+0200
TZNAME:CEST
DTSTART:20250330T010000
END:DAYLIGHT
BEGIN:STANDARD
TZOFFSETFROM:+0200
TZOFFSETTO:+0100
TZNAME:CET
DTSTART:20251026T010000
END:STANDARD
BEGIN:DAYLIGHT
TZOFFSETFROM:+0100
TZOFFSETTO:+0200
TZNAME:CEST
DTSTART:20260329T010000
END:DAYLIGHT
BEGIN:STANDARD
TZOFFSETFROM:+0200
TZOFFSETTO:+0100
TZNAME:CET
DTSTART:20261025T010000
END:STANDARD
END:VTIMEZONE
BEGIN:VEVENT
DTSTART;TZID=Europe/Amsterdam:20251029T193000
DTEND;TZID=Europe/Amsterdam:20251029T220000
DTSTAMP:20260420T103959
CREATED:20230620T133033Z
LAST-MODIFIED:20230622T102202Z
UID:10000647-1761766200-1761775200@eenbusmeteenhart.nl
SUMMARY:Badmintonvereniging BC Hunters
DESCRIPTION:BC Hunters is een super gezellige badminton vereniging. Ze spelen iedere woensdagavond van 19.30 tot 22.30 uur. Wil je erachter komen of badminton ook iets voor jou is? Kom dan eens gratis en vrijblijvend een avondje spelen. 
URL:https://eenbusmeteenhart.nl/activiteit/badmintonvereniging-bc-hunters/2025-10-29/
LOCATION:Sportcomplex de Jager\, Parallelweg 35\, Giessen\, Gelderland\, 4283GR\, Nederland
CATEGORIES:Sporthal de Jager
ATTACH;FMTTYPE=image/png:https://eenbusmeteenhart.nl/wp-content/uploads/2023/06/BC-Hunters-logo.png
ORGANIZER;CN="Badmintonvereniging BC Hunters":MAILTO:petervanderleeden@casema.nl
END:VEVENT
BEGIN:VEVENT
DTSTART;TZID=Europe/Amsterdam:20251022T193000
DTEND;TZID=Europe/Amsterdam:20251022T220000
DTSTAMP:20260420T103959
CREATED:20230620T133033Z
LAST-MODIFIED:20230622T102202Z
UID:10000646-1761161400-1761170400@eenbusmeteenhart.nl
SUMMARY:Badmintonvereniging BC Hunters
DESCRIPTION:BC Hunters is een super gezellige badminton vereniging. Ze spelen iedere woensdagavond van 19.30 tot 22.30 uur. Wil je erachter komen of badminton ook iets voor jou is? Kom dan eens gratis en vrijblijvend een avondje spelen. 
URL:https://eenbusmeteenhart.nl/activiteit/badmintonvereniging-bc-hunters/2025-10-22/
LOCATION:Sportcomplex de Jager\, Parallelweg 35\, Giessen\, Gelderland\, 4283GR\, Nederland
CATEGORIES:Sporthal de Jager
ATTACH;FMTTYPE=image/png:https://eenbusmeteenhart.nl/wp-content/uploads/2023/06/BC-Hunters-logo.png
ORGANIZER;CN="Badmintonvereniging BC Hunters":MAILTO:petervanderleeden@casema.nl
END:VEVENT
BEGIN:VEVENT
DTSTART;TZID=Europe/Amsterdam:20251015T193000
DTEND;TZID=Europe/Amsterdam:20251015T220000
DTSTAMP:20260420T103959
CREATED:20230620T133033Z
LAST-MODIFIED:20230622T102202Z
UID:10000645-1760556600-1760565600@eenbusmeteenhart.nl
SUMMARY:Badmintonvereniging BC Hunters
DESCRIPTION:BC Hunters is een super gezellige badminton vereniging. Ze spelen iedere woensdagavond van 19.30 tot 22.30 uur. Wil je erachter komen of badminton ook iets voor jou is? Kom dan eens gratis en vrijblijvend een avondje spelen. 
URL:https://eenbusmeteenhart.nl/activiteit/badmintonvereniging-bc-hunters/2025-10-15/
LOCATION:Sportcomplex de Jager\, Parallelweg 35\, Giessen\, Gelderland\, 4283GR\, Nederland
CATEGORIES:Sporthal de Jager
ATTACH;FMTTYPE=image/png:https://eenbusmeteenhart.nl/wp-content/uploads/2023/06/BC-Hunters-logo.png
ORGANIZER;CN="Badmintonvereniging BC Hunters":MAILTO:petervanderleeden@casema.nl
END:VEVENT
BEGIN:VEVENT
DTSTART;TZID=Europe/Amsterdam:20251008T193000
DTEND;TZID=Europe/Amsterdam:20251008T220000
DTSTAMP:20260420T103959
CREATED:20230620T133033Z
LAST-MODIFIED:20230622T102202Z
UID:10000644-1759951800-1759960800@eenbusmeteenhart.nl
SUMMARY:Badmintonvereniging BC Hunters
DESCRIPTION:BC Hunters is een super gezellige badminton vereniging. Ze spelen iedere woensdagavond van 19.30 tot 22.30 uur. Wil je erachter komen of badminton ook iets voor jou is? Kom dan eens gratis en vrijblijvend een avondje spelen. 
URL:https://eenbusmeteenhart.nl/activiteit/badmintonvereniging-bc-hunters/2025-10-08/
LOCATION:Sportcomplex de Jager\, Parallelweg 35\, Giessen\, Gelderland\, 4283GR\, Nederland
CATEGORIES:Sporthal de Jager
ATTACH;FMTTYPE=image/png:https://eenbusmeteenhart.nl/wp-content/uploads/2023/06/BC-Hunters-logo.png
ORGANIZER;CN="Badmintonvereniging BC Hunters":MAILTO:petervanderleeden@casema.nl
END:VEVENT
BEGIN:VEVENT
DTSTART;TZID=Europe/Amsterdam:20251001T193000
DTEND;TZID=Europe/Amsterdam:20251001T220000
DTSTAMP:20260420T103959
CREATED:20230620T133033Z
LAST-MODIFIED:20230622T102202Z
UID:10000643-1759347000-1759356000@eenbusmeteenhart.nl
SUMMARY:Badmintonvereniging BC Hunters
DESCRIPTION:BC Hunters is een super gezellige badminton vereniging. Ze spelen iedere woensdagavond van 19.30 tot 22.30 uur. Wil je erachter komen of badminton ook iets voor jou is? Kom dan eens gratis en vrijblijvend een avondje spelen. 
URL:https://eenbusmeteenhart.nl/activiteit/badmintonvereniging-bc-hunters/2025-10-01/
LOCATION:Sportcomplex de Jager\, Parallelweg 35\, Giessen\, Gelderland\, 4283GR\, Nederland
CATEGORIES:Sporthal de Jager
ATTACH;FMTTYPE=image/png:https://eenbusmeteenhart.nl/wp-content/uploads/2023/06/BC-Hunters-logo.png
ORGANIZER;CN="Badmintonvereniging BC Hunters":MAILTO:petervanderleeden@casema.nl
END:VEVENT
BEGIN:VEVENT
DTSTART;TZID=Europe/Amsterdam:20250924T193000
DTEND;TZID=Europe/Amsterdam:20250924T220000
DTSTAMP:20260420T103959
CREATED:20230620T133033Z
LAST-MODIFIED:20230622T102202Z
UID:10000642-1758742200-1758751200@eenbusmeteenhart.nl
SUMMARY:Badmintonvereniging BC Hunters
DESCRIPTION:BC Hunters is een super gezellige badminton vereniging. Ze spelen iedere woensdagavond van 19.30 tot 22.30 uur. Wil je erachter komen of badminton ook iets voor jou is? Kom dan eens gratis en vrijblijvend een avondje spelen. 
URL:https://eenbusmeteenhart.nl/activiteit/badmintonvereniging-bc-hunters/2025-09-24/
LOCATION:Sportcomplex de Jager\, Parallelweg 35\, Giessen\, Gelderland\, 4283GR\, Nederland
CATEGORIES:Sporthal de Jager
ATTACH;FMTTYPE=image/png:https://eenbusmeteenhart.nl/wp-content/uploads/2023/06/BC-Hunters-logo.png
ORGANIZER;CN="Badmintonvereniging BC Hunters":MAILTO:petervanderleeden@casema.nl
END:VEVENT
BEGIN:VEVENT
DTSTART;TZID=Europe/Amsterdam:20250917T193000
DTEND;TZID=Europe/Amsterdam:20250917T220000
DTSTAMP:20260420T103959
CREATED:20230620T133033Z
LAST-MODIFIED:20230622T102202Z
UID:10000641-1758137400-1758146400@eenbusmeteenhart.nl
SUMMARY:Badmintonvereniging BC Hunters
DESCRIPTION:BC Hunters is een super gezellige badminton vereniging. Ze spelen iedere woensdagavond van 19.30 tot 22.30 uur. Wil je erachter komen of badminton ook iets voor jou is? Kom dan eens gratis en vrijblijvend een avondje spelen. 
URL:https://eenbusmeteenhart.nl/activiteit/badmintonvereniging-bc-hunters/2025-09-17/
LOCATION:Sportcomplex de Jager\, Parallelweg 35\, Giessen\, Gelderland\, 4283GR\, Nederland
CATEGORIES:Sporthal de Jager
ATTACH;FMTTYPE=image/png:https://eenbusmeteenhart.nl/wp-content/uploads/2023/06/BC-Hunters-logo.png
ORGANIZER;CN="Badmintonvereniging BC Hunters":MAILTO:petervanderleeden@casema.nl
END:VEVENT
BEGIN:VEVENT
DTSTART;TZID=Europe/Amsterdam:20250910T193000
DTEND;TZID=Europe/Amsterdam:20250910T220000
DTSTAMP:20260420T103959
CREATED:20230620T133033Z
LAST-MODIFIED:20230622T102202Z
UID:10000640-1757532600-1757541600@eenbusmeteenhart.nl
SUMMARY:Badmintonvereniging BC Hunters
DESCRIPTION:BC Hunters is een super gezellige badminton vereniging. Ze spelen iedere woensdagavond van 19.30 tot 22.30 uur. Wil je erachter komen of badminton ook iets voor jou is? Kom dan eens gratis en vrijblijvend een avondje spelen. 
URL:https://eenbusmeteenhart.nl/activiteit/badmintonvereniging-bc-hunters/2025-09-10/
LOCATION:Sportcomplex de Jager\, Parallelweg 35\, Giessen\, Gelderland\, 4283GR\, Nederland
CATEGORIES:Sporthal de Jager
ATTACH;FMTTYPE=image/png:https://eenbusmeteenhart.nl/wp-content/uploads/2023/06/BC-Hunters-logo.png
ORGANIZER;CN="Badmintonvereniging BC Hunters":MAILTO:petervanderleeden@casema.nl
END:VEVENT
BEGIN:VEVENT
DTSTART;TZID=Europe/Amsterdam:20250903T193000
DTEND;TZID=Europe/Amsterdam:20250903T220000
DTSTAMP:20260420T103959
CREATED:20230620T133033Z
LAST-MODIFIED:20230622T102202Z
UID:10000639-1756927800-1756936800@eenbusmeteenhart.nl
SUMMARY:Badmintonvereniging BC Hunters
DESCRIPTION:BC Hunters is een super gezellige badminton vereniging. Ze spelen iedere woensdagavond van 19.30 tot 22.30 uur. Wil je erachter komen of badminton ook iets voor jou is? Kom dan eens gratis en vrijblijvend een avondje spelen. 
URL:https://eenbusmeteenhart.nl/activiteit/badmintonvereniging-bc-hunters/2025-09-03/
LOCATION:Sportcomplex de Jager\, Parallelweg 35\, Giessen\, Gelderland\, 4283GR\, Nederland
CATEGORIES:Sporthal de Jager
ATTACH;FMTTYPE=image/png:https://eenbusmeteenhart.nl/wp-content/uploads/2023/06/BC-Hunters-logo.png
ORGANIZER;CN="Badmintonvereniging BC Hunters":MAILTO:petervanderleeden@casema.nl
END:VEVENT
BEGIN:VEVENT
DTSTART;TZID=Europe/Amsterdam:20250827T193000
DTEND;TZID=Europe/Amsterdam:20250827T220000
DTSTAMP:20260420T103959
CREATED:20230620T133033Z
LAST-MODIFIED:20230622T102202Z
UID:10000638-1756323000-1756332000@eenbusmeteenhart.nl
SUMMARY:Badmintonvereniging BC Hunters
DESCRIPTION:BC Hunters is een super gezellige badminton vereniging. Ze spelen iedere woensdagavond van 19.30 tot 22.30 uur. Wil je erachter komen of badminton ook iets voor jou is? Kom dan eens gratis en vrijblijvend een avondje spelen. 
URL:https://eenbusmeteenhart.nl/activiteit/badmintonvereniging-bc-hunters/2025-08-27/
LOCATION:Sportcomplex de Jager\, Parallelweg 35\, Giessen\, Gelderland\, 4283GR\, Nederland
CATEGORIES:Sporthal de Jager
ATTACH;FMTTYPE=image/png:https://eenbusmeteenhart.nl/wp-content/uploads/2023/06/BC-Hunters-logo.png
ORGANIZER;CN="Badmintonvereniging BC Hunters":MAILTO:petervanderleeden@casema.nl
END:VEVENT
BEGIN:VEVENT
DTSTART;TZID=Europe/Amsterdam:20250820T193000
DTEND;TZID=Europe/Amsterdam:20250820T220000
DTSTAMP:20260420T103959
CREATED:20230620T133033Z
LAST-MODIFIED:20230622T102202Z
UID:10000637-1755718200-1755727200@eenbusmeteenhart.nl
SUMMARY:Badmintonvereniging BC Hunters
DESCRIPTION:BC Hunters is een super gezellige badminton vereniging. Ze spelen iedere woensdagavond van 19.30 tot 22.30 uur. Wil je erachter komen of badminton ook iets voor jou is? Kom dan eens gratis en vrijblijvend een avondje spelen. 
URL:https://eenbusmeteenhart.nl/activiteit/badmintonvereniging-bc-hunters/2025-08-20/
LOCATION:Sportcomplex de Jager\, Parallelweg 35\, Giessen\, Gelderland\, 4283GR\, Nederland
CATEGORIES:Sporthal de Jager
ATTACH;FMTTYPE=image/png:https://eenbusmeteenhart.nl/wp-content/uploads/2023/06/BC-Hunters-logo.png
ORGANIZER;CN="Badmintonvereniging BC Hunters":MAILTO:petervanderleeden@casema.nl
END:VEVENT
BEGIN:VEVENT
DTSTART;TZID=Europe/Amsterdam:20250813T193000
DTEND;TZID=Europe/Amsterdam:20250813T220000
DTSTAMP:20260420T103959
CREATED:20230620T133033Z
LAST-MODIFIED:20230622T102202Z
UID:10000636-1755113400-1755122400@eenbusmeteenhart.nl
SUMMARY:Badmintonvereniging BC Hunters
DESCRIPTION:BC Hunters is een super gezellige badminton vereniging. Ze spelen iedere woensdagavond van 19.30 tot 22.30 uur. Wil je erachter komen of badminton ook iets voor jou is? Kom dan eens gratis en vrijblijvend een avondje spelen. 
URL:https://eenbusmeteenhart.nl/activiteit/badmintonvereniging-bc-hunters/2025-08-13/
LOCATION:Sportcomplex de Jager\, Parallelweg 35\, Giessen\, Gelderland\, 4283GR\, Nederland
CATEGORIES:Sporthal de Jager
ATTACH;FMTTYPE=image/png:https://eenbusmeteenhart.nl/wp-content/uploads/2023/06/BC-Hunters-logo.png
ORGANIZER;CN="Badmintonvereniging BC Hunters":MAILTO:petervanderleeden@casema.nl
END:VEVENT
BEGIN:VEVENT
DTSTART;TZID=Europe/Amsterdam:20250806T193000
DTEND;TZID=Europe/Amsterdam:20250806T220000
DTSTAMP:20260420T103959
CREATED:20230620T133033Z
LAST-MODIFIED:20230622T102202Z
UID:10000635-1754508600-1754517600@eenbusmeteenhart.nl
SUMMARY:Badmintonvereniging BC Hunters
DESCRIPTION:BC Hunters is een super gezellige badminton vereniging. Ze spelen iedere woensdagavond van 19.30 tot 22.30 uur. Wil je erachter komen of badminton ook iets voor jou is? Kom dan eens gratis en vrijblijvend een avondje spelen. 
URL:https://eenbusmeteenhart.nl/activiteit/badmintonvereniging-bc-hunters/2025-08-06/
LOCATION:Sportcomplex de Jager\, Parallelweg 35\, Giessen\, Gelderland\, 4283GR\, Nederland
CATEGORIES:Sporthal de Jager
ATTACH;FMTTYPE=image/png:https://eenbusmeteenhart.nl/wp-content/uploads/2023/06/BC-Hunters-logo.png
ORGANIZER;CN="Badmintonvereniging BC Hunters":MAILTO:petervanderleeden@casema.nl
END:VEVENT
BEGIN:VEVENT
DTSTART;TZID=Europe/Amsterdam:20250730T193000
DTEND;TZID=Europe/Amsterdam:20250730T220000
DTSTAMP:20260420T103959
CREATED:20230620T133033Z
LAST-MODIFIED:20230622T102202Z
UID:10000634-1753903800-1753912800@eenbusmeteenhart.nl
SUMMARY:Badmintonvereniging BC Hunters
DESCRIPTION:BC Hunters is een super gezellige badminton vereniging. Ze spelen iedere woensdagavond van 19.30 tot 22.30 uur. Wil je erachter komen of badminton ook iets voor jou is? Kom dan eens gratis en vrijblijvend een avondje spelen. 
URL:https://eenbusmeteenhart.nl/activiteit/badmintonvereniging-bc-hunters/2025-07-30/
LOCATION:Sportcomplex de Jager\, Parallelweg 35\, Giessen\, Gelderland\, 4283GR\, Nederland
CATEGORIES:Sporthal de Jager
ATTACH;FMTTYPE=image/png:https://eenbusmeteenhart.nl/wp-content/uploads/2023/06/BC-Hunters-logo.png
ORGANIZER;CN="Badmintonvereniging BC Hunters":MAILTO:petervanderleeden@casema.nl
END:VEVENT
BEGIN:VEVENT
DTSTART;TZID=Europe/Amsterdam:20250723T193000
DTEND;TZID=Europe/Amsterdam:20250723T220000
DTSTAMP:20260420T103959
CREATED:20230620T133033Z
LAST-MODIFIED:20230622T102202Z
UID:10000633-1753299000-1753308000@eenbusmeteenhart.nl
SUMMARY:Badmintonvereniging BC Hunters
DESCRIPTION:BC Hunters is een super gezellige badminton vereniging. Ze spelen iedere woensdagavond van 19.30 tot 22.30 uur. Wil je erachter komen of badminton ook iets voor jou is? Kom dan eens gratis en vrijblijvend een avondje spelen. 
URL:https://eenbusmeteenhart.nl/activiteit/badmintonvereniging-bc-hunters/2025-07-23/
LOCATION:Sportcomplex de Jager\, Parallelweg 35\, Giessen\, Gelderland\, 4283GR\, Nederland
CATEGORIES:Sporthal de Jager
ATTACH;FMTTYPE=image/png:https://eenbusmeteenhart.nl/wp-content/uploads/2023/06/BC-Hunters-logo.png
ORGANIZER;CN="Badmintonvereniging BC Hunters":MAILTO:petervanderleeden@casema.nl
END:VEVENT
BEGIN:VEVENT
DTSTART;TZID=Europe/Amsterdam:20250716T193000
DTEND;TZID=Europe/Amsterdam:20250716T220000
DTSTAMP:20260420T103959
CREATED:20230620T133033Z
LAST-MODIFIED:20230622T102202Z
UID:10000632-1752694200-1752703200@eenbusmeteenhart.nl
SUMMARY:Badmintonvereniging BC Hunters
DESCRIPTION:BC Hunters is een super gezellige badminton vereniging. Ze spelen iedere woensdagavond van 19.30 tot 22.30 uur. Wil je erachter komen of badminton ook iets voor jou is? Kom dan eens gratis en vrijblijvend een avondje spelen. 
URL:https://eenbusmeteenhart.nl/activiteit/badmintonvereniging-bc-hunters/2025-07-16/
LOCATION:Sportcomplex de Jager\, Parallelweg 35\, Giessen\, Gelderland\, 4283GR\, Nederland
CATEGORIES:Sporthal de Jager
ATTACH;FMTTYPE=image/png:https://eenbusmeteenhart.nl/wp-content/uploads/2023/06/BC-Hunters-logo.png
ORGANIZER;CN="Badmintonvereniging BC Hunters":MAILTO:petervanderleeden@casema.nl
END:VEVENT
BEGIN:VEVENT
DTSTART;TZID=Europe/Amsterdam:20250709T193000
DTEND;TZID=Europe/Amsterdam:20250709T220000
DTSTAMP:20260420T103959
CREATED:20230620T133033Z
LAST-MODIFIED:20230622T102202Z
UID:10000631-1752089400-1752098400@eenbusmeteenhart.nl
SUMMARY:Badmintonvereniging BC Hunters
DESCRIPTION:BC Hunters is een super gezellige badminton vereniging. Ze spelen iedere woensdagavond van 19.30 tot 22.30 uur. Wil je erachter komen of badminton ook iets voor jou is? Kom dan eens gratis en vrijblijvend een avondje spelen. 
URL:https://eenbusmeteenhart.nl/activiteit/badmintonvereniging-bc-hunters/2025-07-09/
LOCATION:Sportcomplex de Jager\, Parallelweg 35\, Giessen\, Gelderland\, 4283GR\, Nederland
CATEGORIES:Sporthal de Jager
ATTACH;FMTTYPE=image/png:https://eenbusmeteenhart.nl/wp-content/uploads/2023/06/BC-Hunters-logo.png
ORGANIZER;CN="Badmintonvereniging BC Hunters":MAILTO:petervanderleeden@casema.nl
END:VEVENT
BEGIN:VEVENT
DTSTART;TZID=Europe/Amsterdam:20250702T193000
DTEND;TZID=Europe/Amsterdam:20250702T220000
DTSTAMP:20260420T103959
CREATED:20230620T133033Z
LAST-MODIFIED:20230622T102202Z
UID:10000630-1751484600-1751493600@eenbusmeteenhart.nl
SUMMARY:Badmintonvereniging BC Hunters
DESCRIPTION:BC Hunters is een super gezellige badminton vereniging. Ze spelen iedere woensdagavond van 19.30 tot 22.30 uur. Wil je erachter komen of badminton ook iets voor jou is? Kom dan eens gratis en vrijblijvend een avondje spelen. 
URL:https://eenbusmeteenhart.nl/activiteit/badmintonvereniging-bc-hunters/2025-07-02/
LOCATION:Sportcomplex de Jager\, Parallelweg 35\, Giessen\, Gelderland\, 4283GR\, Nederland
CATEGORIES:Sporthal de Jager
ATTACH;FMTTYPE=image/png:https://eenbusmeteenhart.nl/wp-content/uploads/2023/06/BC-Hunters-logo.png
ORGANIZER;CN="Badmintonvereniging BC Hunters":MAILTO:petervanderleeden@casema.nl
END:VEVENT
BEGIN:VEVENT
DTSTART;TZID=Europe/Amsterdam:20250625T193000
DTEND;TZID=Europe/Amsterdam:20250625T220000
DTSTAMP:20260420T103959
CREATED:20230620T133033Z
LAST-MODIFIED:20230622T102202Z
UID:10000629-1750879800-1750888800@eenbusmeteenhart.nl
SUMMARY:Badmintonvereniging BC Hunters
DESCRIPTION:BC Hunters is een super gezellige badminton vereniging. Ze spelen iedere woensdagavond van 19.30 tot 22.30 uur. Wil je erachter komen of badminton ook iets voor jou is? Kom dan eens gratis en vrijblijvend een avondje spelen. 
URL:https://eenbusmeteenhart.nl/activiteit/badmintonvereniging-bc-hunters/2025-06-25/
LOCATION:Sportcomplex de Jager\, Parallelweg 35\, Giessen\, Gelderland\, 4283GR\, Nederland
CATEGORIES:Sporthal de Jager
ATTACH;FMTTYPE=image/png:https://eenbusmeteenhart.nl/wp-content/uploads/2023/06/BC-Hunters-logo.png
ORGANIZER;CN="Badmintonvereniging BC Hunters":MAILTO:petervanderleeden@casema.nl
END:VEVENT
BEGIN:VEVENT
DTSTART;TZID=Europe/Amsterdam:20250618T193000
DTEND;TZID=Europe/Amsterdam:20250618T220000
DTSTAMP:20260420T103959
CREATED:20230620T133033Z
LAST-MODIFIED:20230622T102202Z
UID:10000628-1750275000-1750284000@eenbusmeteenhart.nl
SUMMARY:Badmintonvereniging BC Hunters
DESCRIPTION:BC Hunters is een super gezellige badminton vereniging. Ze spelen iedere woensdagavond van 19.30 tot 22.30 uur. Wil je erachter komen of badminton ook iets voor jou is? Kom dan eens gratis en vrijblijvend een avondje spelen. 
URL:https://eenbusmeteenhart.nl/activiteit/badmintonvereniging-bc-hunters/2025-06-18/
LOCATION:Sportcomplex de Jager\, Parallelweg 35\, Giessen\, Gelderland\, 4283GR\, Nederland
CATEGORIES:Sporthal de Jager
ATTACH;FMTTYPE=image/png:https://eenbusmeteenhart.nl/wp-content/uploads/2023/06/BC-Hunters-logo.png
ORGANIZER;CN="Badmintonvereniging BC Hunters":MAILTO:petervanderleeden@casema.nl
END:VEVENT
BEGIN:VEVENT
DTSTART;TZID=Europe/Amsterdam:20250611T193000
DTEND;TZID=Europe/Amsterdam:20250611T220000
DTSTAMP:20260420T103959
CREATED:20230620T133033Z
LAST-MODIFIED:20230622T102202Z
UID:10000627-1749670200-1749679200@eenbusmeteenhart.nl
SUMMARY:Badmintonvereniging BC Hunters
DESCRIPTION:BC Hunters is een super gezellige badminton vereniging. Ze spelen iedere woensdagavond van 19.30 tot 22.30 uur. Wil je erachter komen of badminton ook iets voor jou is? Kom dan eens gratis en vrijblijvend een avondje spelen. 
URL:https://eenbusmeteenhart.nl/activiteit/badmintonvereniging-bc-hunters/2025-06-11/
LOCATION:Sportcomplex de Jager\, Parallelweg 35\, Giessen\, Gelderland\, 4283GR\, Nederland
CATEGORIES:Sporthal de Jager
ATTACH;FMTTYPE=image/png:https://eenbusmeteenhart.nl/wp-content/uploads/2023/06/BC-Hunters-logo.png
ORGANIZER;CN="Badmintonvereniging BC Hunters":MAILTO:petervanderleeden@casema.nl
END:VEVENT
BEGIN:VEVENT
DTSTART;TZID=Europe/Amsterdam:20250604T193000
DTEND;TZID=Europe/Amsterdam:20250604T220000
DTSTAMP:20260420T103959
CREATED:20230620T133033Z
LAST-MODIFIED:20230622T102202Z
UID:10000626-1749065400-1749074400@eenbusmeteenhart.nl
SUMMARY:Badmintonvereniging BC Hunters
DESCRIPTION:BC Hunters is een super gezellige badminton vereniging. Ze spelen iedere woensdagavond van 19.30 tot 22.30 uur. Wil je erachter komen of badminton ook iets voor jou is? Kom dan eens gratis en vrijblijvend een avondje spelen. 
URL:https://eenbusmeteenhart.nl/activiteit/badmintonvereniging-bc-hunters/2025-06-04/
LOCATION:Sportcomplex de Jager\, Parallelweg 35\, Giessen\, Gelderland\, 4283GR\, Nederland
CATEGORIES:Sporthal de Jager
ATTACH;FMTTYPE=image/png:https://eenbusmeteenhart.nl/wp-content/uploads/2023/06/BC-Hunters-logo.png
ORGANIZER;CN="Badmintonvereniging BC Hunters":MAILTO:petervanderleeden@casema.nl
END:VEVENT
BEGIN:VEVENT
DTSTART;TZID=Europe/Amsterdam:20250528T193000
DTEND;TZID=Europe/Amsterdam:20250528T220000
DTSTAMP:20260420T103959
CREATED:20230620T133033Z
LAST-MODIFIED:20230622T102202Z
UID:10000625-1748460600-1748469600@eenbusmeteenhart.nl
SUMMARY:Badmintonvereniging BC Hunters
DESCRIPTION:BC Hunters is een super gezellige badminton vereniging. Ze spelen iedere woensdagavond van 19.30 tot 22.30 uur. Wil je erachter komen of badminton ook iets voor jou is? Kom dan eens gratis en vrijblijvend een avondje spelen. 
URL:https://eenbusmeteenhart.nl/activiteit/badmintonvereniging-bc-hunters/2025-05-28/
LOCATION:Sportcomplex de Jager\, Parallelweg 35\, Giessen\, Gelderland\, 4283GR\, Nederland
CATEGORIES:Sporthal de Jager
ATTACH;FMTTYPE=image/png:https://eenbusmeteenhart.nl/wp-content/uploads/2023/06/BC-Hunters-logo.png
ORGANIZER;CN="Badmintonvereniging BC Hunters":MAILTO:petervanderleeden@casema.nl
END:VEVENT
BEGIN:VEVENT
DTSTART;TZID=Europe/Amsterdam:20250521T193000
DTEND;TZID=Europe/Amsterdam:20250521T220000
DTSTAMP:20260420T103959
CREATED:20230620T133033Z
LAST-MODIFIED:20230622T102202Z
UID:10000624-1747855800-1747864800@eenbusmeteenhart.nl
SUMMARY:Badmintonvereniging BC Hunters
DESCRIPTION:BC Hunters is een super gezellige badminton vereniging. Ze spelen iedere woensdagavond van 19.30 tot 22.30 uur. Wil je erachter komen of badminton ook iets voor jou is? Kom dan eens gratis en vrijblijvend een avondje spelen. 
URL:https://eenbusmeteenhart.nl/activiteit/badmintonvereniging-bc-hunters/2025-05-21/
LOCATION:Sportcomplex de Jager\, Parallelweg 35\, Giessen\, Gelderland\, 4283GR\, Nederland
CATEGORIES:Sporthal de Jager
ATTACH;FMTTYPE=image/png:https://eenbusmeteenhart.nl/wp-content/uploads/2023/06/BC-Hunters-logo.png
ORGANIZER;CN="Badmintonvereniging BC Hunters":MAILTO:petervanderleeden@casema.nl
END:VEVENT
BEGIN:VEVENT
DTSTART;TZID=Europe/Amsterdam:20250514T193000
DTEND;TZID=Europe/Amsterdam:20250514T220000
DTSTAMP:20260420T103959
CREATED:20230620T133033Z
LAST-MODIFIED:20230622T102202Z
UID:10000623-1747251000-1747260000@eenbusmeteenhart.nl
SUMMARY:Badmintonvereniging BC Hunters
DESCRIPTION:BC Hunters is een super gezellige badminton vereniging. Ze spelen iedere woensdagavond van 19.30 tot 22.30 uur. Wil je erachter komen of badminton ook iets voor jou is? Kom dan eens gratis en vrijblijvend een avondje spelen. 
URL:https://eenbusmeteenhart.nl/activiteit/badmintonvereniging-bc-hunters/2025-05-14/
LOCATION:Sportcomplex de Jager\, Parallelweg 35\, Giessen\, Gelderland\, 4283GR\, Nederland
CATEGORIES:Sporthal de Jager
ATTACH;FMTTYPE=image/png:https://eenbusmeteenhart.nl/wp-content/uploads/2023/06/BC-Hunters-logo.png
ORGANIZER;CN="Badmintonvereniging BC Hunters":MAILTO:petervanderleeden@casema.nl
END:VEVENT
BEGIN:VEVENT
DTSTART;TZID=Europe/Amsterdam:20250507T193000
DTEND;TZID=Europe/Amsterdam:20250507T220000
DTSTAMP:20260420T103959
CREATED:20230620T133033Z
LAST-MODIFIED:20230622T102202Z
UID:10000622-1746646200-1746655200@eenbusmeteenhart.nl
SUMMARY:Badmintonvereniging BC Hunters
DESCRIPTION:BC Hunters is een super gezellige badminton vereniging. Ze spelen iedere woensdagavond van 19.30 tot 22.30 uur. Wil je erachter komen of badminton ook iets voor jou is? Kom dan eens gratis en vrijblijvend een avondje spelen. 
URL:https://eenbusmeteenhart.nl/activiteit/badmintonvereniging-bc-hunters/2025-05-07/
LOCATION:Sportcomplex de Jager\, Parallelweg 35\, Giessen\, Gelderland\, 4283GR\, Nederland
CATEGORIES:Sporthal de Jager
ATTACH;FMTTYPE=image/png:https://eenbusmeteenhart.nl/wp-content/uploads/2023/06/BC-Hunters-logo.png
ORGANIZER;CN="Badmintonvereniging BC Hunters":MAILTO:petervanderleeden@casema.nl
END:VEVENT
BEGIN:VEVENT
DTSTART;TZID=Europe/Amsterdam:20250430T193000
DTEND;TZID=Europe/Amsterdam:20250430T220000
DTSTAMP:20260420T103959
CREATED:20230620T133033Z
LAST-MODIFIED:20230622T102202Z
UID:10000621-1746041400-1746050400@eenbusmeteenhart.nl
SUMMARY:Badmintonvereniging BC Hunters
DESCRIPTION:BC Hunters is een super gezellige badminton vereniging. Ze spelen iedere woensdagavond van 19.30 tot 22.30 uur. Wil je erachter komen of badminton ook iets voor jou is? Kom dan eens gratis en vrijblijvend een avondje spelen. 
URL:https://eenbusmeteenhart.nl/activiteit/badmintonvereniging-bc-hunters/2025-04-30/
LOCATION:Sportcomplex de Jager\, Parallelweg 35\, Giessen\, Gelderland\, 4283GR\, Nederland
CATEGORIES:Sporthal de Jager
ATTACH;FMTTYPE=image/png:https://eenbusmeteenhart.nl/wp-content/uploads/2023/06/BC-Hunters-logo.png
ORGANIZER;CN="Badmintonvereniging BC Hunters":MAILTO:petervanderleeden@casema.nl
END:VEVENT
BEGIN:VEVENT
DTSTART;TZID=Europe/Amsterdam:20250423T193000
DTEND;TZID=Europe/Amsterdam:20250423T220000
DTSTAMP:20260420T103959
CREATED:20230620T133033Z
LAST-MODIFIED:20230622T102202Z
UID:10000620-1745436600-1745445600@eenbusmeteenhart.nl
SUMMARY:Badmintonvereniging BC Hunters
DESCRIPTION:BC Hunters is een super gezellige badminton vereniging. Ze spelen iedere woensdagavond van 19.30 tot 22.30 uur. Wil je erachter komen of badminton ook iets voor jou is? Kom dan eens gratis en vrijblijvend een avondje spelen. 
URL:https://eenbusmeteenhart.nl/activiteit/badmintonvereniging-bc-hunters/2025-04-23/
LOCATION:Sportcomplex de Jager\, Parallelweg 35\, Giessen\, Gelderland\, 4283GR\, Nederland
CATEGORIES:Sporthal de Jager
ATTACH;FMTTYPE=image/png:https://eenbusmeteenhart.nl/wp-content/uploads/2023/06/BC-Hunters-logo.png
ORGANIZER;CN="Badmintonvereniging BC Hunters":MAILTO:petervanderleeden@casema.nl
END:VEVENT
BEGIN:VEVENT
DTSTART;TZID=Europe/Amsterdam:20250416T193000
DTEND;TZID=Europe/Amsterdam:20250416T220000
DTSTAMP:20260420T103959
CREATED:20230620T133033Z
LAST-MODIFIED:20230622T102202Z
UID:10000619-1744831800-1744840800@eenbusmeteenhart.nl
SUMMARY:Badmintonvereniging BC Hunters
DESCRIPTION:BC Hunters is een super gezellige badminton vereniging. Ze spelen iedere woensdagavond van 19.30 tot 22.30 uur. Wil je erachter komen of badminton ook iets voor jou is? Kom dan eens gratis en vrijblijvend een avondje spelen. 
URL:https://eenbusmeteenhart.nl/activiteit/badmintonvereniging-bc-hunters/2025-04-16/
LOCATION:Sportcomplex de Jager\, Parallelweg 35\, Giessen\, Gelderland\, 4283GR\, Nederland
CATEGORIES:Sporthal de Jager
ATTACH;FMTTYPE=image/png:https://eenbusmeteenhart.nl/wp-content/uploads/2023/06/BC-Hunters-logo.png
ORGANIZER;CN="Badmintonvereniging BC Hunters":MAILTO:petervanderleeden@casema.nl
END:VEVENT
BEGIN:VEVENT
DTSTART;TZID=Europe/Amsterdam:20250409T193000
DTEND;TZID=Europe/Amsterdam:20250409T220000
DTSTAMP:20260420T103959
CREATED:20230620T133033Z
LAST-MODIFIED:20230622T102202Z
UID:10000618-1744227000-1744236000@eenbusmeteenhart.nl
SUMMARY:Badmintonvereniging BC Hunters
DESCRIPTION:BC Hunters is een super gezellige badminton vereniging. Ze spelen iedere woensdagavond van 19.30 tot 22.30 uur. Wil je erachter komen of badminton ook iets voor jou is? Kom dan eens gratis en vrijblijvend een avondje spelen. 
URL:https://eenbusmeteenhart.nl/activiteit/badmintonvereniging-bc-hunters/2025-04-09/
LOCATION:Sportcomplex de Jager\, Parallelweg 35\, Giessen\, Gelderland\, 4283GR\, Nederland
CATEGORIES:Sporthal de Jager
ATTACH;FMTTYPE=image/png:https://eenbusmeteenhart.nl/wp-content/uploads/2023/06/BC-Hunters-logo.png
ORGANIZER;CN="Badmintonvereniging BC Hunters":MAILTO:petervanderleeden@casema.nl
END:VEVENT
END:VCALENDAR