BEGIN:VCALENDAR
VERSION:2.0
PRODID:-//Hartenbrigade - ECPv6.15.14//NONSGML v1.0//EN
CALSCALE:GREGORIAN
METHOD:PUBLISH
X-WR-CALNAME:Hartenbrigade
X-ORIGINAL-URL:https://eenbusmeteenhart.nl
X-WR-CALDESC:Evenementen voor Hartenbrigade
REFRESH-INTERVAL;VALUE=DURATION:PT1H
X-Robots-Tag:noindex
X-PUBLISHED-TTL:PT1H
BEGIN:VTIMEZONE
TZID:Europe/Amsterdam
BEGIN:DAYLIGHT
TZOFFSETFROM:+0100
TZOFFSETTO:+0200
TZNAME:CEST
DTSTART:20250330T010000
END:DAYLIGHT
BEGIN:STANDARD
TZOFFSETFROM:+0200
TZOFFSETTO:+0100
TZNAME:CET
DTSTART:20251026T010000
END:STANDARD
BEGIN:DAYLIGHT
TZOFFSETFROM:+0100
TZOFFSETTO:+0200
TZNAME:CEST
DTSTART:20260329T010000
END:DAYLIGHT
BEGIN:STANDARD
TZOFFSETFROM:+0200
TZOFFSETTO:+0100
TZNAME:CET
DTSTART:20261025T010000
END:STANDARD
BEGIN:DAYLIGHT
TZOFFSETFROM:+0100
TZOFFSETTO:+0200
TZNAME:CEST
DTSTART:20270328T010000
END:DAYLIGHT
BEGIN:STANDARD
TZOFFSETFROM:+0200
TZOFFSETTO:+0100
TZNAME:CET
DTSTART:20271031T010000
END:STANDARD
BEGIN:DAYLIGHT
TZOFFSETFROM:+0100
TZOFFSETTO:+0200
TZNAME:CEST
DTSTART:20280326T010000
END:DAYLIGHT
BEGIN:STANDARD
TZOFFSETFROM:+0200
TZOFFSETTO:+0100
TZNAME:CET
DTSTART:20281029T010000
END:STANDARD
END:VTIMEZONE
BEGIN:VEVENT
DTSTART;TZID=Europe/Amsterdam:20261007T193000
DTEND;TZID=Europe/Amsterdam:20261007T220000
DTSTAMP:20260420T084111
CREATED:20230620T133033Z
LAST-MODIFIED:20230622T102202Z
UID:10000696-1791401400-1791410400@eenbusmeteenhart.nl
SUMMARY:Badmintonvereniging BC Hunters
DESCRIPTION:BC Hunters is een super gezellige badminton vereniging. Ze spelen iedere woensdagavond van 19.30 tot 22.30 uur. Wil je erachter komen of badminton ook iets voor jou is? Kom dan eens gratis en vrijblijvend een avondje spelen. 
URL:https://eenbusmeteenhart.nl/activiteit/badmintonvereniging-bc-hunters/2026-10-07/
LOCATION:Sportcomplex de Jager\, Parallelweg 35\, Giessen\, Gelderland\, 4283GR\, Nederland
CATEGORIES:Sporthal de Jager
ATTACH;FMTTYPE=image/png:https://eenbusmeteenhart.nl/wp-content/uploads/2023/06/BC-Hunters-logo.png
ORGANIZER;CN="Badmintonvereniging BC Hunters":MAILTO:petervanderleeden@casema.nl
END:VEVENT
BEGIN:VEVENT
DTSTART;TZID=Europe/Amsterdam:20261014T193000
DTEND;TZID=Europe/Amsterdam:20261014T220000
DTSTAMP:20260420T084111
CREATED:20230620T133033Z
LAST-MODIFIED:20230622T102202Z
UID:10000697-1792006200-1792015200@eenbusmeteenhart.nl
SUMMARY:Badmintonvereniging BC Hunters
DESCRIPTION:BC Hunters is een super gezellige badminton vereniging. Ze spelen iedere woensdagavond van 19.30 tot 22.30 uur. Wil je erachter komen of badminton ook iets voor jou is? Kom dan eens gratis en vrijblijvend een avondje spelen. 
URL:https://eenbusmeteenhart.nl/activiteit/badmintonvereniging-bc-hunters/2026-10-14/
LOCATION:Sportcomplex de Jager\, Parallelweg 35\, Giessen\, Gelderland\, 4283GR\, Nederland
CATEGORIES:Sporthal de Jager
ATTACH;FMTTYPE=image/png:https://eenbusmeteenhart.nl/wp-content/uploads/2023/06/BC-Hunters-logo.png
ORGANIZER;CN="Badmintonvereniging BC Hunters":MAILTO:petervanderleeden@casema.nl
END:VEVENT
BEGIN:VEVENT
DTSTART;TZID=Europe/Amsterdam:20261021T193000
DTEND;TZID=Europe/Amsterdam:20261021T220000
DTSTAMP:20260420T084111
CREATED:20230620T133033Z
LAST-MODIFIED:20230622T102202Z
UID:10000698-1792611000-1792620000@eenbusmeteenhart.nl
SUMMARY:Badmintonvereniging BC Hunters
DESCRIPTION:BC Hunters is een super gezellige badminton vereniging. Ze spelen iedere woensdagavond van 19.30 tot 22.30 uur. Wil je erachter komen of badminton ook iets voor jou is? Kom dan eens gratis en vrijblijvend een avondje spelen. 
URL:https://eenbusmeteenhart.nl/activiteit/badmintonvereniging-bc-hunters/2026-10-21/
LOCATION:Sportcomplex de Jager\, Parallelweg 35\, Giessen\, Gelderland\, 4283GR\, Nederland
CATEGORIES:Sporthal de Jager
ATTACH;FMTTYPE=image/png:https://eenbusmeteenhart.nl/wp-content/uploads/2023/06/BC-Hunters-logo.png
ORGANIZER;CN="Badmintonvereniging BC Hunters":MAILTO:petervanderleeden@casema.nl
END:VEVENT
BEGIN:VEVENT
DTSTART;TZID=Europe/Amsterdam:20261028T193000
DTEND;TZID=Europe/Amsterdam:20261028T220000
DTSTAMP:20260420T084111
CREATED:20230620T133033Z
LAST-MODIFIED:20230622T102202Z
UID:10000699-1793215800-1793224800@eenbusmeteenhart.nl
SUMMARY:Badmintonvereniging BC Hunters
DESCRIPTION:BC Hunters is een super gezellige badminton vereniging. Ze spelen iedere woensdagavond van 19.30 tot 22.30 uur. Wil je erachter komen of badminton ook iets voor jou is? Kom dan eens gratis en vrijblijvend een avondje spelen. 
URL:https://eenbusmeteenhart.nl/activiteit/badmintonvereniging-bc-hunters/2026-10-28/
LOCATION:Sportcomplex de Jager\, Parallelweg 35\, Giessen\, Gelderland\, 4283GR\, Nederland
CATEGORIES:Sporthal de Jager
ATTACH;FMTTYPE=image/png:https://eenbusmeteenhart.nl/wp-content/uploads/2023/06/BC-Hunters-logo.png
ORGANIZER;CN="Badmintonvereniging BC Hunters":MAILTO:petervanderleeden@casema.nl
END:VEVENT
BEGIN:VEVENT
DTSTART;TZID=Europe/Amsterdam:20261104T193000
DTEND;TZID=Europe/Amsterdam:20261104T220000
DTSTAMP:20260420T084111
CREATED:20230620T133033Z
LAST-MODIFIED:20230622T102202Z
UID:10000700-1793820600-1793829600@eenbusmeteenhart.nl
SUMMARY:Badmintonvereniging BC Hunters
DESCRIPTION:BC Hunters is een super gezellige badminton vereniging. Ze spelen iedere woensdagavond van 19.30 tot 22.30 uur. Wil je erachter komen of badminton ook iets voor jou is? Kom dan eens gratis en vrijblijvend een avondje spelen. 
URL:https://eenbusmeteenhart.nl/activiteit/badmintonvereniging-bc-hunters/2026-11-04/
LOCATION:Sportcomplex de Jager\, Parallelweg 35\, Giessen\, Gelderland\, 4283GR\, Nederland
CATEGORIES:Sporthal de Jager
ATTACH;FMTTYPE=image/png:https://eenbusmeteenhart.nl/wp-content/uploads/2023/06/BC-Hunters-logo.png
ORGANIZER;CN="Badmintonvereniging BC Hunters":MAILTO:petervanderleeden@casema.nl
END:VEVENT
BEGIN:VEVENT
DTSTART;TZID=Europe/Amsterdam:20261111T193000
DTEND;TZID=Europe/Amsterdam:20261111T220000
DTSTAMP:20260420T084111
CREATED:20230620T133033Z
LAST-MODIFIED:20230622T102202Z
UID:10000701-1794425400-1794434400@eenbusmeteenhart.nl
SUMMARY:Badmintonvereniging BC Hunters
DESCRIPTION:BC Hunters is een super gezellige badminton vereniging. Ze spelen iedere woensdagavond van 19.30 tot 22.30 uur. Wil je erachter komen of badminton ook iets voor jou is? Kom dan eens gratis en vrijblijvend een avondje spelen. 
URL:https://eenbusmeteenhart.nl/activiteit/badmintonvereniging-bc-hunters/2026-11-11/
LOCATION:Sportcomplex de Jager\, Parallelweg 35\, Giessen\, Gelderland\, 4283GR\, Nederland
CATEGORIES:Sporthal de Jager
ATTACH;FMTTYPE=image/png:https://eenbusmeteenhart.nl/wp-content/uploads/2023/06/BC-Hunters-logo.png
ORGANIZER;CN="Badmintonvereniging BC Hunters":MAILTO:petervanderleeden@casema.nl
END:VEVENT
BEGIN:VEVENT
DTSTART;TZID=Europe/Amsterdam:20261118T193000
DTEND;TZID=Europe/Amsterdam:20261118T220000
DTSTAMP:20260420T084111
CREATED:20230620T133033Z
LAST-MODIFIED:20230622T102202Z
UID:10000702-1795030200-1795039200@eenbusmeteenhart.nl
SUMMARY:Badmintonvereniging BC Hunters
DESCRIPTION:BC Hunters is een super gezellige badminton vereniging. Ze spelen iedere woensdagavond van 19.30 tot 22.30 uur. Wil je erachter komen of badminton ook iets voor jou is? Kom dan eens gratis en vrijblijvend een avondje spelen. 
URL:https://eenbusmeteenhart.nl/activiteit/badmintonvereniging-bc-hunters/2026-11-18/
LOCATION:Sportcomplex de Jager\, Parallelweg 35\, Giessen\, Gelderland\, 4283GR\, Nederland
CATEGORIES:Sporthal de Jager
ATTACH;FMTTYPE=image/png:https://eenbusmeteenhart.nl/wp-content/uploads/2023/06/BC-Hunters-logo.png
ORGANIZER;CN="Badmintonvereniging BC Hunters":MAILTO:petervanderleeden@casema.nl
END:VEVENT
BEGIN:VEVENT
DTSTART;TZID=Europe/Amsterdam:20261125T193000
DTEND;TZID=Europe/Amsterdam:20261125T220000
DTSTAMP:20260420T084111
CREATED:20230620T133033Z
LAST-MODIFIED:20230622T102202Z
UID:10000703-1795635000-1795644000@eenbusmeteenhart.nl
SUMMARY:Badmintonvereniging BC Hunters
DESCRIPTION:BC Hunters is een super gezellige badminton vereniging. Ze spelen iedere woensdagavond van 19.30 tot 22.30 uur. Wil je erachter komen of badminton ook iets voor jou is? Kom dan eens gratis en vrijblijvend een avondje spelen. 
URL:https://eenbusmeteenhart.nl/activiteit/badmintonvereniging-bc-hunters/2026-11-25/
LOCATION:Sportcomplex de Jager\, Parallelweg 35\, Giessen\, Gelderland\, 4283GR\, Nederland
CATEGORIES:Sporthal de Jager
ATTACH;FMTTYPE=image/png:https://eenbusmeteenhart.nl/wp-content/uploads/2023/06/BC-Hunters-logo.png
ORGANIZER;CN="Badmintonvereniging BC Hunters":MAILTO:petervanderleeden@casema.nl
END:VEVENT
BEGIN:VEVENT
DTSTART;TZID=Europe/Amsterdam:20261202T193000
DTEND;TZID=Europe/Amsterdam:20261202T220000
DTSTAMP:20260420T084111
CREATED:20230620T133033Z
LAST-MODIFIED:20230622T102202Z
UID:10000704-1796239800-1796248800@eenbusmeteenhart.nl
SUMMARY:Badmintonvereniging BC Hunters
DESCRIPTION:BC Hunters is een super gezellige badminton vereniging. Ze spelen iedere woensdagavond van 19.30 tot 22.30 uur. Wil je erachter komen of badminton ook iets voor jou is? Kom dan eens gratis en vrijblijvend een avondje spelen. 
URL:https://eenbusmeteenhart.nl/activiteit/badmintonvereniging-bc-hunters/2026-12-02/
LOCATION:Sportcomplex de Jager\, Parallelweg 35\, Giessen\, Gelderland\, 4283GR\, Nederland
CATEGORIES:Sporthal de Jager
ATTACH;FMTTYPE=image/png:https://eenbusmeteenhart.nl/wp-content/uploads/2023/06/BC-Hunters-logo.png
ORGANIZER;CN="Badmintonvereniging BC Hunters":MAILTO:petervanderleeden@casema.nl
END:VEVENT
BEGIN:VEVENT
DTSTART;TZID=Europe/Amsterdam:20261209T193000
DTEND;TZID=Europe/Amsterdam:20261209T220000
DTSTAMP:20260420T084111
CREATED:20230620T133033Z
LAST-MODIFIED:20230622T102202Z
UID:10000705-1796844600-1796853600@eenbusmeteenhart.nl
SUMMARY:Badmintonvereniging BC Hunters
DESCRIPTION:BC Hunters is een super gezellige badminton vereniging. Ze spelen iedere woensdagavond van 19.30 tot 22.30 uur. Wil je erachter komen of badminton ook iets voor jou is? Kom dan eens gratis en vrijblijvend een avondje spelen. 
URL:https://eenbusmeteenhart.nl/activiteit/badmintonvereniging-bc-hunters/2026-12-09/
LOCATION:Sportcomplex de Jager\, Parallelweg 35\, Giessen\, Gelderland\, 4283GR\, Nederland
CATEGORIES:Sporthal de Jager
ATTACH;FMTTYPE=image/png:https://eenbusmeteenhart.nl/wp-content/uploads/2023/06/BC-Hunters-logo.png
ORGANIZER;CN="Badmintonvereniging BC Hunters":MAILTO:petervanderleeden@casema.nl
END:VEVENT
BEGIN:VEVENT
DTSTART;TZID=Europe/Amsterdam:20261216T193000
DTEND;TZID=Europe/Amsterdam:20261216T220000
DTSTAMP:20260420T084111
CREATED:20230620T133033Z
LAST-MODIFIED:20230622T102202Z
UID:10000706-1797449400-1797458400@eenbusmeteenhart.nl
SUMMARY:Badmintonvereniging BC Hunters
DESCRIPTION:BC Hunters is een super gezellige badminton vereniging. Ze spelen iedere woensdagavond van 19.30 tot 22.30 uur. Wil je erachter komen of badminton ook iets voor jou is? Kom dan eens gratis en vrijblijvend een avondje spelen. 
URL:https://eenbusmeteenhart.nl/activiteit/badmintonvereniging-bc-hunters/2026-12-16/
LOCATION:Sportcomplex de Jager\, Parallelweg 35\, Giessen\, Gelderland\, 4283GR\, Nederland
CATEGORIES:Sporthal de Jager
ATTACH;FMTTYPE=image/png:https://eenbusmeteenhart.nl/wp-content/uploads/2023/06/BC-Hunters-logo.png
ORGANIZER;CN="Badmintonvereniging BC Hunters":MAILTO:petervanderleeden@casema.nl
END:VEVENT
BEGIN:VEVENT
DTSTART;TZID=Europe/Amsterdam:20261223T193000
DTEND;TZID=Europe/Amsterdam:20261223T220000
DTSTAMP:20260420T084111
CREATED:20230620T133033Z
LAST-MODIFIED:20230622T102202Z
UID:10000707-1798054200-1798063200@eenbusmeteenhart.nl
SUMMARY:Badmintonvereniging BC Hunters
DESCRIPTION:BC Hunters is een super gezellige badminton vereniging. Ze spelen iedere woensdagavond van 19.30 tot 22.30 uur. Wil je erachter komen of badminton ook iets voor jou is? Kom dan eens gratis en vrijblijvend een avondje spelen. 
URL:https://eenbusmeteenhart.nl/activiteit/badmintonvereniging-bc-hunters/2026-12-23/
LOCATION:Sportcomplex de Jager\, Parallelweg 35\, Giessen\, Gelderland\, 4283GR\, Nederland
CATEGORIES:Sporthal de Jager
ATTACH;FMTTYPE=image/png:https://eenbusmeteenhart.nl/wp-content/uploads/2023/06/BC-Hunters-logo.png
ORGANIZER;CN="Badmintonvereniging BC Hunters":MAILTO:petervanderleeden@casema.nl
END:VEVENT
BEGIN:VEVENT
DTSTART;TZID=Europe/Amsterdam:20261230T193000
DTEND;TZID=Europe/Amsterdam:20261230T220000
DTSTAMP:20260420T084111
CREATED:20230620T133033Z
LAST-MODIFIED:20230622T102202Z
UID:10000708-1798659000-1798668000@eenbusmeteenhart.nl
SUMMARY:Badmintonvereniging BC Hunters
DESCRIPTION:BC Hunters is een super gezellige badminton vereniging. Ze spelen iedere woensdagavond van 19.30 tot 22.30 uur. Wil je erachter komen of badminton ook iets voor jou is? Kom dan eens gratis en vrijblijvend een avondje spelen. 
URL:https://eenbusmeteenhart.nl/activiteit/badmintonvereniging-bc-hunters/2026-12-30/
LOCATION:Sportcomplex de Jager\, Parallelweg 35\, Giessen\, Gelderland\, 4283GR\, Nederland
CATEGORIES:Sporthal de Jager
ATTACH;FMTTYPE=image/png:https://eenbusmeteenhart.nl/wp-content/uploads/2023/06/BC-Hunters-logo.png
ORGANIZER;CN="Badmintonvereniging BC Hunters":MAILTO:petervanderleeden@casema.nl
END:VEVENT
BEGIN:VEVENT
DTSTART;TZID=Europe/Amsterdam:20270106T193000
DTEND;TZID=Europe/Amsterdam:20270106T220000
DTSTAMP:20260420T084111
CREATED:20230620T133033Z
LAST-MODIFIED:20230622T102202Z
UID:10000709-1799263800-1799272800@eenbusmeteenhart.nl
SUMMARY:Badmintonvereniging BC Hunters
DESCRIPTION:BC Hunters is een super gezellige badminton vereniging. Ze spelen iedere woensdagavond van 19.30 tot 22.30 uur. Wil je erachter komen of badminton ook iets voor jou is? Kom dan eens gratis en vrijblijvend een avondje spelen. 
URL:https://eenbusmeteenhart.nl/activiteit/badmintonvereniging-bc-hunters/2027-01-06/
LOCATION:Sportcomplex de Jager\, Parallelweg 35\, Giessen\, Gelderland\, 4283GR\, Nederland
CATEGORIES:Sporthal de Jager
ATTACH;FMTTYPE=image/png:https://eenbusmeteenhart.nl/wp-content/uploads/2023/06/BC-Hunters-logo.png
ORGANIZER;CN="Badmintonvereniging BC Hunters":MAILTO:petervanderleeden@casema.nl
END:VEVENT
BEGIN:VEVENT
DTSTART;TZID=Europe/Amsterdam:20270113T193000
DTEND;TZID=Europe/Amsterdam:20270113T220000
DTSTAMP:20260420T084111
CREATED:20230620T133033Z
LAST-MODIFIED:20230622T102202Z
UID:10000710-1799868600-1799877600@eenbusmeteenhart.nl
SUMMARY:Badmintonvereniging BC Hunters
DESCRIPTION:BC Hunters is een super gezellige badminton vereniging. Ze spelen iedere woensdagavond van 19.30 tot 22.30 uur. Wil je erachter komen of badminton ook iets voor jou is? Kom dan eens gratis en vrijblijvend een avondje spelen. 
URL:https://eenbusmeteenhart.nl/activiteit/badmintonvereniging-bc-hunters/2027-01-13/
LOCATION:Sportcomplex de Jager\, Parallelweg 35\, Giessen\, Gelderland\, 4283GR\, Nederland
CATEGORIES:Sporthal de Jager
ATTACH;FMTTYPE=image/png:https://eenbusmeteenhart.nl/wp-content/uploads/2023/06/BC-Hunters-logo.png
ORGANIZER;CN="Badmintonvereniging BC Hunters":MAILTO:petervanderleeden@casema.nl
END:VEVENT
BEGIN:VEVENT
DTSTART;TZID=Europe/Amsterdam:20270120T193000
DTEND;TZID=Europe/Amsterdam:20270120T220000
DTSTAMP:20260420T084111
CREATED:20230620T133033Z
LAST-MODIFIED:20230622T102202Z
UID:10000711-1800473400-1800482400@eenbusmeteenhart.nl
SUMMARY:Badmintonvereniging BC Hunters
DESCRIPTION:BC Hunters is een super gezellige badminton vereniging. Ze spelen iedere woensdagavond van 19.30 tot 22.30 uur. Wil je erachter komen of badminton ook iets voor jou is? Kom dan eens gratis en vrijblijvend een avondje spelen. 
URL:https://eenbusmeteenhart.nl/activiteit/badmintonvereniging-bc-hunters/2027-01-20/
LOCATION:Sportcomplex de Jager\, Parallelweg 35\, Giessen\, Gelderland\, 4283GR\, Nederland
CATEGORIES:Sporthal de Jager
ATTACH;FMTTYPE=image/png:https://eenbusmeteenhart.nl/wp-content/uploads/2023/06/BC-Hunters-logo.png
ORGANIZER;CN="Badmintonvereniging BC Hunters":MAILTO:petervanderleeden@casema.nl
END:VEVENT
BEGIN:VEVENT
DTSTART;TZID=Europe/Amsterdam:20270127T193000
DTEND;TZID=Europe/Amsterdam:20270127T220000
DTSTAMP:20260420T084111
CREATED:20230620T133033Z
LAST-MODIFIED:20230622T102202Z
UID:10000712-1801078200-1801087200@eenbusmeteenhart.nl
SUMMARY:Badmintonvereniging BC Hunters
DESCRIPTION:BC Hunters is een super gezellige badminton vereniging. Ze spelen iedere woensdagavond van 19.30 tot 22.30 uur. Wil je erachter komen of badminton ook iets voor jou is? Kom dan eens gratis en vrijblijvend een avondje spelen. 
URL:https://eenbusmeteenhart.nl/activiteit/badmintonvereniging-bc-hunters/2027-01-27/
LOCATION:Sportcomplex de Jager\, Parallelweg 35\, Giessen\, Gelderland\, 4283GR\, Nederland
CATEGORIES:Sporthal de Jager
ATTACH;FMTTYPE=image/png:https://eenbusmeteenhart.nl/wp-content/uploads/2023/06/BC-Hunters-logo.png
ORGANIZER;CN="Badmintonvereniging BC Hunters":MAILTO:petervanderleeden@casema.nl
END:VEVENT
BEGIN:VEVENT
DTSTART;TZID=Europe/Amsterdam:20270203T193000
DTEND;TZID=Europe/Amsterdam:20270203T220000
DTSTAMP:20260420T084111
CREATED:20230620T133033Z
LAST-MODIFIED:20230622T102202Z
UID:10000713-1801683000-1801692000@eenbusmeteenhart.nl
SUMMARY:Badmintonvereniging BC Hunters
DESCRIPTION:BC Hunters is een super gezellige badminton vereniging. Ze spelen iedere woensdagavond van 19.30 tot 22.30 uur. Wil je erachter komen of badminton ook iets voor jou is? Kom dan eens gratis en vrijblijvend een avondje spelen. 
URL:https://eenbusmeteenhart.nl/activiteit/badmintonvereniging-bc-hunters/2027-02-03/
LOCATION:Sportcomplex de Jager\, Parallelweg 35\, Giessen\, Gelderland\, 4283GR\, Nederland
CATEGORIES:Sporthal de Jager
ATTACH;FMTTYPE=image/png:https://eenbusmeteenhart.nl/wp-content/uploads/2023/06/BC-Hunters-logo.png
ORGANIZER;CN="Badmintonvereniging BC Hunters":MAILTO:petervanderleeden@casema.nl
END:VEVENT
BEGIN:VEVENT
DTSTART;TZID=Europe/Amsterdam:20270210T193000
DTEND;TZID=Europe/Amsterdam:20270210T220000
DTSTAMP:20260420T084111
CREATED:20230620T133033Z
LAST-MODIFIED:20230622T102202Z
UID:10000714-1802287800-1802296800@eenbusmeteenhart.nl
SUMMARY:Badmintonvereniging BC Hunters
DESCRIPTION:BC Hunters is een super gezellige badminton vereniging. Ze spelen iedere woensdagavond van 19.30 tot 22.30 uur. Wil je erachter komen of badminton ook iets voor jou is? Kom dan eens gratis en vrijblijvend een avondje spelen. 
URL:https://eenbusmeteenhart.nl/activiteit/badmintonvereniging-bc-hunters/2027-02-10/
LOCATION:Sportcomplex de Jager\, Parallelweg 35\, Giessen\, Gelderland\, 4283GR\, Nederland
CATEGORIES:Sporthal de Jager
ATTACH;FMTTYPE=image/png:https://eenbusmeteenhart.nl/wp-content/uploads/2023/06/BC-Hunters-logo.png
ORGANIZER;CN="Badmintonvereniging BC Hunters":MAILTO:petervanderleeden@casema.nl
END:VEVENT
BEGIN:VEVENT
DTSTART;TZID=Europe/Amsterdam:20270217T193000
DTEND;TZID=Europe/Amsterdam:20270217T220000
DTSTAMP:20260420T084111
CREATED:20230620T133033Z
LAST-MODIFIED:20230622T102202Z
UID:10000715-1802892600-1802901600@eenbusmeteenhart.nl
SUMMARY:Badmintonvereniging BC Hunters
DESCRIPTION:BC Hunters is een super gezellige badminton vereniging. Ze spelen iedere woensdagavond van 19.30 tot 22.30 uur. Wil je erachter komen of badminton ook iets voor jou is? Kom dan eens gratis en vrijblijvend een avondje spelen. 
URL:https://eenbusmeteenhart.nl/activiteit/badmintonvereniging-bc-hunters/2027-02-17/
LOCATION:Sportcomplex de Jager\, Parallelweg 35\, Giessen\, Gelderland\, 4283GR\, Nederland
CATEGORIES:Sporthal de Jager
ATTACH;FMTTYPE=image/png:https://eenbusmeteenhart.nl/wp-content/uploads/2023/06/BC-Hunters-logo.png
ORGANIZER;CN="Badmintonvereniging BC Hunters":MAILTO:petervanderleeden@casema.nl
END:VEVENT
BEGIN:VEVENT
DTSTART;TZID=Europe/Amsterdam:20270224T193000
DTEND;TZID=Europe/Amsterdam:20270224T220000
DTSTAMP:20260420T084111
CREATED:20230620T133033Z
LAST-MODIFIED:20230622T102202Z
UID:10000716-1803497400-1803506400@eenbusmeteenhart.nl
SUMMARY:Badmintonvereniging BC Hunters
DESCRIPTION:BC Hunters is een super gezellige badminton vereniging. Ze spelen iedere woensdagavond van 19.30 tot 22.30 uur. Wil je erachter komen of badminton ook iets voor jou is? Kom dan eens gratis en vrijblijvend een avondje spelen. 
URL:https://eenbusmeteenhart.nl/activiteit/badmintonvereniging-bc-hunters/2027-02-24/
LOCATION:Sportcomplex de Jager\, Parallelweg 35\, Giessen\, Gelderland\, 4283GR\, Nederland
CATEGORIES:Sporthal de Jager
ATTACH;FMTTYPE=image/png:https://eenbusmeteenhart.nl/wp-content/uploads/2023/06/BC-Hunters-logo.png
ORGANIZER;CN="Badmintonvereniging BC Hunters":MAILTO:petervanderleeden@casema.nl
END:VEVENT
BEGIN:VEVENT
DTSTART;TZID=Europe/Amsterdam:20270303T193000
DTEND;TZID=Europe/Amsterdam:20270303T220000
DTSTAMP:20260420T084111
CREATED:20230620T133033Z
LAST-MODIFIED:20230622T102202Z
UID:10000717-1804102200-1804111200@eenbusmeteenhart.nl
SUMMARY:Badmintonvereniging BC Hunters
DESCRIPTION:BC Hunters is een super gezellige badminton vereniging. Ze spelen iedere woensdagavond van 19.30 tot 22.30 uur. Wil je erachter komen of badminton ook iets voor jou is? Kom dan eens gratis en vrijblijvend een avondje spelen. 
URL:https://eenbusmeteenhart.nl/activiteit/badmintonvereniging-bc-hunters/2027-03-03/
LOCATION:Sportcomplex de Jager\, Parallelweg 35\, Giessen\, Gelderland\, 4283GR\, Nederland
CATEGORIES:Sporthal de Jager
ATTACH;FMTTYPE=image/png:https://eenbusmeteenhart.nl/wp-content/uploads/2023/06/BC-Hunters-logo.png
ORGANIZER;CN="Badmintonvereniging BC Hunters":MAILTO:petervanderleeden@casema.nl
END:VEVENT
BEGIN:VEVENT
DTSTART;TZID=Europe/Amsterdam:20270310T193000
DTEND;TZID=Europe/Amsterdam:20270310T220000
DTSTAMP:20260420T084111
CREATED:20230620T133033Z
LAST-MODIFIED:20230622T102202Z
UID:10000718-1804707000-1804716000@eenbusmeteenhart.nl
SUMMARY:Badmintonvereniging BC Hunters
DESCRIPTION:BC Hunters is een super gezellige badminton vereniging. Ze spelen iedere woensdagavond van 19.30 tot 22.30 uur. Wil je erachter komen of badminton ook iets voor jou is? Kom dan eens gratis en vrijblijvend een avondje spelen. 
URL:https://eenbusmeteenhart.nl/activiteit/badmintonvereniging-bc-hunters/2027-03-10/
LOCATION:Sportcomplex de Jager\, Parallelweg 35\, Giessen\, Gelderland\, 4283GR\, Nederland
CATEGORIES:Sporthal de Jager
ATTACH;FMTTYPE=image/png:https://eenbusmeteenhart.nl/wp-content/uploads/2023/06/BC-Hunters-logo.png
ORGANIZER;CN="Badmintonvereniging BC Hunters":MAILTO:petervanderleeden@casema.nl
END:VEVENT
BEGIN:VEVENT
DTSTART;TZID=Europe/Amsterdam:20270317T193000
DTEND;TZID=Europe/Amsterdam:20270317T220000
DTSTAMP:20260420T084111
CREATED:20230620T133033Z
LAST-MODIFIED:20230622T102202Z
UID:10000719-1805311800-1805320800@eenbusmeteenhart.nl
SUMMARY:Badmintonvereniging BC Hunters
DESCRIPTION:BC Hunters is een super gezellige badminton vereniging. Ze spelen iedere woensdagavond van 19.30 tot 22.30 uur. Wil je erachter komen of badminton ook iets voor jou is? Kom dan eens gratis en vrijblijvend een avondje spelen. 
URL:https://eenbusmeteenhart.nl/activiteit/badmintonvereniging-bc-hunters/2027-03-17/
LOCATION:Sportcomplex de Jager\, Parallelweg 35\, Giessen\, Gelderland\, 4283GR\, Nederland
CATEGORIES:Sporthal de Jager
ATTACH;FMTTYPE=image/png:https://eenbusmeteenhart.nl/wp-content/uploads/2023/06/BC-Hunters-logo.png
ORGANIZER;CN="Badmintonvereniging BC Hunters":MAILTO:petervanderleeden@casema.nl
END:VEVENT
BEGIN:VEVENT
DTSTART;TZID=Europe/Amsterdam:20270324T193000
DTEND;TZID=Europe/Amsterdam:20270324T220000
DTSTAMP:20260420T084111
CREATED:20230620T133033Z
LAST-MODIFIED:20230622T102202Z
UID:10000720-1805916600-1805925600@eenbusmeteenhart.nl
SUMMARY:Badmintonvereniging BC Hunters
DESCRIPTION:BC Hunters is een super gezellige badminton vereniging. Ze spelen iedere woensdagavond van 19.30 tot 22.30 uur. Wil je erachter komen of badminton ook iets voor jou is? Kom dan eens gratis en vrijblijvend een avondje spelen. 
URL:https://eenbusmeteenhart.nl/activiteit/badmintonvereniging-bc-hunters/2027-03-24/
LOCATION:Sportcomplex de Jager\, Parallelweg 35\, Giessen\, Gelderland\, 4283GR\, Nederland
CATEGORIES:Sporthal de Jager
ATTACH;FMTTYPE=image/png:https://eenbusmeteenhart.nl/wp-content/uploads/2023/06/BC-Hunters-logo.png
ORGANIZER;CN="Badmintonvereniging BC Hunters":MAILTO:petervanderleeden@casema.nl
END:VEVENT
BEGIN:VEVENT
DTSTART;TZID=Europe/Amsterdam:20270331T193000
DTEND;TZID=Europe/Amsterdam:20270331T220000
DTSTAMP:20260420T084111
CREATED:20230620T133033Z
LAST-MODIFIED:20230622T102202Z
UID:10000721-1806521400-1806530400@eenbusmeteenhart.nl
SUMMARY:Badmintonvereniging BC Hunters
DESCRIPTION:BC Hunters is een super gezellige badminton vereniging. Ze spelen iedere woensdagavond van 19.30 tot 22.30 uur. Wil je erachter komen of badminton ook iets voor jou is? Kom dan eens gratis en vrijblijvend een avondje spelen. 
URL:https://eenbusmeteenhart.nl/activiteit/badmintonvereniging-bc-hunters/2027-03-31/
LOCATION:Sportcomplex de Jager\, Parallelweg 35\, Giessen\, Gelderland\, 4283GR\, Nederland
CATEGORIES:Sporthal de Jager
ATTACH;FMTTYPE=image/png:https://eenbusmeteenhart.nl/wp-content/uploads/2023/06/BC-Hunters-logo.png
ORGANIZER;CN="Badmintonvereniging BC Hunters":MAILTO:petervanderleeden@casema.nl
END:VEVENT
BEGIN:VEVENT
DTSTART;TZID=Europe/Amsterdam:20270407T193000
DTEND;TZID=Europe/Amsterdam:20270407T220000
DTSTAMP:20260420T084111
CREATED:20230620T133033Z
LAST-MODIFIED:20230622T102202Z
UID:10000722-1807126200-1807135200@eenbusmeteenhart.nl
SUMMARY:Badmintonvereniging BC Hunters
DESCRIPTION:BC Hunters is een super gezellige badminton vereniging. Ze spelen iedere woensdagavond van 19.30 tot 22.30 uur. Wil je erachter komen of badminton ook iets voor jou is? Kom dan eens gratis en vrijblijvend een avondje spelen. 
URL:https://eenbusmeteenhart.nl/activiteit/badmintonvereniging-bc-hunters/2027-04-07/
LOCATION:Sportcomplex de Jager\, Parallelweg 35\, Giessen\, Gelderland\, 4283GR\, Nederland
CATEGORIES:Sporthal de Jager
ATTACH;FMTTYPE=image/png:https://eenbusmeteenhart.nl/wp-content/uploads/2023/06/BC-Hunters-logo.png
ORGANIZER;CN="Badmintonvereniging BC Hunters":MAILTO:petervanderleeden@casema.nl
END:VEVENT
BEGIN:VEVENT
DTSTART;TZID=Europe/Amsterdam:20270414T193000
DTEND;TZID=Europe/Amsterdam:20270414T220000
DTSTAMP:20260420T084111
CREATED:20230620T133033Z
LAST-MODIFIED:20230622T102202Z
UID:10000723-1807731000-1807740000@eenbusmeteenhart.nl
SUMMARY:Badmintonvereniging BC Hunters
DESCRIPTION:BC Hunters is een super gezellige badminton vereniging. Ze spelen iedere woensdagavond van 19.30 tot 22.30 uur. Wil je erachter komen of badminton ook iets voor jou is? Kom dan eens gratis en vrijblijvend een avondje spelen. 
URL:https://eenbusmeteenhart.nl/activiteit/badmintonvereniging-bc-hunters/2027-04-14/
LOCATION:Sportcomplex de Jager\, Parallelweg 35\, Giessen\, Gelderland\, 4283GR\, Nederland
CATEGORIES:Sporthal de Jager
ATTACH;FMTTYPE=image/png:https://eenbusmeteenhart.nl/wp-content/uploads/2023/06/BC-Hunters-logo.png
ORGANIZER;CN="Badmintonvereniging BC Hunters":MAILTO:petervanderleeden@casema.nl
END:VEVENT
BEGIN:VEVENT
DTSTART;TZID=Europe/Amsterdam:20270421T193000
DTEND;TZID=Europe/Amsterdam:20270421T220000
DTSTAMP:20260420T084111
CREATED:20230620T133033Z
LAST-MODIFIED:20230622T102202Z
UID:10000724-1808335800-1808344800@eenbusmeteenhart.nl
SUMMARY:Badmintonvereniging BC Hunters
DESCRIPTION:BC Hunters is een super gezellige badminton vereniging. Ze spelen iedere woensdagavond van 19.30 tot 22.30 uur. Wil je erachter komen of badminton ook iets voor jou is? Kom dan eens gratis en vrijblijvend een avondje spelen. 
URL:https://eenbusmeteenhart.nl/activiteit/badmintonvereniging-bc-hunters/2027-04-21/
LOCATION:Sportcomplex de Jager\, Parallelweg 35\, Giessen\, Gelderland\, 4283GR\, Nederland
CATEGORIES:Sporthal de Jager
ATTACH;FMTTYPE=image/png:https://eenbusmeteenhart.nl/wp-content/uploads/2023/06/BC-Hunters-logo.png
ORGANIZER;CN="Badmintonvereniging BC Hunters":MAILTO:petervanderleeden@casema.nl
END:VEVENT
BEGIN:VEVENT
DTSTART;TZID=Europe/Amsterdam:20270428T193000
DTEND;TZID=Europe/Amsterdam:20270428T220000
DTSTAMP:20260420T084111
CREATED:20230620T133033Z
LAST-MODIFIED:20230622T102202Z
UID:10000725-1808940600-1808949600@eenbusmeteenhart.nl
SUMMARY:Badmintonvereniging BC Hunters
DESCRIPTION:BC Hunters is een super gezellige badminton vereniging. Ze spelen iedere woensdagavond van 19.30 tot 22.30 uur. Wil je erachter komen of badminton ook iets voor jou is? Kom dan eens gratis en vrijblijvend een avondje spelen. 
URL:https://eenbusmeteenhart.nl/activiteit/badmintonvereniging-bc-hunters/2027-04-28/
LOCATION:Sportcomplex de Jager\, Parallelweg 35\, Giessen\, Gelderland\, 4283GR\, Nederland
CATEGORIES:Sporthal de Jager
ATTACH;FMTTYPE=image/png:https://eenbusmeteenhart.nl/wp-content/uploads/2023/06/BC-Hunters-logo.png
ORGANIZER;CN="Badmintonvereniging BC Hunters":MAILTO:petervanderleeden@casema.nl
END:VEVENT
END:VCALENDAR