BEGIN:VCALENDAR
VERSION:2.0
PRODID:-//Hartenbrigade - ECPv6.15.14//NONSGML v1.0//EN
CALSCALE:GREGORIAN
METHOD:PUBLISH
X-WR-CALNAME:Hartenbrigade
X-ORIGINAL-URL:https://eenbusmeteenhart.nl
X-WR-CALDESC:Evenementen voor Hartenbrigade
REFRESH-INTERVAL;VALUE=DURATION:PT1H
X-Robots-Tag:noindex
X-PUBLISHED-TTL:PT1H
BEGIN:VTIMEZONE
TZID:Europe/Amsterdam
BEGIN:DAYLIGHT
TZOFFSETFROM:+0100
TZOFFSETTO:+0200
TZNAME:CEST
DTSTART:20230326T010000
END:DAYLIGHT
BEGIN:STANDARD
TZOFFSETFROM:+0200
TZOFFSETTO:+0100
TZNAME:CET
DTSTART:20231029T010000
END:STANDARD
BEGIN:DAYLIGHT
TZOFFSETFROM:+0100
TZOFFSETTO:+0200
TZNAME:CEST
DTSTART:20240331T010000
END:DAYLIGHT
BEGIN:STANDARD
TZOFFSETFROM:+0200
TZOFFSETTO:+0100
TZNAME:CET
DTSTART:20241027T010000
END:STANDARD
BEGIN:DAYLIGHT
TZOFFSETFROM:+0100
TZOFFSETTO:+0200
TZNAME:CEST
DTSTART:20250330T010000
END:DAYLIGHT
BEGIN:STANDARD
TZOFFSETFROM:+0200
TZOFFSETTO:+0100
TZNAME:CET
DTSTART:20251026T010000
END:STANDARD
BEGIN:DAYLIGHT
TZOFFSETFROM:+0100
TZOFFSETTO:+0200
TZNAME:CEST
DTSTART:20260329T010000
END:DAYLIGHT
BEGIN:STANDARD
TZOFFSETFROM:+0200
TZOFFSETTO:+0100
TZNAME:CET
DTSTART:20261025T010000
END:STANDARD
END:VTIMEZONE
BEGIN:VEVENT
DTSTART;TZID=Europe/Amsterdam:20250219T193000
DTEND;TZID=Europe/Amsterdam:20250219T220000
DTSTAMP:20260420T153118
CREATED:20230620T133033Z
LAST-MODIFIED:20230622T102202Z
UID:10000611-1739993400-1740002400@eenbusmeteenhart.nl
SUMMARY:Badmintonvereniging BC Hunters
DESCRIPTION:BC Hunters is een super gezellige badminton vereniging. Ze spelen iedere woensdagavond van 19.30 tot 22.30 uur. Wil je erachter komen of badminton ook iets voor jou is? Kom dan eens gratis en vrijblijvend een avondje spelen. 
URL:https://eenbusmeteenhart.nl/activiteit/badmintonvereniging-bc-hunters/2025-02-19/
LOCATION:Sportcomplex de Jager\, Parallelweg 35\, Giessen\, Gelderland\, 4283GR\, Nederland
CATEGORIES:Sporthal de Jager
ATTACH;FMTTYPE=image/png:https://eenbusmeteenhart.nl/wp-content/uploads/2023/06/BC-Hunters-logo.png
ORGANIZER;CN="Badmintonvereniging BC Hunters":MAILTO:petervanderleeden@casema.nl
END:VEVENT
BEGIN:VEVENT
DTSTART;TZID=Europe/Amsterdam:20250212T193000
DTEND;TZID=Europe/Amsterdam:20250212T220000
DTSTAMP:20260420T153118
CREATED:20230620T133033Z
LAST-MODIFIED:20230622T102202Z
UID:10000610-1739388600-1739397600@eenbusmeteenhart.nl
SUMMARY:Badmintonvereniging BC Hunters
DESCRIPTION:BC Hunters is een super gezellige badminton vereniging. Ze spelen iedere woensdagavond van 19.30 tot 22.30 uur. Wil je erachter komen of badminton ook iets voor jou is? Kom dan eens gratis en vrijblijvend een avondje spelen. 
URL:https://eenbusmeteenhart.nl/activiteit/badmintonvereniging-bc-hunters/2025-02-12/
LOCATION:Sportcomplex de Jager\, Parallelweg 35\, Giessen\, Gelderland\, 4283GR\, Nederland
CATEGORIES:Sporthal de Jager
ATTACH;FMTTYPE=image/png:https://eenbusmeteenhart.nl/wp-content/uploads/2023/06/BC-Hunters-logo.png
ORGANIZER;CN="Badmintonvereniging BC Hunters":MAILTO:petervanderleeden@casema.nl
END:VEVENT
BEGIN:VEVENT
DTSTART;TZID=Europe/Amsterdam:20250205T193000
DTEND;TZID=Europe/Amsterdam:20250205T220000
DTSTAMP:20260420T153118
CREATED:20230620T133033Z
LAST-MODIFIED:20230622T102202Z
UID:10000609-1738783800-1738792800@eenbusmeteenhart.nl
SUMMARY:Badmintonvereniging BC Hunters
DESCRIPTION:BC Hunters is een super gezellige badminton vereniging. Ze spelen iedere woensdagavond van 19.30 tot 22.30 uur. Wil je erachter komen of badminton ook iets voor jou is? Kom dan eens gratis en vrijblijvend een avondje spelen. 
URL:https://eenbusmeteenhart.nl/activiteit/badmintonvereniging-bc-hunters/2025-02-05/
LOCATION:Sportcomplex de Jager\, Parallelweg 35\, Giessen\, Gelderland\, 4283GR\, Nederland
CATEGORIES:Sporthal de Jager
ATTACH;FMTTYPE=image/png:https://eenbusmeteenhart.nl/wp-content/uploads/2023/06/BC-Hunters-logo.png
ORGANIZER;CN="Badmintonvereniging BC Hunters":MAILTO:petervanderleeden@casema.nl
END:VEVENT
BEGIN:VEVENT
DTSTART;TZID=Europe/Amsterdam:20250129T193000
DTEND;TZID=Europe/Amsterdam:20250129T220000
DTSTAMP:20260420T153118
CREATED:20230620T133033Z
LAST-MODIFIED:20230622T102202Z
UID:10000608-1738179000-1738188000@eenbusmeteenhart.nl
SUMMARY:Badmintonvereniging BC Hunters
DESCRIPTION:BC Hunters is een super gezellige badminton vereniging. Ze spelen iedere woensdagavond van 19.30 tot 22.30 uur. Wil je erachter komen of badminton ook iets voor jou is? Kom dan eens gratis en vrijblijvend een avondje spelen. 
URL:https://eenbusmeteenhart.nl/activiteit/badmintonvereniging-bc-hunters/2025-01-29/
LOCATION:Sportcomplex de Jager\, Parallelweg 35\, Giessen\, Gelderland\, 4283GR\, Nederland
CATEGORIES:Sporthal de Jager
ATTACH;FMTTYPE=image/png:https://eenbusmeteenhart.nl/wp-content/uploads/2023/06/BC-Hunters-logo.png
ORGANIZER;CN="Badmintonvereniging BC Hunters":MAILTO:petervanderleeden@casema.nl
END:VEVENT
BEGIN:VEVENT
DTSTART;TZID=Europe/Amsterdam:20250122T193000
DTEND;TZID=Europe/Amsterdam:20250122T220000
DTSTAMP:20260420T153118
CREATED:20230620T133033Z
LAST-MODIFIED:20230622T102202Z
UID:10000607-1737574200-1737583200@eenbusmeteenhart.nl
SUMMARY:Badmintonvereniging BC Hunters
DESCRIPTION:BC Hunters is een super gezellige badminton vereniging. Ze spelen iedere woensdagavond van 19.30 tot 22.30 uur. Wil je erachter komen of badminton ook iets voor jou is? Kom dan eens gratis en vrijblijvend een avondje spelen. 
URL:https://eenbusmeteenhart.nl/activiteit/badmintonvereniging-bc-hunters/2025-01-22/
LOCATION:Sportcomplex de Jager\, Parallelweg 35\, Giessen\, Gelderland\, 4283GR\, Nederland
CATEGORIES:Sporthal de Jager
ATTACH;FMTTYPE=image/png:https://eenbusmeteenhart.nl/wp-content/uploads/2023/06/BC-Hunters-logo.png
ORGANIZER;CN="Badmintonvereniging BC Hunters":MAILTO:petervanderleeden@casema.nl
END:VEVENT
BEGIN:VEVENT
DTSTART;TZID=Europe/Amsterdam:20250115T193000
DTEND;TZID=Europe/Amsterdam:20250115T220000
DTSTAMP:20260420T153118
CREATED:20230620T133033Z
LAST-MODIFIED:20230622T102202Z
UID:10000606-1736969400-1736978400@eenbusmeteenhart.nl
SUMMARY:Badmintonvereniging BC Hunters
DESCRIPTION:BC Hunters is een super gezellige badminton vereniging. Ze spelen iedere woensdagavond van 19.30 tot 22.30 uur. Wil je erachter komen of badminton ook iets voor jou is? Kom dan eens gratis en vrijblijvend een avondje spelen. 
URL:https://eenbusmeteenhart.nl/activiteit/badmintonvereniging-bc-hunters/2025-01-15/
LOCATION:Sportcomplex de Jager\, Parallelweg 35\, Giessen\, Gelderland\, 4283GR\, Nederland
CATEGORIES:Sporthal de Jager
ATTACH;FMTTYPE=image/png:https://eenbusmeteenhart.nl/wp-content/uploads/2023/06/BC-Hunters-logo.png
ORGANIZER;CN="Badmintonvereniging BC Hunters":MAILTO:petervanderleeden@casema.nl
END:VEVENT
BEGIN:VEVENT
DTSTART;TZID=Europe/Amsterdam:20250108T193000
DTEND;TZID=Europe/Amsterdam:20250108T220000
DTSTAMP:20260420T153118
CREATED:20230620T133033Z
LAST-MODIFIED:20230622T102202Z
UID:10000605-1736364600-1736373600@eenbusmeteenhart.nl
SUMMARY:Badmintonvereniging BC Hunters
DESCRIPTION:BC Hunters is een super gezellige badminton vereniging. Ze spelen iedere woensdagavond van 19.30 tot 22.30 uur. Wil je erachter komen of badminton ook iets voor jou is? Kom dan eens gratis en vrijblijvend een avondje spelen. 
URL:https://eenbusmeteenhart.nl/activiteit/badmintonvereniging-bc-hunters/2025-01-08/
LOCATION:Sportcomplex de Jager\, Parallelweg 35\, Giessen\, Gelderland\, 4283GR\, Nederland
CATEGORIES:Sporthal de Jager
ATTACH;FMTTYPE=image/png:https://eenbusmeteenhart.nl/wp-content/uploads/2023/06/BC-Hunters-logo.png
ORGANIZER;CN="Badmintonvereniging BC Hunters":MAILTO:petervanderleeden@casema.nl
END:VEVENT
BEGIN:VEVENT
DTSTART;TZID=Europe/Amsterdam:20250101T193000
DTEND;TZID=Europe/Amsterdam:20250101T220000
DTSTAMP:20260420T153118
CREATED:20230620T133033Z
LAST-MODIFIED:20230622T102202Z
UID:10000604-1735759800-1735768800@eenbusmeteenhart.nl
SUMMARY:Badmintonvereniging BC Hunters
DESCRIPTION:BC Hunters is een super gezellige badminton vereniging. Ze spelen iedere woensdagavond van 19.30 tot 22.30 uur. Wil je erachter komen of badminton ook iets voor jou is? Kom dan eens gratis en vrijblijvend een avondje spelen. 
URL:https://eenbusmeteenhart.nl/activiteit/badmintonvereniging-bc-hunters/2025-01-01/
LOCATION:Sportcomplex de Jager\, Parallelweg 35\, Giessen\, Gelderland\, 4283GR\, Nederland
CATEGORIES:Sporthal de Jager
ATTACH;FMTTYPE=image/png:https://eenbusmeteenhart.nl/wp-content/uploads/2023/06/BC-Hunters-logo.png
ORGANIZER;CN="Badmintonvereniging BC Hunters":MAILTO:petervanderleeden@casema.nl
END:VEVENT
BEGIN:VEVENT
DTSTART;TZID=Europe/Amsterdam:20241225T193000
DTEND;TZID=Europe/Amsterdam:20241225T220000
DTSTAMP:20260420T153118
CREATED:20230620T133033Z
LAST-MODIFIED:20230622T102202Z
UID:10000603-1735155000-1735164000@eenbusmeteenhart.nl
SUMMARY:Badmintonvereniging BC Hunters
DESCRIPTION:BC Hunters is een super gezellige badminton vereniging. Ze spelen iedere woensdagavond van 19.30 tot 22.30 uur. Wil je erachter komen of badminton ook iets voor jou is? Kom dan eens gratis en vrijblijvend een avondje spelen. 
URL:https://eenbusmeteenhart.nl/activiteit/badmintonvereniging-bc-hunters/2024-12-25/
LOCATION:Sportcomplex de Jager\, Parallelweg 35\, Giessen\, Gelderland\, 4283GR\, Nederland
CATEGORIES:Sporthal de Jager
ATTACH;FMTTYPE=image/png:https://eenbusmeteenhart.nl/wp-content/uploads/2023/06/BC-Hunters-logo.png
ORGANIZER;CN="Badmintonvereniging BC Hunters":MAILTO:petervanderleeden@casema.nl
END:VEVENT
BEGIN:VEVENT
DTSTART;TZID=Europe/Amsterdam:20241218T193000
DTEND;TZID=Europe/Amsterdam:20241218T220000
DTSTAMP:20260420T153118
CREATED:20230620T133033Z
LAST-MODIFIED:20230622T102202Z
UID:10000602-1734550200-1734559200@eenbusmeteenhart.nl
SUMMARY:Badmintonvereniging BC Hunters
DESCRIPTION:BC Hunters is een super gezellige badminton vereniging. Ze spelen iedere woensdagavond van 19.30 tot 22.30 uur. Wil je erachter komen of badminton ook iets voor jou is? Kom dan eens gratis en vrijblijvend een avondje spelen. 
URL:https://eenbusmeteenhart.nl/activiteit/badmintonvereniging-bc-hunters/2024-12-18/
LOCATION:Sportcomplex de Jager\, Parallelweg 35\, Giessen\, Gelderland\, 4283GR\, Nederland
CATEGORIES:Sporthal de Jager
ATTACH;FMTTYPE=image/png:https://eenbusmeteenhart.nl/wp-content/uploads/2023/06/BC-Hunters-logo.png
ORGANIZER;CN="Badmintonvereniging BC Hunters":MAILTO:petervanderleeden@casema.nl
END:VEVENT
BEGIN:VEVENT
DTSTART;TZID=Europe/Amsterdam:20241211T193000
DTEND;TZID=Europe/Amsterdam:20241211T220000
DTSTAMP:20260420T153118
CREATED:20230620T133033Z
LAST-MODIFIED:20230622T102202Z
UID:10000601-1733945400-1733954400@eenbusmeteenhart.nl
SUMMARY:Badmintonvereniging BC Hunters
DESCRIPTION:BC Hunters is een super gezellige badminton vereniging. Ze spelen iedere woensdagavond van 19.30 tot 22.30 uur. Wil je erachter komen of badminton ook iets voor jou is? Kom dan eens gratis en vrijblijvend een avondje spelen. 
URL:https://eenbusmeteenhart.nl/activiteit/badmintonvereniging-bc-hunters/2024-12-11/
LOCATION:Sportcomplex de Jager\, Parallelweg 35\, Giessen\, Gelderland\, 4283GR\, Nederland
CATEGORIES:Sporthal de Jager
ATTACH;FMTTYPE=image/png:https://eenbusmeteenhart.nl/wp-content/uploads/2023/06/BC-Hunters-logo.png
ORGANIZER;CN="Badmintonvereniging BC Hunters":MAILTO:petervanderleeden@casema.nl
END:VEVENT
BEGIN:VEVENT
DTSTART;TZID=Europe/Amsterdam:20241204T193000
DTEND;TZID=Europe/Amsterdam:20241204T220000
DTSTAMP:20260420T153118
CREATED:20230620T133033Z
LAST-MODIFIED:20230622T102202Z
UID:10000600-1733340600-1733349600@eenbusmeteenhart.nl
SUMMARY:Badmintonvereniging BC Hunters
DESCRIPTION:BC Hunters is een super gezellige badminton vereniging. Ze spelen iedere woensdagavond van 19.30 tot 22.30 uur. Wil je erachter komen of badminton ook iets voor jou is? Kom dan eens gratis en vrijblijvend een avondje spelen. 
URL:https://eenbusmeteenhart.nl/activiteit/badmintonvereniging-bc-hunters/2024-12-04/
LOCATION:Sportcomplex de Jager\, Parallelweg 35\, Giessen\, Gelderland\, 4283GR\, Nederland
CATEGORIES:Sporthal de Jager
ATTACH;FMTTYPE=image/png:https://eenbusmeteenhart.nl/wp-content/uploads/2023/06/BC-Hunters-logo.png
ORGANIZER;CN="Badmintonvereniging BC Hunters":MAILTO:petervanderleeden@casema.nl
END:VEVENT
BEGIN:VEVENT
DTSTART;TZID=Europe/Amsterdam:20241127T193000
DTEND;TZID=Europe/Amsterdam:20241127T220000
DTSTAMP:20260420T153118
CREATED:20230620T133033Z
LAST-MODIFIED:20230622T102202Z
UID:10000599-1732735800-1732744800@eenbusmeteenhart.nl
SUMMARY:Badmintonvereniging BC Hunters
DESCRIPTION:BC Hunters is een super gezellige badminton vereniging. Ze spelen iedere woensdagavond van 19.30 tot 22.30 uur. Wil je erachter komen of badminton ook iets voor jou is? Kom dan eens gratis en vrijblijvend een avondje spelen. 
URL:https://eenbusmeteenhart.nl/activiteit/badmintonvereniging-bc-hunters/2024-11-27/
LOCATION:Sportcomplex de Jager\, Parallelweg 35\, Giessen\, Gelderland\, 4283GR\, Nederland
CATEGORIES:Sporthal de Jager
ATTACH;FMTTYPE=image/png:https://eenbusmeteenhart.nl/wp-content/uploads/2023/06/BC-Hunters-logo.png
ORGANIZER;CN="Badmintonvereniging BC Hunters":MAILTO:petervanderleeden@casema.nl
END:VEVENT
BEGIN:VEVENT
DTSTART;TZID=Europe/Amsterdam:20241120T193000
DTEND;TZID=Europe/Amsterdam:20241120T220000
DTSTAMP:20260420T153118
CREATED:20230620T133033Z
LAST-MODIFIED:20230622T102202Z
UID:10000598-1732131000-1732140000@eenbusmeteenhart.nl
SUMMARY:Badmintonvereniging BC Hunters
DESCRIPTION:BC Hunters is een super gezellige badminton vereniging. Ze spelen iedere woensdagavond van 19.30 tot 22.30 uur. Wil je erachter komen of badminton ook iets voor jou is? Kom dan eens gratis en vrijblijvend een avondje spelen. 
URL:https://eenbusmeteenhart.nl/activiteit/badmintonvereniging-bc-hunters/2024-11-20/
LOCATION:Sportcomplex de Jager\, Parallelweg 35\, Giessen\, Gelderland\, 4283GR\, Nederland
CATEGORIES:Sporthal de Jager
ATTACH;FMTTYPE=image/png:https://eenbusmeteenhart.nl/wp-content/uploads/2023/06/BC-Hunters-logo.png
ORGANIZER;CN="Badmintonvereniging BC Hunters":MAILTO:petervanderleeden@casema.nl
END:VEVENT
BEGIN:VEVENT
DTSTART;TZID=Europe/Amsterdam:20241113T193000
DTEND;TZID=Europe/Amsterdam:20241113T220000
DTSTAMP:20260420T153118
CREATED:20230620T133033Z
LAST-MODIFIED:20230622T102202Z
UID:10000597-1731526200-1731535200@eenbusmeteenhart.nl
SUMMARY:Badmintonvereniging BC Hunters
DESCRIPTION:BC Hunters is een super gezellige badminton vereniging. Ze spelen iedere woensdagavond van 19.30 tot 22.30 uur. Wil je erachter komen of badminton ook iets voor jou is? Kom dan eens gratis en vrijblijvend een avondje spelen. 
URL:https://eenbusmeteenhart.nl/activiteit/badmintonvereniging-bc-hunters/2024-11-13/
LOCATION:Sportcomplex de Jager\, Parallelweg 35\, Giessen\, Gelderland\, 4283GR\, Nederland
CATEGORIES:Sporthal de Jager
ATTACH;FMTTYPE=image/png:https://eenbusmeteenhart.nl/wp-content/uploads/2023/06/BC-Hunters-logo.png
ORGANIZER;CN="Badmintonvereniging BC Hunters":MAILTO:petervanderleeden@casema.nl
END:VEVENT
BEGIN:VEVENT
DTSTART;TZID=Europe/Amsterdam:20241106T193000
DTEND;TZID=Europe/Amsterdam:20241106T220000
DTSTAMP:20260420T153118
CREATED:20230620T133033Z
LAST-MODIFIED:20230622T102202Z
UID:10000596-1730921400-1730930400@eenbusmeteenhart.nl
SUMMARY:Badmintonvereniging BC Hunters
DESCRIPTION:BC Hunters is een super gezellige badminton vereniging. Ze spelen iedere woensdagavond van 19.30 tot 22.30 uur. Wil je erachter komen of badminton ook iets voor jou is? Kom dan eens gratis en vrijblijvend een avondje spelen. 
URL:https://eenbusmeteenhart.nl/activiteit/badmintonvereniging-bc-hunters/2024-11-06/
LOCATION:Sportcomplex de Jager\, Parallelweg 35\, Giessen\, Gelderland\, 4283GR\, Nederland
CATEGORIES:Sporthal de Jager
ATTACH;FMTTYPE=image/png:https://eenbusmeteenhart.nl/wp-content/uploads/2023/06/BC-Hunters-logo.png
ORGANIZER;CN="Badmintonvereniging BC Hunters":MAILTO:petervanderleeden@casema.nl
END:VEVENT
BEGIN:VEVENT
DTSTART;TZID=Europe/Amsterdam:20241030T193000
DTEND;TZID=Europe/Amsterdam:20241030T220000
DTSTAMP:20260420T153118
CREATED:20230620T133033Z
LAST-MODIFIED:20230622T102202Z
UID:10000595-1730316600-1730325600@eenbusmeteenhart.nl
SUMMARY:Badmintonvereniging BC Hunters
DESCRIPTION:BC Hunters is een super gezellige badminton vereniging. Ze spelen iedere woensdagavond van 19.30 tot 22.30 uur. Wil je erachter komen of badminton ook iets voor jou is? Kom dan eens gratis en vrijblijvend een avondje spelen. 
URL:https://eenbusmeteenhart.nl/activiteit/badmintonvereniging-bc-hunters/2024-10-30/
LOCATION:Sportcomplex de Jager\, Parallelweg 35\, Giessen\, Gelderland\, 4283GR\, Nederland
CATEGORIES:Sporthal de Jager
ATTACH;FMTTYPE=image/png:https://eenbusmeteenhart.nl/wp-content/uploads/2023/06/BC-Hunters-logo.png
ORGANIZER;CN="Badmintonvereniging BC Hunters":MAILTO:petervanderleeden@casema.nl
END:VEVENT
BEGIN:VEVENT
DTSTART;TZID=Europe/Amsterdam:20241023T193000
DTEND;TZID=Europe/Amsterdam:20241023T220000
DTSTAMP:20260420T153118
CREATED:20230620T133033Z
LAST-MODIFIED:20230622T102202Z
UID:10000594-1729711800-1729720800@eenbusmeteenhart.nl
SUMMARY:Badmintonvereniging BC Hunters
DESCRIPTION:BC Hunters is een super gezellige badminton vereniging. Ze spelen iedere woensdagavond van 19.30 tot 22.30 uur. Wil je erachter komen of badminton ook iets voor jou is? Kom dan eens gratis en vrijblijvend een avondje spelen. 
URL:https://eenbusmeteenhart.nl/activiteit/badmintonvereniging-bc-hunters/2024-10-23/
LOCATION:Sportcomplex de Jager\, Parallelweg 35\, Giessen\, Gelderland\, 4283GR\, Nederland
CATEGORIES:Sporthal de Jager
ATTACH;FMTTYPE=image/png:https://eenbusmeteenhart.nl/wp-content/uploads/2023/06/BC-Hunters-logo.png
ORGANIZER;CN="Badmintonvereniging BC Hunters":MAILTO:petervanderleeden@casema.nl
END:VEVENT
BEGIN:VEVENT
DTSTART;TZID=Europe/Amsterdam:20241016T193000
DTEND;TZID=Europe/Amsterdam:20241016T220000
DTSTAMP:20260420T153118
CREATED:20230620T133033Z
LAST-MODIFIED:20230622T102202Z
UID:10000593-1729107000-1729116000@eenbusmeteenhart.nl
SUMMARY:Badmintonvereniging BC Hunters
DESCRIPTION:BC Hunters is een super gezellige badminton vereniging. Ze spelen iedere woensdagavond van 19.30 tot 22.30 uur. Wil je erachter komen of badminton ook iets voor jou is? Kom dan eens gratis en vrijblijvend een avondje spelen. 
URL:https://eenbusmeteenhart.nl/activiteit/badmintonvereniging-bc-hunters/2024-10-16/
LOCATION:Sportcomplex de Jager\, Parallelweg 35\, Giessen\, Gelderland\, 4283GR\, Nederland
CATEGORIES:Sporthal de Jager
ATTACH;FMTTYPE=image/png:https://eenbusmeteenhart.nl/wp-content/uploads/2023/06/BC-Hunters-logo.png
ORGANIZER;CN="Badmintonvereniging BC Hunters":MAILTO:petervanderleeden@casema.nl
END:VEVENT
BEGIN:VEVENT
DTSTART;TZID=Europe/Amsterdam:20241009T193000
DTEND;TZID=Europe/Amsterdam:20241009T220000
DTSTAMP:20260420T153118
CREATED:20230620T133033Z
LAST-MODIFIED:20230622T102202Z
UID:10000592-1728502200-1728511200@eenbusmeteenhart.nl
SUMMARY:Badmintonvereniging BC Hunters
DESCRIPTION:BC Hunters is een super gezellige badminton vereniging. Ze spelen iedere woensdagavond van 19.30 tot 22.30 uur. Wil je erachter komen of badminton ook iets voor jou is? Kom dan eens gratis en vrijblijvend een avondje spelen. 
URL:https://eenbusmeteenhart.nl/activiteit/badmintonvereniging-bc-hunters/2024-10-09/
LOCATION:Sportcomplex de Jager\, Parallelweg 35\, Giessen\, Gelderland\, 4283GR\, Nederland
CATEGORIES:Sporthal de Jager
ATTACH;FMTTYPE=image/png:https://eenbusmeteenhart.nl/wp-content/uploads/2023/06/BC-Hunters-logo.png
ORGANIZER;CN="Badmintonvereniging BC Hunters":MAILTO:petervanderleeden@casema.nl
END:VEVENT
BEGIN:VEVENT
DTSTART;TZID=Europe/Amsterdam:20241002T193000
DTEND;TZID=Europe/Amsterdam:20241002T220000
DTSTAMP:20260420T153118
CREATED:20230620T133033Z
LAST-MODIFIED:20230622T102202Z
UID:10000591-1727897400-1727906400@eenbusmeteenhart.nl
SUMMARY:Badmintonvereniging BC Hunters
DESCRIPTION:BC Hunters is een super gezellige badminton vereniging. Ze spelen iedere woensdagavond van 19.30 tot 22.30 uur. Wil je erachter komen of badminton ook iets voor jou is? Kom dan eens gratis en vrijblijvend een avondje spelen. 
URL:https://eenbusmeteenhart.nl/activiteit/badmintonvereniging-bc-hunters/2024-10-02/
LOCATION:Sportcomplex de Jager\, Parallelweg 35\, Giessen\, Gelderland\, 4283GR\, Nederland
CATEGORIES:Sporthal de Jager
ATTACH;FMTTYPE=image/png:https://eenbusmeteenhart.nl/wp-content/uploads/2023/06/BC-Hunters-logo.png
ORGANIZER;CN="Badmintonvereniging BC Hunters":MAILTO:petervanderleeden@casema.nl
END:VEVENT
BEGIN:VEVENT
DTSTART;TZID=Europe/Amsterdam:20240925T193000
DTEND;TZID=Europe/Amsterdam:20240925T220000
DTSTAMP:20260420T153118
CREATED:20230620T133033Z
LAST-MODIFIED:20230622T102202Z
UID:10000590-1727292600-1727301600@eenbusmeteenhart.nl
SUMMARY:Badmintonvereniging BC Hunters
DESCRIPTION:BC Hunters is een super gezellige badminton vereniging. Ze spelen iedere woensdagavond van 19.30 tot 22.30 uur. Wil je erachter komen of badminton ook iets voor jou is? Kom dan eens gratis en vrijblijvend een avondje spelen. 
URL:https://eenbusmeteenhart.nl/activiteit/badmintonvereniging-bc-hunters/2024-09-25/
LOCATION:Sportcomplex de Jager\, Parallelweg 35\, Giessen\, Gelderland\, 4283GR\, Nederland
CATEGORIES:Sporthal de Jager
ATTACH;FMTTYPE=image/png:https://eenbusmeteenhart.nl/wp-content/uploads/2023/06/BC-Hunters-logo.png
ORGANIZER;CN="Badmintonvereniging BC Hunters":MAILTO:petervanderleeden@casema.nl
END:VEVENT
BEGIN:VEVENT
DTSTART;TZID=Europe/Amsterdam:20240918T193000
DTEND;TZID=Europe/Amsterdam:20240918T220000
DTSTAMP:20260420T153118
CREATED:20230620T133033Z
LAST-MODIFIED:20230622T102202Z
UID:10000589-1726687800-1726696800@eenbusmeteenhart.nl
SUMMARY:Badmintonvereniging BC Hunters
DESCRIPTION:BC Hunters is een super gezellige badminton vereniging. Ze spelen iedere woensdagavond van 19.30 tot 22.30 uur. Wil je erachter komen of badminton ook iets voor jou is? Kom dan eens gratis en vrijblijvend een avondje spelen. 
URL:https://eenbusmeteenhart.nl/activiteit/badmintonvereniging-bc-hunters/2024-09-18/
LOCATION:Sportcomplex de Jager\, Parallelweg 35\, Giessen\, Gelderland\, 4283GR\, Nederland
CATEGORIES:Sporthal de Jager
ATTACH;FMTTYPE=image/png:https://eenbusmeteenhart.nl/wp-content/uploads/2023/06/BC-Hunters-logo.png
ORGANIZER;CN="Badmintonvereniging BC Hunters":MAILTO:petervanderleeden@casema.nl
END:VEVENT
BEGIN:VEVENT
DTSTART;TZID=Europe/Amsterdam:20240911T193000
DTEND;TZID=Europe/Amsterdam:20240911T220000
DTSTAMP:20260420T153118
CREATED:20230620T133033Z
LAST-MODIFIED:20230622T102202Z
UID:10000588-1726083000-1726092000@eenbusmeteenhart.nl
SUMMARY:Badmintonvereniging BC Hunters
DESCRIPTION:BC Hunters is een super gezellige badminton vereniging. Ze spelen iedere woensdagavond van 19.30 tot 22.30 uur. Wil je erachter komen of badminton ook iets voor jou is? Kom dan eens gratis en vrijblijvend een avondje spelen. 
URL:https://eenbusmeteenhart.nl/activiteit/badmintonvereniging-bc-hunters/2024-09-11/
LOCATION:Sportcomplex de Jager\, Parallelweg 35\, Giessen\, Gelderland\, 4283GR\, Nederland
CATEGORIES:Sporthal de Jager
ATTACH;FMTTYPE=image/png:https://eenbusmeteenhart.nl/wp-content/uploads/2023/06/BC-Hunters-logo.png
ORGANIZER;CN="Badmintonvereniging BC Hunters":MAILTO:petervanderleeden@casema.nl
END:VEVENT
BEGIN:VEVENT
DTSTART;TZID=Europe/Amsterdam:20240904T193000
DTEND;TZID=Europe/Amsterdam:20240904T220000
DTSTAMP:20260420T153118
CREATED:20230620T133033Z
LAST-MODIFIED:20230622T102202Z
UID:10000587-1725478200-1725487200@eenbusmeteenhart.nl
SUMMARY:Badmintonvereniging BC Hunters
DESCRIPTION:BC Hunters is een super gezellige badminton vereniging. Ze spelen iedere woensdagavond van 19.30 tot 22.30 uur. Wil je erachter komen of badminton ook iets voor jou is? Kom dan eens gratis en vrijblijvend een avondje spelen. 
URL:https://eenbusmeteenhart.nl/activiteit/badmintonvereniging-bc-hunters/2024-09-04/
LOCATION:Sportcomplex de Jager\, Parallelweg 35\, Giessen\, Gelderland\, 4283GR\, Nederland
CATEGORIES:Sporthal de Jager
ATTACH;FMTTYPE=image/png:https://eenbusmeteenhart.nl/wp-content/uploads/2023/06/BC-Hunters-logo.png
ORGANIZER;CN="Badmintonvereniging BC Hunters":MAILTO:petervanderleeden@casema.nl
END:VEVENT
BEGIN:VEVENT
DTSTART;TZID=Europe/Amsterdam:20240828T193000
DTEND;TZID=Europe/Amsterdam:20240828T220000
DTSTAMP:20260420T153118
CREATED:20230620T133033Z
LAST-MODIFIED:20230622T102202Z
UID:10000586-1724873400-1724882400@eenbusmeteenhart.nl
SUMMARY:Badmintonvereniging BC Hunters
DESCRIPTION:BC Hunters is een super gezellige badminton vereniging. Ze spelen iedere woensdagavond van 19.30 tot 22.30 uur. Wil je erachter komen of badminton ook iets voor jou is? Kom dan eens gratis en vrijblijvend een avondje spelen. 
URL:https://eenbusmeteenhart.nl/activiteit/badmintonvereniging-bc-hunters/2024-08-28/
LOCATION:Sportcomplex de Jager\, Parallelweg 35\, Giessen\, Gelderland\, 4283GR\, Nederland
CATEGORIES:Sporthal de Jager
ATTACH;FMTTYPE=image/png:https://eenbusmeteenhart.nl/wp-content/uploads/2023/06/BC-Hunters-logo.png
ORGANIZER;CN="Badmintonvereniging BC Hunters":MAILTO:petervanderleeden@casema.nl
END:VEVENT
BEGIN:VEVENT
DTSTART;TZID=Europe/Amsterdam:20240821T193000
DTEND;TZID=Europe/Amsterdam:20240821T220000
DTSTAMP:20260420T153118
CREATED:20230620T133033Z
LAST-MODIFIED:20230622T102202Z
UID:10000585-1724268600-1724277600@eenbusmeteenhart.nl
SUMMARY:Badmintonvereniging BC Hunters
DESCRIPTION:BC Hunters is een super gezellige badminton vereniging. Ze spelen iedere woensdagavond van 19.30 tot 22.30 uur. Wil je erachter komen of badminton ook iets voor jou is? Kom dan eens gratis en vrijblijvend een avondje spelen. 
URL:https://eenbusmeteenhart.nl/activiteit/badmintonvereniging-bc-hunters/2024-08-21/
LOCATION:Sportcomplex de Jager\, Parallelweg 35\, Giessen\, Gelderland\, 4283GR\, Nederland
CATEGORIES:Sporthal de Jager
ATTACH;FMTTYPE=image/png:https://eenbusmeteenhart.nl/wp-content/uploads/2023/06/BC-Hunters-logo.png
ORGANIZER;CN="Badmintonvereniging BC Hunters":MAILTO:petervanderleeden@casema.nl
END:VEVENT
BEGIN:VEVENT
DTSTART;TZID=Europe/Amsterdam:20240814T193000
DTEND;TZID=Europe/Amsterdam:20240814T220000
DTSTAMP:20260420T153118
CREATED:20230620T133033Z
LAST-MODIFIED:20230622T102202Z
UID:10000584-1723663800-1723672800@eenbusmeteenhart.nl
SUMMARY:Badmintonvereniging BC Hunters
DESCRIPTION:BC Hunters is een super gezellige badminton vereniging. Ze spelen iedere woensdagavond van 19.30 tot 22.30 uur. Wil je erachter komen of badminton ook iets voor jou is? Kom dan eens gratis en vrijblijvend een avondje spelen. 
URL:https://eenbusmeteenhart.nl/activiteit/badmintonvereniging-bc-hunters/2024-08-14/
LOCATION:Sportcomplex de Jager\, Parallelweg 35\, Giessen\, Gelderland\, 4283GR\, Nederland
CATEGORIES:Sporthal de Jager
ATTACH;FMTTYPE=image/png:https://eenbusmeteenhart.nl/wp-content/uploads/2023/06/BC-Hunters-logo.png
ORGANIZER;CN="Badmintonvereniging BC Hunters":MAILTO:petervanderleeden@casema.nl
END:VEVENT
BEGIN:VEVENT
DTSTART;TZID=Europe/Amsterdam:20240807T193000
DTEND;TZID=Europe/Amsterdam:20240807T220000
DTSTAMP:20260420T153118
CREATED:20230620T133033Z
LAST-MODIFIED:20230622T102202Z
UID:10000583-1723059000-1723068000@eenbusmeteenhart.nl
SUMMARY:Badmintonvereniging BC Hunters
DESCRIPTION:BC Hunters is een super gezellige badminton vereniging. Ze spelen iedere woensdagavond van 19.30 tot 22.30 uur. Wil je erachter komen of badminton ook iets voor jou is? Kom dan eens gratis en vrijblijvend een avondje spelen. 
URL:https://eenbusmeteenhart.nl/activiteit/badmintonvereniging-bc-hunters/2024-08-07/
LOCATION:Sportcomplex de Jager\, Parallelweg 35\, Giessen\, Gelderland\, 4283GR\, Nederland
CATEGORIES:Sporthal de Jager
ATTACH;FMTTYPE=image/png:https://eenbusmeteenhart.nl/wp-content/uploads/2023/06/BC-Hunters-logo.png
ORGANIZER;CN="Badmintonvereniging BC Hunters":MAILTO:petervanderleeden@casema.nl
END:VEVENT
BEGIN:VEVENT
DTSTART;TZID=Europe/Amsterdam:20240731T193000
DTEND;TZID=Europe/Amsterdam:20240731T220000
DTSTAMP:20260420T153118
CREATED:20230620T133033Z
LAST-MODIFIED:20230622T102202Z
UID:10000582-1722454200-1722463200@eenbusmeteenhart.nl
SUMMARY:Badmintonvereniging BC Hunters
DESCRIPTION:BC Hunters is een super gezellige badminton vereniging. Ze spelen iedere woensdagavond van 19.30 tot 22.30 uur. Wil je erachter komen of badminton ook iets voor jou is? Kom dan eens gratis en vrijblijvend een avondje spelen. 
URL:https://eenbusmeteenhart.nl/activiteit/badmintonvereniging-bc-hunters/2024-07-31/
LOCATION:Sportcomplex de Jager\, Parallelweg 35\, Giessen\, Gelderland\, 4283GR\, Nederland
CATEGORIES:Sporthal de Jager
ATTACH;FMTTYPE=image/png:https://eenbusmeteenhart.nl/wp-content/uploads/2023/06/BC-Hunters-logo.png
ORGANIZER;CN="Badmintonvereniging BC Hunters":MAILTO:petervanderleeden@casema.nl
END:VEVENT
END:VCALENDAR