BEGIN:VCALENDAR
VERSION:2.0
PRODID:-//Hartenbrigade - ECPv6.15.14//NONSGML v1.0//EN
CALSCALE:GREGORIAN
METHOD:PUBLISH
X-WR-CALNAME:Hartenbrigade
X-ORIGINAL-URL:https://eenbusmeteenhart.nl
X-WR-CALDESC:Evenementen voor Hartenbrigade
REFRESH-INTERVAL;VALUE=DURATION:PT1H
X-Robots-Tag:noindex
X-PUBLISHED-TTL:PT1H
BEGIN:VTIMEZONE
TZID:Europe/Amsterdam
BEGIN:DAYLIGHT
TZOFFSETFROM:+0100
TZOFFSETTO:+0200
TZNAME:CEST
DTSTART:20260329T010000
END:DAYLIGHT
BEGIN:STANDARD
TZOFFSETFROM:+0200
TZOFFSETTO:+0100
TZNAME:CET
DTSTART:20261025T010000
END:STANDARD
BEGIN:DAYLIGHT
TZOFFSETFROM:+0100
TZOFFSETTO:+0200
TZNAME:CEST
DTSTART:20270328T010000
END:DAYLIGHT
BEGIN:STANDARD
TZOFFSETFROM:+0200
TZOFFSETTO:+0100
TZNAME:CET
DTSTART:20271031T010000
END:STANDARD
BEGIN:DAYLIGHT
TZOFFSETFROM:+0100
TZOFFSETTO:+0200
TZNAME:CEST
DTSTART:20280326T010000
END:DAYLIGHT
BEGIN:STANDARD
TZOFFSETFROM:+0200
TZOFFSETTO:+0100
TZNAME:CET
DTSTART:20281029T010000
END:STANDARD
BEGIN:DAYLIGHT
TZOFFSETFROM:+0100
TZOFFSETTO:+0200
TZNAME:CEST
DTSTART:20290325T010000
END:DAYLIGHT
BEGIN:STANDARD
TZOFFSETFROM:+0200
TZOFFSETTO:+0100
TZNAME:CET
DTSTART:20291028T010000
END:STANDARD
END:VTIMEZONE
BEGIN:VEVENT
DTSTART;TZID=Europe/Amsterdam:20270616T193000
DTEND;TZID=Europe/Amsterdam:20270616T220000
DTSTAMP:20260420T140825
CREATED:20230620T133033Z
LAST-MODIFIED:20230622T102202Z
UID:10000732-1813174200-1813183200@eenbusmeteenhart.nl
SUMMARY:Badmintonvereniging BC Hunters
DESCRIPTION:BC Hunters is een super gezellige badminton vereniging. Ze spelen iedere woensdagavond van 19.30 tot 22.30 uur. Wil je erachter komen of badminton ook iets voor jou is? Kom dan eens gratis en vrijblijvend een avondje spelen. 
URL:https://eenbusmeteenhart.nl/activiteit/badmintonvereniging-bc-hunters/2027-06-16/
LOCATION:Sportcomplex de Jager\, Parallelweg 35\, Giessen\, Gelderland\, 4283GR\, Nederland
CATEGORIES:Sporthal de Jager
ATTACH;FMTTYPE=image/png:https://eenbusmeteenhart.nl/wp-content/uploads/2023/06/BC-Hunters-logo.png
ORGANIZER;CN="Badmintonvereniging BC Hunters":MAILTO:petervanderleeden@casema.nl
END:VEVENT
BEGIN:VEVENT
DTSTART;TZID=Europe/Amsterdam:20270623T193000
DTEND;TZID=Europe/Amsterdam:20270623T220000
DTSTAMP:20260420T140825
CREATED:20230620T133033Z
LAST-MODIFIED:20230622T102202Z
UID:10000733-1813779000-1813788000@eenbusmeteenhart.nl
SUMMARY:Badmintonvereniging BC Hunters
DESCRIPTION:BC Hunters is een super gezellige badminton vereniging. Ze spelen iedere woensdagavond van 19.30 tot 22.30 uur. Wil je erachter komen of badminton ook iets voor jou is? Kom dan eens gratis en vrijblijvend een avondje spelen. 
URL:https://eenbusmeteenhart.nl/activiteit/badmintonvereniging-bc-hunters/2027-06-23/
LOCATION:Sportcomplex de Jager\, Parallelweg 35\, Giessen\, Gelderland\, 4283GR\, Nederland
CATEGORIES:Sporthal de Jager
ATTACH;FMTTYPE=image/png:https://eenbusmeteenhart.nl/wp-content/uploads/2023/06/BC-Hunters-logo.png
ORGANIZER;CN="Badmintonvereniging BC Hunters":MAILTO:petervanderleeden@casema.nl
END:VEVENT
BEGIN:VEVENT
DTSTART;TZID=Europe/Amsterdam:20270630T193000
DTEND;TZID=Europe/Amsterdam:20270630T220000
DTSTAMP:20260420T140825
CREATED:20230620T133033Z
LAST-MODIFIED:20230622T102202Z
UID:10000734-1814383800-1814392800@eenbusmeteenhart.nl
SUMMARY:Badmintonvereniging BC Hunters
DESCRIPTION:BC Hunters is een super gezellige badminton vereniging. Ze spelen iedere woensdagavond van 19.30 tot 22.30 uur. Wil je erachter komen of badminton ook iets voor jou is? Kom dan eens gratis en vrijblijvend een avondje spelen. 
URL:https://eenbusmeteenhart.nl/activiteit/badmintonvereniging-bc-hunters/2027-06-30/
LOCATION:Sportcomplex de Jager\, Parallelweg 35\, Giessen\, Gelderland\, 4283GR\, Nederland
CATEGORIES:Sporthal de Jager
ATTACH;FMTTYPE=image/png:https://eenbusmeteenhart.nl/wp-content/uploads/2023/06/BC-Hunters-logo.png
ORGANIZER;CN="Badmintonvereniging BC Hunters":MAILTO:petervanderleeden@casema.nl
END:VEVENT
BEGIN:VEVENT
DTSTART;TZID=Europe/Amsterdam:20270707T193000
DTEND;TZID=Europe/Amsterdam:20270707T220000
DTSTAMP:20260420T140825
CREATED:20230620T133033Z
LAST-MODIFIED:20230622T102202Z
UID:10000735-1814988600-1814997600@eenbusmeteenhart.nl
SUMMARY:Badmintonvereniging BC Hunters
DESCRIPTION:BC Hunters is een super gezellige badminton vereniging. Ze spelen iedere woensdagavond van 19.30 tot 22.30 uur. Wil je erachter komen of badminton ook iets voor jou is? Kom dan eens gratis en vrijblijvend een avondje spelen. 
URL:https://eenbusmeteenhart.nl/activiteit/badmintonvereniging-bc-hunters/2027-07-07/
LOCATION:Sportcomplex de Jager\, Parallelweg 35\, Giessen\, Gelderland\, 4283GR\, Nederland
CATEGORIES:Sporthal de Jager
ATTACH;FMTTYPE=image/png:https://eenbusmeteenhart.nl/wp-content/uploads/2023/06/BC-Hunters-logo.png
ORGANIZER;CN="Badmintonvereniging BC Hunters":MAILTO:petervanderleeden@casema.nl
END:VEVENT
BEGIN:VEVENT
DTSTART;TZID=Europe/Amsterdam:20270714T193000
DTEND;TZID=Europe/Amsterdam:20270714T220000
DTSTAMP:20260420T140825
CREATED:20230620T133033Z
LAST-MODIFIED:20230622T102202Z
UID:10000736-1815593400-1815602400@eenbusmeteenhart.nl
SUMMARY:Badmintonvereniging BC Hunters
DESCRIPTION:BC Hunters is een super gezellige badminton vereniging. Ze spelen iedere woensdagavond van 19.30 tot 22.30 uur. Wil je erachter komen of badminton ook iets voor jou is? Kom dan eens gratis en vrijblijvend een avondje spelen. 
URL:https://eenbusmeteenhart.nl/activiteit/badmintonvereniging-bc-hunters/2027-07-14/
LOCATION:Sportcomplex de Jager\, Parallelweg 35\, Giessen\, Gelderland\, 4283GR\, Nederland
CATEGORIES:Sporthal de Jager
ATTACH;FMTTYPE=image/png:https://eenbusmeteenhart.nl/wp-content/uploads/2023/06/BC-Hunters-logo.png
ORGANIZER;CN="Badmintonvereniging BC Hunters":MAILTO:petervanderleeden@casema.nl
END:VEVENT
BEGIN:VEVENT
DTSTART;TZID=Europe/Amsterdam:20270721T193000
DTEND;TZID=Europe/Amsterdam:20270721T220000
DTSTAMP:20260420T140825
CREATED:20230620T133033Z
LAST-MODIFIED:20230622T102202Z
UID:10000737-1816198200-1816207200@eenbusmeteenhart.nl
SUMMARY:Badmintonvereniging BC Hunters
DESCRIPTION:BC Hunters is een super gezellige badminton vereniging. Ze spelen iedere woensdagavond van 19.30 tot 22.30 uur. Wil je erachter komen of badminton ook iets voor jou is? Kom dan eens gratis en vrijblijvend een avondje spelen. 
URL:https://eenbusmeteenhart.nl/activiteit/badmintonvereniging-bc-hunters/2027-07-21/
LOCATION:Sportcomplex de Jager\, Parallelweg 35\, Giessen\, Gelderland\, 4283GR\, Nederland
CATEGORIES:Sporthal de Jager
ATTACH;FMTTYPE=image/png:https://eenbusmeteenhart.nl/wp-content/uploads/2023/06/BC-Hunters-logo.png
ORGANIZER;CN="Badmintonvereniging BC Hunters":MAILTO:petervanderleeden@casema.nl
END:VEVENT
BEGIN:VEVENT
DTSTART;TZID=Europe/Amsterdam:20270728T193000
DTEND;TZID=Europe/Amsterdam:20270728T220000
DTSTAMP:20260420T140825
CREATED:20230620T133033Z
LAST-MODIFIED:20230622T102202Z
UID:10000738-1816803000-1816812000@eenbusmeteenhart.nl
SUMMARY:Badmintonvereniging BC Hunters
DESCRIPTION:BC Hunters is een super gezellige badminton vereniging. Ze spelen iedere woensdagavond van 19.30 tot 22.30 uur. Wil je erachter komen of badminton ook iets voor jou is? Kom dan eens gratis en vrijblijvend een avondje spelen. 
URL:https://eenbusmeteenhart.nl/activiteit/badmintonvereniging-bc-hunters/2027-07-28/
LOCATION:Sportcomplex de Jager\, Parallelweg 35\, Giessen\, Gelderland\, 4283GR\, Nederland
CATEGORIES:Sporthal de Jager
ATTACH;FMTTYPE=image/png:https://eenbusmeteenhart.nl/wp-content/uploads/2023/06/BC-Hunters-logo.png
ORGANIZER;CN="Badmintonvereniging BC Hunters":MAILTO:petervanderleeden@casema.nl
END:VEVENT
BEGIN:VEVENT
DTSTART;TZID=Europe/Amsterdam:20270804T193000
DTEND;TZID=Europe/Amsterdam:20270804T220000
DTSTAMP:20260420T140825
CREATED:20230620T133033Z
LAST-MODIFIED:20230622T102202Z
UID:10000739-1817407800-1817416800@eenbusmeteenhart.nl
SUMMARY:Badmintonvereniging BC Hunters
DESCRIPTION:BC Hunters is een super gezellige badminton vereniging. Ze spelen iedere woensdagavond van 19.30 tot 22.30 uur. Wil je erachter komen of badminton ook iets voor jou is? Kom dan eens gratis en vrijblijvend een avondje spelen. 
URL:https://eenbusmeteenhart.nl/activiteit/badmintonvereniging-bc-hunters/2027-08-04/
LOCATION:Sportcomplex de Jager\, Parallelweg 35\, Giessen\, Gelderland\, 4283GR\, Nederland
CATEGORIES:Sporthal de Jager
ATTACH;FMTTYPE=image/png:https://eenbusmeteenhart.nl/wp-content/uploads/2023/06/BC-Hunters-logo.png
ORGANIZER;CN="Badmintonvereniging BC Hunters":MAILTO:petervanderleeden@casema.nl
END:VEVENT
BEGIN:VEVENT
DTSTART;TZID=Europe/Amsterdam:20270811T193000
DTEND;TZID=Europe/Amsterdam:20270811T220000
DTSTAMP:20260420T140825
CREATED:20230620T133033Z
LAST-MODIFIED:20230622T102202Z
UID:10000740-1818012600-1818021600@eenbusmeteenhart.nl
SUMMARY:Badmintonvereniging BC Hunters
DESCRIPTION:BC Hunters is een super gezellige badminton vereniging. Ze spelen iedere woensdagavond van 19.30 tot 22.30 uur. Wil je erachter komen of badminton ook iets voor jou is? Kom dan eens gratis en vrijblijvend een avondje spelen. 
URL:https://eenbusmeteenhart.nl/activiteit/badmintonvereniging-bc-hunters/2027-08-11/
LOCATION:Sportcomplex de Jager\, Parallelweg 35\, Giessen\, Gelderland\, 4283GR\, Nederland
CATEGORIES:Sporthal de Jager
ATTACH;FMTTYPE=image/png:https://eenbusmeteenhart.nl/wp-content/uploads/2023/06/BC-Hunters-logo.png
ORGANIZER;CN="Badmintonvereniging BC Hunters":MAILTO:petervanderleeden@casema.nl
END:VEVENT
BEGIN:VEVENT
DTSTART;TZID=Europe/Amsterdam:20270818T193000
DTEND;TZID=Europe/Amsterdam:20270818T220000
DTSTAMP:20260420T140825
CREATED:20230620T133033Z
LAST-MODIFIED:20230622T102202Z
UID:10000741-1818617400-1818626400@eenbusmeteenhart.nl
SUMMARY:Badmintonvereniging BC Hunters
DESCRIPTION:BC Hunters is een super gezellige badminton vereniging. Ze spelen iedere woensdagavond van 19.30 tot 22.30 uur. Wil je erachter komen of badminton ook iets voor jou is? Kom dan eens gratis en vrijblijvend een avondje spelen. 
URL:https://eenbusmeteenhart.nl/activiteit/badmintonvereniging-bc-hunters/2027-08-18/
LOCATION:Sportcomplex de Jager\, Parallelweg 35\, Giessen\, Gelderland\, 4283GR\, Nederland
CATEGORIES:Sporthal de Jager
ATTACH;FMTTYPE=image/png:https://eenbusmeteenhart.nl/wp-content/uploads/2023/06/BC-Hunters-logo.png
ORGANIZER;CN="Badmintonvereniging BC Hunters":MAILTO:petervanderleeden@casema.nl
END:VEVENT
BEGIN:VEVENT
DTSTART;TZID=Europe/Amsterdam:20270825T193000
DTEND;TZID=Europe/Amsterdam:20270825T220000
DTSTAMP:20260420T140825
CREATED:20230620T133033Z
LAST-MODIFIED:20230622T102202Z
UID:10000742-1819222200-1819231200@eenbusmeteenhart.nl
SUMMARY:Badmintonvereniging BC Hunters
DESCRIPTION:BC Hunters is een super gezellige badminton vereniging. Ze spelen iedere woensdagavond van 19.30 tot 22.30 uur. Wil je erachter komen of badminton ook iets voor jou is? Kom dan eens gratis en vrijblijvend een avondje spelen. 
URL:https://eenbusmeteenhart.nl/activiteit/badmintonvereniging-bc-hunters/2027-08-25/
LOCATION:Sportcomplex de Jager\, Parallelweg 35\, Giessen\, Gelderland\, 4283GR\, Nederland
CATEGORIES:Sporthal de Jager
ATTACH;FMTTYPE=image/png:https://eenbusmeteenhart.nl/wp-content/uploads/2023/06/BC-Hunters-logo.png
ORGANIZER;CN="Badmintonvereniging BC Hunters":MAILTO:petervanderleeden@casema.nl
END:VEVENT
BEGIN:VEVENT
DTSTART;TZID=Europe/Amsterdam:20270901T193000
DTEND;TZID=Europe/Amsterdam:20270901T220000
DTSTAMP:20260420T140825
CREATED:20230620T133033Z
LAST-MODIFIED:20230622T102202Z
UID:10000743-1819827000-1819836000@eenbusmeteenhart.nl
SUMMARY:Badmintonvereniging BC Hunters
DESCRIPTION:BC Hunters is een super gezellige badminton vereniging. Ze spelen iedere woensdagavond van 19.30 tot 22.30 uur. Wil je erachter komen of badminton ook iets voor jou is? Kom dan eens gratis en vrijblijvend een avondje spelen. 
URL:https://eenbusmeteenhart.nl/activiteit/badmintonvereniging-bc-hunters/2027-09-01/
LOCATION:Sportcomplex de Jager\, Parallelweg 35\, Giessen\, Gelderland\, 4283GR\, Nederland
CATEGORIES:Sporthal de Jager
ATTACH;FMTTYPE=image/png:https://eenbusmeteenhart.nl/wp-content/uploads/2023/06/BC-Hunters-logo.png
ORGANIZER;CN="Badmintonvereniging BC Hunters":MAILTO:petervanderleeden@casema.nl
END:VEVENT
BEGIN:VEVENT
DTSTART;TZID=Europe/Amsterdam:20270908T193000
DTEND;TZID=Europe/Amsterdam:20270908T220000
DTSTAMP:20260420T140825
CREATED:20230620T133033Z
LAST-MODIFIED:20230622T102202Z
UID:10000744-1820431800-1820440800@eenbusmeteenhart.nl
SUMMARY:Badmintonvereniging BC Hunters
DESCRIPTION:BC Hunters is een super gezellige badminton vereniging. Ze spelen iedere woensdagavond van 19.30 tot 22.30 uur. Wil je erachter komen of badminton ook iets voor jou is? Kom dan eens gratis en vrijblijvend een avondje spelen. 
URL:https://eenbusmeteenhart.nl/activiteit/badmintonvereniging-bc-hunters/2027-09-08/
LOCATION:Sportcomplex de Jager\, Parallelweg 35\, Giessen\, Gelderland\, 4283GR\, Nederland
CATEGORIES:Sporthal de Jager
ATTACH;FMTTYPE=image/png:https://eenbusmeteenhart.nl/wp-content/uploads/2023/06/BC-Hunters-logo.png
ORGANIZER;CN="Badmintonvereniging BC Hunters":MAILTO:petervanderleeden@casema.nl
END:VEVENT
BEGIN:VEVENT
DTSTART;TZID=Europe/Amsterdam:20270915T193000
DTEND;TZID=Europe/Amsterdam:20270915T220000
DTSTAMP:20260420T140825
CREATED:20230620T133033Z
LAST-MODIFIED:20230622T102202Z
UID:10000745-1821036600-1821045600@eenbusmeteenhart.nl
SUMMARY:Badmintonvereniging BC Hunters
DESCRIPTION:BC Hunters is een super gezellige badminton vereniging. Ze spelen iedere woensdagavond van 19.30 tot 22.30 uur. Wil je erachter komen of badminton ook iets voor jou is? Kom dan eens gratis en vrijblijvend een avondje spelen. 
URL:https://eenbusmeteenhart.nl/activiteit/badmintonvereniging-bc-hunters/2027-09-15/
LOCATION:Sportcomplex de Jager\, Parallelweg 35\, Giessen\, Gelderland\, 4283GR\, Nederland
CATEGORIES:Sporthal de Jager
ATTACH;FMTTYPE=image/png:https://eenbusmeteenhart.nl/wp-content/uploads/2023/06/BC-Hunters-logo.png
ORGANIZER;CN="Badmintonvereniging BC Hunters":MAILTO:petervanderleeden@casema.nl
END:VEVENT
BEGIN:VEVENT
DTSTART;TZID=Europe/Amsterdam:20270922T193000
DTEND;TZID=Europe/Amsterdam:20270922T220000
DTSTAMP:20260420T140825
CREATED:20230620T133033Z
LAST-MODIFIED:20230622T102202Z
UID:10000746-1821641400-1821650400@eenbusmeteenhart.nl
SUMMARY:Badmintonvereniging BC Hunters
DESCRIPTION:BC Hunters is een super gezellige badminton vereniging. Ze spelen iedere woensdagavond van 19.30 tot 22.30 uur. Wil je erachter komen of badminton ook iets voor jou is? Kom dan eens gratis en vrijblijvend een avondje spelen. 
URL:https://eenbusmeteenhart.nl/activiteit/badmintonvereniging-bc-hunters/2027-09-22/
LOCATION:Sportcomplex de Jager\, Parallelweg 35\, Giessen\, Gelderland\, 4283GR\, Nederland
CATEGORIES:Sporthal de Jager
ATTACH;FMTTYPE=image/png:https://eenbusmeteenhart.nl/wp-content/uploads/2023/06/BC-Hunters-logo.png
ORGANIZER;CN="Badmintonvereniging BC Hunters":MAILTO:petervanderleeden@casema.nl
END:VEVENT
BEGIN:VEVENT
DTSTART;TZID=Europe/Amsterdam:20270929T193000
DTEND;TZID=Europe/Amsterdam:20270929T220000
DTSTAMP:20260420T140825
CREATED:20230620T133033Z
LAST-MODIFIED:20230622T102202Z
UID:10000747-1822246200-1822255200@eenbusmeteenhart.nl
SUMMARY:Badmintonvereniging BC Hunters
DESCRIPTION:BC Hunters is een super gezellige badminton vereniging. Ze spelen iedere woensdagavond van 19.30 tot 22.30 uur. Wil je erachter komen of badminton ook iets voor jou is? Kom dan eens gratis en vrijblijvend een avondje spelen. 
URL:https://eenbusmeteenhart.nl/activiteit/badmintonvereniging-bc-hunters/2027-09-29/
LOCATION:Sportcomplex de Jager\, Parallelweg 35\, Giessen\, Gelderland\, 4283GR\, Nederland
CATEGORIES:Sporthal de Jager
ATTACH;FMTTYPE=image/png:https://eenbusmeteenhart.nl/wp-content/uploads/2023/06/BC-Hunters-logo.png
ORGANIZER;CN="Badmintonvereniging BC Hunters":MAILTO:petervanderleeden@casema.nl
END:VEVENT
BEGIN:VEVENT
DTSTART;TZID=Europe/Amsterdam:20271006T193000
DTEND;TZID=Europe/Amsterdam:20271006T220000
DTSTAMP:20260420T140825
CREATED:20230620T133033Z
LAST-MODIFIED:20230622T102202Z
UID:10000748-1822851000-1822860000@eenbusmeteenhart.nl
SUMMARY:Badmintonvereniging BC Hunters
DESCRIPTION:BC Hunters is een super gezellige badminton vereniging. Ze spelen iedere woensdagavond van 19.30 tot 22.30 uur. Wil je erachter komen of badminton ook iets voor jou is? Kom dan eens gratis en vrijblijvend een avondje spelen. 
URL:https://eenbusmeteenhart.nl/activiteit/badmintonvereniging-bc-hunters/2027-10-06/
LOCATION:Sportcomplex de Jager\, Parallelweg 35\, Giessen\, Gelderland\, 4283GR\, Nederland
CATEGORIES:Sporthal de Jager
ATTACH;FMTTYPE=image/png:https://eenbusmeteenhart.nl/wp-content/uploads/2023/06/BC-Hunters-logo.png
ORGANIZER;CN="Badmintonvereniging BC Hunters":MAILTO:petervanderleeden@casema.nl
END:VEVENT
BEGIN:VEVENT
DTSTART;TZID=Europe/Amsterdam:20271013T193000
DTEND;TZID=Europe/Amsterdam:20271013T220000
DTSTAMP:20260420T140825
CREATED:20230620T133033Z
LAST-MODIFIED:20230622T102202Z
UID:10000749-1823455800-1823464800@eenbusmeteenhart.nl
SUMMARY:Badmintonvereniging BC Hunters
DESCRIPTION:BC Hunters is een super gezellige badminton vereniging. Ze spelen iedere woensdagavond van 19.30 tot 22.30 uur. Wil je erachter komen of badminton ook iets voor jou is? Kom dan eens gratis en vrijblijvend een avondje spelen. 
URL:https://eenbusmeteenhart.nl/activiteit/badmintonvereniging-bc-hunters/2027-10-13/
LOCATION:Sportcomplex de Jager\, Parallelweg 35\, Giessen\, Gelderland\, 4283GR\, Nederland
CATEGORIES:Sporthal de Jager
ATTACH;FMTTYPE=image/png:https://eenbusmeteenhart.nl/wp-content/uploads/2023/06/BC-Hunters-logo.png
ORGANIZER;CN="Badmintonvereniging BC Hunters":MAILTO:petervanderleeden@casema.nl
END:VEVENT
BEGIN:VEVENT
DTSTART;TZID=Europe/Amsterdam:20271020T193000
DTEND;TZID=Europe/Amsterdam:20271020T220000
DTSTAMP:20260420T140825
CREATED:20230620T133033Z
LAST-MODIFIED:20230622T102202Z
UID:10000750-1824060600-1824069600@eenbusmeteenhart.nl
SUMMARY:Badmintonvereniging BC Hunters
DESCRIPTION:BC Hunters is een super gezellige badminton vereniging. Ze spelen iedere woensdagavond van 19.30 tot 22.30 uur. Wil je erachter komen of badminton ook iets voor jou is? Kom dan eens gratis en vrijblijvend een avondje spelen. 
URL:https://eenbusmeteenhart.nl/activiteit/badmintonvereniging-bc-hunters/2027-10-20/
LOCATION:Sportcomplex de Jager\, Parallelweg 35\, Giessen\, Gelderland\, 4283GR\, Nederland
CATEGORIES:Sporthal de Jager
ATTACH;FMTTYPE=image/png:https://eenbusmeteenhart.nl/wp-content/uploads/2023/06/BC-Hunters-logo.png
ORGANIZER;CN="Badmintonvereniging BC Hunters":MAILTO:petervanderleeden@casema.nl
END:VEVENT
BEGIN:VEVENT
DTSTART;TZID=Europe/Amsterdam:20271027T193000
DTEND;TZID=Europe/Amsterdam:20271027T220000
DTSTAMP:20260420T140825
CREATED:20230620T133033Z
LAST-MODIFIED:20230622T102202Z
UID:10000751-1824665400-1824674400@eenbusmeteenhart.nl
SUMMARY:Badmintonvereniging BC Hunters
DESCRIPTION:BC Hunters is een super gezellige badminton vereniging. Ze spelen iedere woensdagavond van 19.30 tot 22.30 uur. Wil je erachter komen of badminton ook iets voor jou is? Kom dan eens gratis en vrijblijvend een avondje spelen. 
URL:https://eenbusmeteenhart.nl/activiteit/badmintonvereniging-bc-hunters/2027-10-27/
LOCATION:Sportcomplex de Jager\, Parallelweg 35\, Giessen\, Gelderland\, 4283GR\, Nederland
CATEGORIES:Sporthal de Jager
ATTACH;FMTTYPE=image/png:https://eenbusmeteenhart.nl/wp-content/uploads/2023/06/BC-Hunters-logo.png
ORGANIZER;CN="Badmintonvereniging BC Hunters":MAILTO:petervanderleeden@casema.nl
END:VEVENT
BEGIN:VEVENT
DTSTART;TZID=Europe/Amsterdam:20271103T193000
DTEND;TZID=Europe/Amsterdam:20271103T220000
DTSTAMP:20260420T140825
CREATED:20230620T133033Z
LAST-MODIFIED:20230622T102202Z
UID:10000752-1825270200-1825279200@eenbusmeteenhart.nl
SUMMARY:Badmintonvereniging BC Hunters
DESCRIPTION:BC Hunters is een super gezellige badminton vereniging. Ze spelen iedere woensdagavond van 19.30 tot 22.30 uur. Wil je erachter komen of badminton ook iets voor jou is? Kom dan eens gratis en vrijblijvend een avondje spelen. 
URL:https://eenbusmeteenhart.nl/activiteit/badmintonvereniging-bc-hunters/2027-11-03/
LOCATION:Sportcomplex de Jager\, Parallelweg 35\, Giessen\, Gelderland\, 4283GR\, Nederland
CATEGORIES:Sporthal de Jager
ATTACH;FMTTYPE=image/png:https://eenbusmeteenhart.nl/wp-content/uploads/2023/06/BC-Hunters-logo.png
ORGANIZER;CN="Badmintonvereniging BC Hunters":MAILTO:petervanderleeden@casema.nl
END:VEVENT
BEGIN:VEVENT
DTSTART;TZID=Europe/Amsterdam:20271110T193000
DTEND;TZID=Europe/Amsterdam:20271110T220000
DTSTAMP:20260420T140825
CREATED:20230620T133033Z
LAST-MODIFIED:20230622T102202Z
UID:10000753-1825875000-1825884000@eenbusmeteenhart.nl
SUMMARY:Badmintonvereniging BC Hunters
DESCRIPTION:BC Hunters is een super gezellige badminton vereniging. Ze spelen iedere woensdagavond van 19.30 tot 22.30 uur. Wil je erachter komen of badminton ook iets voor jou is? Kom dan eens gratis en vrijblijvend een avondje spelen. 
URL:https://eenbusmeteenhart.nl/activiteit/badmintonvereniging-bc-hunters/2027-11-10/
LOCATION:Sportcomplex de Jager\, Parallelweg 35\, Giessen\, Gelderland\, 4283GR\, Nederland
CATEGORIES:Sporthal de Jager
ATTACH;FMTTYPE=image/png:https://eenbusmeteenhart.nl/wp-content/uploads/2023/06/BC-Hunters-logo.png
ORGANIZER;CN="Badmintonvereniging BC Hunters":MAILTO:petervanderleeden@casema.nl
END:VEVENT
BEGIN:VEVENT
DTSTART;TZID=Europe/Amsterdam:20271117T193000
DTEND;TZID=Europe/Amsterdam:20271117T220000
DTSTAMP:20260420T140825
CREATED:20230620T133033Z
LAST-MODIFIED:20230622T102202Z
UID:10000754-1826479800-1826488800@eenbusmeteenhart.nl
SUMMARY:Badmintonvereniging BC Hunters
DESCRIPTION:BC Hunters is een super gezellige badminton vereniging. Ze spelen iedere woensdagavond van 19.30 tot 22.30 uur. Wil je erachter komen of badminton ook iets voor jou is? Kom dan eens gratis en vrijblijvend een avondje spelen. 
URL:https://eenbusmeteenhart.nl/activiteit/badmintonvereniging-bc-hunters/2027-11-17/
LOCATION:Sportcomplex de Jager\, Parallelweg 35\, Giessen\, Gelderland\, 4283GR\, Nederland
CATEGORIES:Sporthal de Jager
ATTACH;FMTTYPE=image/png:https://eenbusmeteenhart.nl/wp-content/uploads/2023/06/BC-Hunters-logo.png
ORGANIZER;CN="Badmintonvereniging BC Hunters":MAILTO:petervanderleeden@casema.nl
END:VEVENT
BEGIN:VEVENT
DTSTART;TZID=Europe/Amsterdam:20271124T193000
DTEND;TZID=Europe/Amsterdam:20271124T220000
DTSTAMP:20260420T140825
CREATED:20230620T133033Z
LAST-MODIFIED:20230622T102202Z
UID:10000755-1827084600-1827093600@eenbusmeteenhart.nl
SUMMARY:Badmintonvereniging BC Hunters
DESCRIPTION:BC Hunters is een super gezellige badminton vereniging. Ze spelen iedere woensdagavond van 19.30 tot 22.30 uur. Wil je erachter komen of badminton ook iets voor jou is? Kom dan eens gratis en vrijblijvend een avondje spelen. 
URL:https://eenbusmeteenhart.nl/activiteit/badmintonvereniging-bc-hunters/2027-11-24/
LOCATION:Sportcomplex de Jager\, Parallelweg 35\, Giessen\, Gelderland\, 4283GR\, Nederland
CATEGORIES:Sporthal de Jager
ATTACH;FMTTYPE=image/png:https://eenbusmeteenhart.nl/wp-content/uploads/2023/06/BC-Hunters-logo.png
ORGANIZER;CN="Badmintonvereniging BC Hunters":MAILTO:petervanderleeden@casema.nl
END:VEVENT
BEGIN:VEVENT
DTSTART;TZID=Europe/Amsterdam:20271201T193000
DTEND;TZID=Europe/Amsterdam:20271201T220000
DTSTAMP:20260420T140825
CREATED:20230620T133033Z
LAST-MODIFIED:20230622T102202Z
UID:10000756-1827689400-1827698400@eenbusmeteenhart.nl
SUMMARY:Badmintonvereniging BC Hunters
DESCRIPTION:BC Hunters is een super gezellige badminton vereniging. Ze spelen iedere woensdagavond van 19.30 tot 22.30 uur. Wil je erachter komen of badminton ook iets voor jou is? Kom dan eens gratis en vrijblijvend een avondje spelen. 
URL:https://eenbusmeteenhart.nl/activiteit/badmintonvereniging-bc-hunters/2027-12-01/
LOCATION:Sportcomplex de Jager\, Parallelweg 35\, Giessen\, Gelderland\, 4283GR\, Nederland
CATEGORIES:Sporthal de Jager
ATTACH;FMTTYPE=image/png:https://eenbusmeteenhart.nl/wp-content/uploads/2023/06/BC-Hunters-logo.png
ORGANIZER;CN="Badmintonvereniging BC Hunters":MAILTO:petervanderleeden@casema.nl
END:VEVENT
BEGIN:VEVENT
DTSTART;TZID=Europe/Amsterdam:20271208T193000
DTEND;TZID=Europe/Amsterdam:20271208T220000
DTSTAMP:20260420T140825
CREATED:20230620T133033Z
LAST-MODIFIED:20230622T102202Z
UID:10000757-1828294200-1828303200@eenbusmeteenhart.nl
SUMMARY:Badmintonvereniging BC Hunters
DESCRIPTION:BC Hunters is een super gezellige badminton vereniging. Ze spelen iedere woensdagavond van 19.30 tot 22.30 uur. Wil je erachter komen of badminton ook iets voor jou is? Kom dan eens gratis en vrijblijvend een avondje spelen. 
URL:https://eenbusmeteenhart.nl/activiteit/badmintonvereniging-bc-hunters/2027-12-08/
LOCATION:Sportcomplex de Jager\, Parallelweg 35\, Giessen\, Gelderland\, 4283GR\, Nederland
CATEGORIES:Sporthal de Jager
ATTACH;FMTTYPE=image/png:https://eenbusmeteenhart.nl/wp-content/uploads/2023/06/BC-Hunters-logo.png
ORGANIZER;CN="Badmintonvereniging BC Hunters":MAILTO:petervanderleeden@casema.nl
END:VEVENT
BEGIN:VEVENT
DTSTART;TZID=Europe/Amsterdam:20271215T193000
DTEND;TZID=Europe/Amsterdam:20271215T220000
DTSTAMP:20260420T140825
CREATED:20230620T133033Z
LAST-MODIFIED:20230622T102202Z
UID:10000758-1828899000-1828908000@eenbusmeteenhart.nl
SUMMARY:Badmintonvereniging BC Hunters
DESCRIPTION:BC Hunters is een super gezellige badminton vereniging. Ze spelen iedere woensdagavond van 19.30 tot 22.30 uur. Wil je erachter komen of badminton ook iets voor jou is? Kom dan eens gratis en vrijblijvend een avondje spelen. 
URL:https://eenbusmeteenhart.nl/activiteit/badmintonvereniging-bc-hunters/2027-12-15/
LOCATION:Sportcomplex de Jager\, Parallelweg 35\, Giessen\, Gelderland\, 4283GR\, Nederland
CATEGORIES:Sporthal de Jager
ATTACH;FMTTYPE=image/png:https://eenbusmeteenhart.nl/wp-content/uploads/2023/06/BC-Hunters-logo.png
ORGANIZER;CN="Badmintonvereniging BC Hunters":MAILTO:petervanderleeden@casema.nl
END:VEVENT
BEGIN:VEVENT
DTSTART;TZID=Europe/Amsterdam:20271222T193000
DTEND;TZID=Europe/Amsterdam:20271222T220000
DTSTAMP:20260420T140825
CREATED:20230620T133033Z
LAST-MODIFIED:20230622T102202Z
UID:10000759-1829503800-1829512800@eenbusmeteenhart.nl
SUMMARY:Badmintonvereniging BC Hunters
DESCRIPTION:BC Hunters is een super gezellige badminton vereniging. Ze spelen iedere woensdagavond van 19.30 tot 22.30 uur. Wil je erachter komen of badminton ook iets voor jou is? Kom dan eens gratis en vrijblijvend een avondje spelen. 
URL:https://eenbusmeteenhart.nl/activiteit/badmintonvereniging-bc-hunters/2027-12-22/
LOCATION:Sportcomplex de Jager\, Parallelweg 35\, Giessen\, Gelderland\, 4283GR\, Nederland
CATEGORIES:Sporthal de Jager
ATTACH;FMTTYPE=image/png:https://eenbusmeteenhart.nl/wp-content/uploads/2023/06/BC-Hunters-logo.png
ORGANIZER;CN="Badmintonvereniging BC Hunters":MAILTO:petervanderleeden@casema.nl
END:VEVENT
BEGIN:VEVENT
DTSTART;TZID=Europe/Amsterdam:20271229T193000
DTEND;TZID=Europe/Amsterdam:20271229T220000
DTSTAMP:20260420T140825
CREATED:20230620T133033Z
LAST-MODIFIED:20230622T102202Z
UID:10000760-1830108600-1830117600@eenbusmeteenhart.nl
SUMMARY:Badmintonvereniging BC Hunters
DESCRIPTION:BC Hunters is een super gezellige badminton vereniging. Ze spelen iedere woensdagavond van 19.30 tot 22.30 uur. Wil je erachter komen of badminton ook iets voor jou is? Kom dan eens gratis en vrijblijvend een avondje spelen. 
URL:https://eenbusmeteenhart.nl/activiteit/badmintonvereniging-bc-hunters/2027-12-29/
LOCATION:Sportcomplex de Jager\, Parallelweg 35\, Giessen\, Gelderland\, 4283GR\, Nederland
CATEGORIES:Sporthal de Jager
ATTACH;FMTTYPE=image/png:https://eenbusmeteenhart.nl/wp-content/uploads/2023/06/BC-Hunters-logo.png
ORGANIZER;CN="Badmintonvereniging BC Hunters":MAILTO:petervanderleeden@casema.nl
END:VEVENT
BEGIN:VEVENT
DTSTART;TZID=Europe/Amsterdam:20280105T193000
DTEND;TZID=Europe/Amsterdam:20280105T220000
DTSTAMP:20260420T140825
CREATED:20230620T133033Z
LAST-MODIFIED:20230622T102202Z
UID:10000761-1830713400-1830722400@eenbusmeteenhart.nl
SUMMARY:Badmintonvereniging BC Hunters
DESCRIPTION:BC Hunters is een super gezellige badminton vereniging. Ze spelen iedere woensdagavond van 19.30 tot 22.30 uur. Wil je erachter komen of badminton ook iets voor jou is? Kom dan eens gratis en vrijblijvend een avondje spelen. 
URL:https://eenbusmeteenhart.nl/activiteit/badmintonvereniging-bc-hunters/2028-01-05/
LOCATION:Sportcomplex de Jager\, Parallelweg 35\, Giessen\, Gelderland\, 4283GR\, Nederland
CATEGORIES:Sporthal de Jager
ATTACH;FMTTYPE=image/png:https://eenbusmeteenhart.nl/wp-content/uploads/2023/06/BC-Hunters-logo.png
ORGANIZER;CN="Badmintonvereniging BC Hunters":MAILTO:petervanderleeden@casema.nl
END:VEVENT
END:VCALENDAR