BEGIN:VCALENDAR
VERSION:2.0
PRODID:-//Hartenbrigade - ECPv6.15.14//NONSGML v1.0//EN
CALSCALE:GREGORIAN
METHOD:PUBLISH
X-ORIGINAL-URL:https://eenbusmeteenhart.nl
X-WR-CALDESC:Evenementen voor Hartenbrigade
REFRESH-INTERVAL;VALUE=DURATION:PT1H
X-Robots-Tag:noindex
X-PUBLISHED-TTL:PT1H
BEGIN:VTIMEZONE
TZID:Europe/Amsterdam
BEGIN:DAYLIGHT
TZOFFSETFROM:+0100
TZOFFSETTO:+0200
TZNAME:CEST
DTSTART:20220327T010000
END:DAYLIGHT
BEGIN:STANDARD
TZOFFSETFROM:+0200
TZOFFSETTO:+0100
TZNAME:CET
DTSTART:20221030T010000
END:STANDARD
BEGIN:DAYLIGHT
TZOFFSETFROM:+0100
TZOFFSETTO:+0200
TZNAME:CEST
DTSTART:20230326T010000
END:DAYLIGHT
BEGIN:STANDARD
TZOFFSETFROM:+0200
TZOFFSETTO:+0100
TZNAME:CET
DTSTART:20231029T010000
END:STANDARD
BEGIN:DAYLIGHT
TZOFFSETFROM:+0100
TZOFFSETTO:+0200
TZNAME:CEST
DTSTART:20240331T010000
END:DAYLIGHT
BEGIN:STANDARD
TZOFFSETFROM:+0200
TZOFFSETTO:+0100
TZNAME:CET
DTSTART:20241027T010000
END:STANDARD
END:VTIMEZONE
BEGIN:VEVENT
DTSTART;TZID=Europe/Amsterdam:20230727T131500
DTEND;TZID=Europe/Amsterdam:20230727T151500
DTSTAMP:20260421T001203
CREATED:20230620T133323Z
LAST-MODIFIED:20240603T093459Z
UID:10003224-1690463700-1690470900@eenbusmeteenhart.nl
SUMMARY:Crea café van Harte(n)
DESCRIPTION:Ben je graag creatief bezig en hou je van een gezellig praatje\, dan is het Crea Café wellicht iets voor jou. Iedere donderdagmiddag komen er vanaf 13.00 uur 10-12 vrouwen naar de HartenJager. Je mag zelf je materialen meenemen en je betaalt alleen een kleine bijdrage voor koffie/thee. Het is mooi om te ervaren dat er al diverse vriendschappen aan de creatafel ontstaan zijn.
URL:https://eenbusmeteenhart.nl/activiteit/crea-cafe-van-harten/2023-07-27/
LOCATION:HartenJager in Sportcomplex de Jager\, Parallelweg 35\, Giessen\, 4283GR\, Nederland
CATEGORIES:De HartenBrigade
ATTACH;FMTTYPE=image/webp:https://eenbusmeteenhart.nl/wp-content/uploads/2023/11/a131a1707d710c5dfb8cb865713f6f9e7fdcbf68-1.webp
ORGANIZER;CN="De HartenBrigade":MAILTO:Info@dehartenbrigade.nl
END:VEVENT
BEGIN:VEVENT
DTSTART;TZID=Europe/Amsterdam:20230720T131500
DTEND;TZID=Europe/Amsterdam:20230720T151500
DTSTAMP:20260421T001203
CREATED:20230620T133323Z
LAST-MODIFIED:20240603T093459Z
UID:10003223-1689858900-1689866100@eenbusmeteenhart.nl
SUMMARY:Crea café van Harte(n)
DESCRIPTION:Ben je graag creatief bezig en hou je van een gezellig praatje\, dan is het Crea Café wellicht iets voor jou. Iedere donderdagmiddag komen er vanaf 13.00 uur 10-12 vrouwen naar de HartenJager. Je mag zelf je materialen meenemen en je betaalt alleen een kleine bijdrage voor koffie/thee. Het is mooi om te ervaren dat er al diverse vriendschappen aan de creatafel ontstaan zijn.
URL:https://eenbusmeteenhart.nl/activiteit/crea-cafe-van-harten/2023-07-20/
LOCATION:HartenJager in Sportcomplex de Jager\, Parallelweg 35\, Giessen\, 4283GR\, Nederland
CATEGORIES:De HartenBrigade
ATTACH;FMTTYPE=image/webp:https://eenbusmeteenhart.nl/wp-content/uploads/2023/11/a131a1707d710c5dfb8cb865713f6f9e7fdcbf68-1.webp
ORGANIZER;CN="De HartenBrigade":MAILTO:Info@dehartenbrigade.nl
END:VEVENT
BEGIN:VEVENT
DTSTART;TZID=Europe/Amsterdam:20230713T131500
DTEND;TZID=Europe/Amsterdam:20230713T151500
DTSTAMP:20260421T001203
CREATED:20230620T133323Z
LAST-MODIFIED:20240603T093459Z
UID:10003222-1689254100-1689261300@eenbusmeteenhart.nl
SUMMARY:Crea café van Harte(n)
DESCRIPTION:Ben je graag creatief bezig en hou je van een gezellig praatje\, dan is het Crea Café wellicht iets voor jou. Iedere donderdagmiddag komen er vanaf 13.00 uur 10-12 vrouwen naar de HartenJager. Je mag zelf je materialen meenemen en je betaalt alleen een kleine bijdrage voor koffie/thee. Het is mooi om te ervaren dat er al diverse vriendschappen aan de creatafel ontstaan zijn.
URL:https://eenbusmeteenhart.nl/activiteit/crea-cafe-van-harten/2023-07-13/
LOCATION:HartenJager in Sportcomplex de Jager\, Parallelweg 35\, Giessen\, 4283GR\, Nederland
CATEGORIES:De HartenBrigade
ATTACH;FMTTYPE=image/webp:https://eenbusmeteenhart.nl/wp-content/uploads/2023/11/a131a1707d710c5dfb8cb865713f6f9e7fdcbf68-1.webp
ORGANIZER;CN="De HartenBrigade":MAILTO:Info@dehartenbrigade.nl
END:VEVENT
BEGIN:VEVENT
DTSTART;TZID=Europe/Amsterdam:20230706T131500
DTEND;TZID=Europe/Amsterdam:20230706T151500
DTSTAMP:20260421T001203
CREATED:20230620T133323Z
LAST-MODIFIED:20240603T093459Z
UID:10003221-1688649300-1688656500@eenbusmeteenhart.nl
SUMMARY:Crea café van Harte(n)
DESCRIPTION:Ben je graag creatief bezig en hou je van een gezellig praatje\, dan is het Crea Café wellicht iets voor jou. Iedere donderdagmiddag komen er vanaf 13.00 uur 10-12 vrouwen naar de HartenJager. Je mag zelf je materialen meenemen en je betaalt alleen een kleine bijdrage voor koffie/thee. Het is mooi om te ervaren dat er al diverse vriendschappen aan de creatafel ontstaan zijn.
URL:https://eenbusmeteenhart.nl/activiteit/crea-cafe-van-harten/2023-07-06/
LOCATION:HartenJager in Sportcomplex de Jager\, Parallelweg 35\, Giessen\, 4283GR\, Nederland
CATEGORIES:De HartenBrigade
ATTACH;FMTTYPE=image/webp:https://eenbusmeteenhart.nl/wp-content/uploads/2023/11/a131a1707d710c5dfb8cb865713f6f9e7fdcbf68-1.webp
ORGANIZER;CN="De HartenBrigade":MAILTO:Info@dehartenbrigade.nl
END:VEVENT
BEGIN:VEVENT
DTSTART;TZID=Europe/Amsterdam:20230629T131500
DTEND;TZID=Europe/Amsterdam:20230629T151500
DTSTAMP:20260421T001203
CREATED:20230620T133323Z
LAST-MODIFIED:20240603T093459Z
UID:10003220-1688044500-1688051700@eenbusmeteenhart.nl
SUMMARY:Crea café van Harte(n)
DESCRIPTION:Ben je graag creatief bezig en hou je van een gezellig praatje\, dan is het Crea Café wellicht iets voor jou. Iedere donderdagmiddag komen er vanaf 13.00 uur 10-12 vrouwen naar de HartenJager. Je mag zelf je materialen meenemen en je betaalt alleen een kleine bijdrage voor koffie/thee. Het is mooi om te ervaren dat er al diverse vriendschappen aan de creatafel ontstaan zijn.
URL:https://eenbusmeteenhart.nl/activiteit/crea-cafe-van-harten/2023-06-29/
LOCATION:HartenJager in Sportcomplex de Jager\, Parallelweg 35\, Giessen\, 4283GR\, Nederland
CATEGORIES:De HartenBrigade
ATTACH;FMTTYPE=image/webp:https://eenbusmeteenhart.nl/wp-content/uploads/2023/11/a131a1707d710c5dfb8cb865713f6f9e7fdcbf68-1.webp
ORGANIZER;CN="De HartenBrigade":MAILTO:Info@dehartenbrigade.nl
END:VEVENT
BEGIN:VEVENT
DTSTART;TZID=Europe/Amsterdam:20230622T131500
DTEND;TZID=Europe/Amsterdam:20230622T151500
DTSTAMP:20260421T001203
CREATED:20230620T133323Z
LAST-MODIFIED:20240603T093459Z
UID:10003219-1687439700-1687446900@eenbusmeteenhart.nl
SUMMARY:Crea café van Harte(n)
DESCRIPTION:Ben je graag creatief bezig en hou je van een gezellig praatje\, dan is het Crea Café wellicht iets voor jou. Iedere donderdagmiddag komen er vanaf 13.00 uur 10-12 vrouwen naar de HartenJager. Je mag zelf je materialen meenemen en je betaalt alleen een kleine bijdrage voor koffie/thee. Het is mooi om te ervaren dat er al diverse vriendschappen aan de creatafel ontstaan zijn.
URL:https://eenbusmeteenhart.nl/activiteit/crea-cafe-van-harten/2023-06-22/
LOCATION:HartenJager in Sportcomplex de Jager\, Parallelweg 35\, Giessen\, 4283GR\, Nederland
CATEGORIES:De HartenBrigade
ATTACH;FMTTYPE=image/webp:https://eenbusmeteenhart.nl/wp-content/uploads/2023/11/a131a1707d710c5dfb8cb865713f6f9e7fdcbf68-1.webp
ORGANIZER;CN="De HartenBrigade":MAILTO:Info@dehartenbrigade.nl
END:VEVENT
END:VCALENDAR